From mboxrd@z Thu Jan  1 00:00:00 1970
Return-Path: <test-report-bounces@dpdk.org>
Received: from mails.dpdk.org (mails.dpdk.org [217.70.189.124])
	by inbox.dpdk.org (Postfix) with ESMTP id 432A2461BE
	for <public@inbox.dpdk.org>; Fri,  7 Feb 2025 19:12:15 +0100 (CET)
Received: from mails.dpdk.org (localhost [127.0.0.1])
	by mails.dpdk.org (Postfix) with ESMTP id 3EC9F42ED5;
	Fri,  7 Feb 2025 19:12:15 +0100 (CET)
Received: from mail-pl1-f225.google.com (mail-pl1-f225.google.com
 [209.85.214.225])
 by mails.dpdk.org (Postfix) with ESMTP id E6C4642E90
 for <test-report@dpdk.org>; Fri,  7 Feb 2025 19:12:12 +0100 (CET)
Received: by mail-pl1-f225.google.com with SMTP id
 d9443c01a7336-2165448243fso59749555ad.1
 for <test-report@dpdk.org>; Fri, 07 Feb 2025 10:12:12 -0800 (PST)
DKIM-Signature: v=1; a=rsa-sha256; c=relaxed/relaxed;
 d=iol.unh.edu; s=unh-iol; t=1738951932; x=1739556732; darn=dpdk.org;
 h=references:in-reply-to:cc:to:from:subject:message-id:date:from:to
 :cc:subject:date:message-id:reply-to;
 bh=y6b88bYx6UuDbFJRYBgMLg0CUr7l3tSOclKXIyXXfoA=;
 b=hUXzVqRlhmSHMDe9wrqzMR3fP19gWeXj7JL56wDJvYb/vO5C+JO/pJrd67kPlf3Ck5
 HAo7RbpOgPbjvGEkWLe2/XQlUsxAWsQ2ddCH7JEYToSzUpB9FzBRpZPa2e1PDe4DV+KJ
 vhx80C5CkoLW+Ps+rkarwA2w9aQsNIV2OOMeI=
X-Google-DKIM-Signature: v=1; a=rsa-sha256; c=relaxed/relaxed;
 d=1e100.net; s=20230601; t=1738951932; x=1739556732;
 h=references:in-reply-to:cc:to:from:subject:message-id:date
 :x-gm-message-state:from:to:cc:subject:date:message-id:reply-to;
 bh=y6b88bYx6UuDbFJRYBgMLg0CUr7l3tSOclKXIyXXfoA=;
 b=IeddIUXsXBqU1h0SJ29bM90SMheMVemhFP1qTcqhS19OoQcLcdl1r49ZDg/9llPql9
 vlRDzc927EZuxtAhEOqkRicy5GMgjK8Qy6geqXLss1UsdSZp6GJysLPDb+FfS8NTb6PP
 3qElNUe1e6UanrvQGHvob2tR6Y1TWdz2/vFHEwkMBrDmMinVhAo3EnGomxsN8A6UFOLU
 09njrdSdpzKKR6S7xkY6NvKJLxnHva3UchZRnSZHJaLl2YPmzI7OhqYaERMNlHKXAsvQ
 JD8FbwqZxHeMRsxmmb1Th47ia1YwZ4/onVy5LZvL0WsJxSnp5zfCvR/udNSz5Be1IIGx
 sr1A==
X-Gm-Message-State: AOJu0Yw52ruHuJg+N/RbF2jbAcumvVNEi52GSCVtzsznM3T8wOVkUqvN
 c4uTqnChJwy/nyeo5vL4kiKMYO9y9LuHZbSaFaWROpAoPa4wx56vUFShsjUKEy0d+5ZegkZO7sz
 9CYXL7v4UD2ezZwB0erPEGGd95ypObXbD0xTDqwqc
X-Gm-Gg: ASbGncv2edymHriPHqMmTz7O6UFP9CyC6pz0rCzjkPZePH5kC1VdBdn0isflWOrBewk
 NoCGmEv9bfWpAPTrxio+csAZGrw1rFYWmX16Ps7WK3+yITfKkbyjYZrav5YVivOzORxeAmoiPy+
 rp/ahavRPYcz4HvD3eEAYZxXk8lJyHTSFTnUcrEVNOJ7MJk0Z0/A9Q7ycmVvvkYhJv7G3Rc7TVU
 093VRdWDFgvj22jc3zKYIytNnHzHSsdQvHR/cul/9AT7OrgIdLFBqL2IchmufPXbi2jyv8QZ6R8
 nnFwuN/7MQbHHBeEIv2P6l/895fDRQ==
X-Google-Smtp-Source: AGHT+IFbJLBo3W+CzyVAS6Bz3uyz58FYnkkh3szPLWD3ZxiU4TxHtz8KlKI+KciIYG3Tikyh2Tu4/iMmJUIe
X-Received: by 2002:a05:6a20:c88b:b0:1e1:dbfd:1fde with SMTP id
 adf61e73a8af0-1ee03b425c8mr7594764637.27.1738951932131; 
 Fri, 07 Feb 2025 10:12:12 -0800 (PST)
Received: from postal.iol.unh.edu (postal.iol.unh.edu. [132.177.123.84])
 by smtp-relay.gmail.com with ESMTPS id
 41be03b00d2f7-ad51aebc84csm109997a12.2.2025.02.07.10.12.12
 (version=TLS1_2 cipher=ECDHE-ECDSA-AES128-GCM-SHA256 bits=128/128);
 Fri, 07 Feb 2025 10:12:12 -0800 (PST)
X-Relaying-Domain: iol.unh.edu
Date: Fri, 07 Feb 2025 10:12:12 -0800 (PST)
Message-ID: <67a64cfc.650a0220.1af9d2.62e4SMTPIN_ADDED_MISSING@mx.google.com>
Received: from [172.21.0.10] (unknown [172.18.0.240])
 by postal.iol.unh.edu (Postfix) with ESMTP id 512BE6052471;
 Fri,  7 Feb 2025 13:11:41 -0500 (EST)
Subject: |WARNING| pw149493 [PATCH] drivers_net: use 64-bit shift and avoid s
From: dpdklab@iol.unh.edu
To: Test Report <test-report@dpdk.org>
Cc: dpdk-test-reports@iol.unh.edu
In-Reply-To: <1735246770-731-1-git-send-email-andremue@linux.microsoft.com>
References: <1735246770-731-1-git-send-email-andremue@linux.microsoft.com>
Content-Type: text/plain
X-BeenThere: test-report@dpdk.org
X-Mailman-Version: 2.1.29
Precedence: list
List-Id: automatic DPDK test reports <test-report.dpdk.org>
List-Unsubscribe: <https://mails.dpdk.org/options/test-report>,
 <mailto:test-report-request@dpdk.org?subject=unsubscribe>
List-Archive: <http://mails.dpdk.org/archives/test-report/>
List-Post: <mailto:test-report@dpdk.org>
List-Help: <mailto:test-report-request@dpdk.org?subject=help>
List-Subscribe: <https://mails.dpdk.org/listinfo/test-report>,
 <mailto:test-report-request@dpdk.org?subject=subscribe>
Errors-To: test-report-bounces@dpdk.org

Test-Label: iol-compile-amd64-testing
Test-Status: WARNING
http://dpdk.org/patch/149493

_Testing issues_

Submitter: Andre Muezerie <andremue@linux.microsoft.com>
Date: Thursday, December 26 2024 20:59:30 
DPDK git baseline: Repo:dpdk
  Branch: master
  CommitID:94ad302b4ebba4a5b6706a1c43ea0505e5098169

149493 --> testing issues

Test environment and result as below:

+---------------------+--------------------+------------------+-------------------+-------------------------+-------------------+----------------------+
|     Environment     | dpdk_meson_compile | dpdk_compile_ovs | dpdk_compile_spdk | dpdk_llvm_clang_compile | dpdk_msvc_compile | dpdk_mingw64_compile |
+=====================+====================+==================+===================+=========================+===================+======================+
| CentOS Stream 9     | PASS               | PASS             | PASS              | SKIPPED                 | SKIPPED           | SKIPPED              |
+---------------------+--------------------+------------------+-------------------+-------------------------+-------------------+----------------------+
| Debian Bullseye     | PASS               | PASS             | PASS              | SKIPPED                 | SKIPPED           | SKIPPED              |
+---------------------+--------------------+------------------+-------------------+-------------------------+-------------------+----------------------+
| Debian 12           | PASS               | PASS             | PASS              | SKIPPED                 | SKIPPED           | SKIPPED              |
+---------------------+--------------------+------------------+-------------------+-------------------------+-------------------+----------------------+
| Fedora 40 (Clang)   | PASS               | PASS             | PASS              | SKIPPED                 | SKIPPED           | SKIPPED              |
+---------------------+--------------------+------------------+-------------------+-------------------------+-------------------+----------------------+
| Fedora 40           | PASS               | PASS             | PASS              | SKIPPED                 | SKIPPED           | SKIPPED              |
+---------------------+--------------------+------------------+-------------------+-------------------------+-------------------+----------------------+
| Fedora 41 (Clang)   | PASS               | PASS             | PASS              | SKIPPED                 | SKIPPED           | SKIPPED              |
+---------------------+--------------------+------------------+-------------------+-------------------------+-------------------+----------------------+
| openSUSE Leap 15    | PASS               | WARN             | SKIPPED           | SKIPPED                 | SKIPPED           | SKIPPED              |
+---------------------+--------------------+------------------+-------------------+-------------------------+-------------------+----------------------+
| RHEL8               | PASS               | PASS             | SKIPPED           | SKIPPED                 | SKIPPED           | SKIPPED              |
+---------------------+--------------------+------------------+-------------------+-------------------------+-------------------+----------------------+
| Fedora 41           | PASS               | PASS             | PASS              | SKIPPED                 | SKIPPED           | SKIPPED              |
+---------------------+--------------------+------------------+-------------------+-------------------------+-------------------+----------------------+
| Ubuntu 22.04        | PASS               | PASS             | PASS              | SKIPPED                 | SKIPPED           | SKIPPED              |
+---------------------+--------------------+------------------+-------------------+-------------------------+-------------------+----------------------+
| Ubuntu 24.04        | PASS               | PASS             | PASS              | SKIPPED                 | SKIPPED           | SKIPPED              |
+---------------------+--------------------+------------------+-------------------+-------------------------+-------------------+----------------------+
| Ubuntu 20.04        | PASS               | SKIPPED          | SKIPPED           | SKIPPED                 | SKIPPED           | SKIPPED              |
+---------------------+--------------------+------------------+-------------------+-------------------------+-------------------+----------------------+
| RHEL9               | PASS               | PASS             | SKIPPED           | SKIPPED                 | SKIPPED           | SKIPPED              |
+---------------------+--------------------+------------------+-------------------+-------------------------+-------------------+----------------------+
| Alpine              | PASS               | PASS             | SKIPPED           | SKIPPED                 | SKIPPED           | SKIPPED              |
+---------------------+--------------------+------------------+-------------------+-------------------------+-------------------+----------------------+
| FreeBSD 13.4        | PASS               | SKIPPED          | SKIPPED           | SKIPPED                 | SKIPPED           | SKIPPED              |
+---------------------+--------------------+------------------+-------------------+-------------------------+-------------------+----------------------+
| FreeBSD 14.2        | PASS               | SKIPPED          | SKIPPED           | SKIPPED                 | SKIPPED           | SKIPPED              |
+---------------------+--------------------+------------------+-------------------+-------------------------+-------------------+----------------------+
| Windows Server 2022 | SKIPPED            | SKIPPED          | SKIPPED           | PASS                    | PASS              | PASS                 |
+---------------------+--------------------+------------------+-------------------+-------------------------+-------------------+----------------------+

==== 20 line log output for openSUSE Leap 15 (dpdk_compile_ovs): ====
 --- Failed to get log output --- 
==== End log output ====

CentOS Stream 9
	Kernel: Depends on container host
	Compiler: gcc 11.5.0 20240719 (Red Hat 11.5.0-2)

Debian Bullseye
	Kernel: Depends on container host
	Compiler: gcc (Debian 10.2.1-6) 10.2.1 20210110

Debian 12
	Kernel: Depends on container host
	Compiler: gcc (Debian 12.2.0-14) 12.2.0

Fedora 40 (Clang)
	Kernel: Depends on container host
	Compiler: clang 18.1.8 (Fedora 18.1.8-1.fc40)

Fedora 40
	Kernel: Depends on container host
	Compiler: gcc 14.2.1 20240912 (Red Hat 14.2.1-3)

Fedora 41 (Clang)
	Kernel: Depends on container host
	Compiler: clang 19.1.5 (Fedora 19.1.5-1.fc41)

openSUSE Leap 15
	Kernel: Depends on container host
	Compiler: gcc (SUSE Linux) 7.5.0

RHEL8
	Kernel: Depends on container host
	Compiler: gcc 8.5.0 20210514 (Red Hat 8.5.0-22)

Fedora 41
	Kernel: Depends on container host
	Compiler: gcc 14.2.1 20240912 (Red Hat 14.2.1-3)

Ubuntu 22.04
	Kernel: Depends on container host
	Compiler: gcc (Ubuntu 11.4.0-1ubuntu1~22.04) 11.4.0

Ubuntu 24.04
	Kernel: Depends on container host
	Compiler: gcc (Ubuntu 13.3.0-6ubuntu2~24.04) 13.3.0

Ubuntu 20.04
	Kernel: Depends on container host
	Compiler: gcc (Ubuntu 9.4.0-1ubuntu1~20.04.2) 9.4.0

RHEL9
	Kernel: Depends on container host
	Compiler: gcc 11.5.0 20240719 (Red Hat 11.5.0-2)

Alpine
	Kernel: Depends on container host
	Compiler: gcc (Alpine 14.2.0) 14.2.0

FreeBSD 13.4
	Kernel: 13.4-RELEASE-p1
	Compiler: clang 18.1.6

FreeBSD 14.2
	Kernel: 14.2-RELEASE
	Compiler: clang 18.1.6

Windows Server 2022
	Kernel: 10.0.20348.2031
	Compiler: clang 15.0.7, gcc 14.1.0 (MinGW), and MSVC VS 19.39.33521

To view detailed results, visit:
https://lab.dpdk.org/results/dashboard/patchsets/32216/

UNH-IOL DPDK Community Lab

To manage your email subscriptions, visit: 
https://lab.dpdk.org/results/dashboard/preferences/subscriptions/