From mboxrd@z Thu Jan 1 00:00:00 1970 Return-Path: Received: from mails.dpdk.org (mails.dpdk.org [217.70.189.124]) by inbox.dpdk.org (Postfix) with ESMTP id 5A267461BE for ; Fri, 7 Feb 2025 19:12:37 +0100 (CET) Received: from mails.dpdk.org (localhost [127.0.0.1]) by mails.dpdk.org (Postfix) with ESMTP id 5560942ED5; Fri, 7 Feb 2025 19:12:37 +0100 (CET) Received: from mail-io1-f98.google.com (mail-io1-f98.google.com [209.85.166.98]) by mails.dpdk.org (Postfix) with ESMTP id 9212A42E90 for ; Fri, 7 Feb 2025 19:12:36 +0100 (CET) Received: by mail-io1-f98.google.com with SMTP id ca18e2360f4ac-851c4f1fb18so68234639f.2 for ; Fri, 07 Feb 2025 10:12:36 -0800 (PST) DKIM-Signature: v=1; a=rsa-sha256; c=relaxed/relaxed; d=iol.unh.edu; s=unh-iol; t=1738951956; x=1739556756; darn=dpdk.org; h=references:in-reply-to:cc:to:from:subject:message-id:date:from:to :cc:subject:date:message-id:reply-to; bh=XihqnTksOGsd98Ztcct8gBXOEU+fcbcijS7TYPc+q2U=; b=eK3odcc66KcNrADwsCcrtZn1oqMZS16Znt4xQ4WXDQvwm4Hr+JwJLqRVrnWJ3QsSE0 beVyKrDfOk01pWA1BD85nyUQqyRnGeUtKRUO3Jz0b4EYMhebDvDnLj6N2FJ6FLEjuYHy c0MF0PLlKrJPIP5t7x77s77W/dTGqsywraNNM= X-Google-DKIM-Signature: v=1; a=rsa-sha256; c=relaxed/relaxed; d=1e100.net; s=20230601; t=1738951956; x=1739556756; h=references:in-reply-to:cc:to:from:subject:message-id:date :x-gm-message-state:from:to:cc:subject:date:message-id:reply-to; bh=XihqnTksOGsd98Ztcct8gBXOEU+fcbcijS7TYPc+q2U=; b=iDmF82PfF42iSmzuwi5ViJOICxO7J+5gFHSIO1WfTFMBCLGPVdMcIntduJIS+fQf9O 4XsfAX/d+tc6iCDzgYLx/kc96UeKxI0SKxnYi6fNr0Tfrese6edWwUZz6AbPAfxjVrII nKNxwqwwzq4bM37LrCnFOKjnrVRaD9qig+tzEPfGg6dQEue+Cad7Lr8+KKHRpOpW7M93 t4OV+8EQmTCTr8i6rgdh0rMQBmAcddHATBjEDTWXAIXVMTYeEYFCUaPBJGONEMC6EiKI 8cnaUFo4ny0Kg1O6Wzqv5JV8nXNv+YUoqF5fCAMHvKtd332kTLcNPuRlWHZ9kO8Aihll fs0Q== X-Gm-Message-State: AOJu0YzE4Efnb0IwtcpXB0wGzXh+7xwi2R+UlwsRIplYguejn8g6I1/G keyfnbWPFlVMSXG8CfpWjTw8SMPNbYvd+DdBN+8hwNO3g4UrmYOWX9UfMSINjdkqCK3Vnb70dlZ u75EOfMSNJ7GPQbeFVVHuBBQDno7BeGR9YxL0Pybt X-Gm-Gg: ASbGncs0ahi5bN5KGGfVL/GqNWQD4A+rAEkNWDfMLtL31Gk0vyccJ9dQZuXVhFKTnDj uwotxSkRLAPFtTin/BFQu10ZhlpFP+6NE2ahGGx7436KP2AGHaq2OJ3a9NtyT+UzTbHVXQ/K6BD Smm7CMcYm5GbxG75bUYiw4rFfDIcs0PmL9jJaUCKUpDp1nkIPq/ug3O3zuT2S8pdC7Wdmw9zDDZ hsCxH9kA/166IJv/JWQG/aBgrP2mB6Rrdmu7sRC7u5lMvytmF10gDj87ga+lzk+WHjyWvhrJ1MK 3DTJOZpyY1csf1hARq3K9eYyaSXHEg== X-Google-Smtp-Source: AGHT+IHvz6n/Jkl5acVE1qrcwfQageSYbU/dD4+QE8LMSQkXgSHCJVU2PXodXqqX4aB70k3jGa8FewfeShN9 X-Received: by 2002:a05:6602:370a:b0:84a:4f3a:fa2a with SMTP id ca18e2360f4ac-854fd88eb77mr450168739f.1.1738951955916; Fri, 07 Feb 2025 10:12:35 -0800 (PST) Received: from postal.iol.unh.edu (postal.iol.unh.edu. [132.177.123.84]) by smtp-relay.gmail.com with ESMTPS id ca18e2360f4ac-854f675bbbbsm23785139f.26.2025.02.07.10.12.35 (version=TLS1_2 cipher=ECDHE-ECDSA-AES128-GCM-SHA256 bits=128/128); Fri, 07 Feb 2025 10:12:35 -0800 (PST) X-Relaying-Domain: iol.unh.edu Date: Fri, 07 Feb 2025 10:12:35 -0800 (PST) Message-ID: <67a64d13.050a0220.2e0bff.c0ceSMTPIN_ADDED_MISSING@mx.google.com> Received: from [172.21.0.15] (unknown [172.18.0.240]) by postal.iol.unh.edu (Postfix) with ESMTP id 704956052485; Fri, 7 Feb 2025 13:12:35 -0500 (EST) Subject: |WARNING| pw149471 [PATCH] examples/l3fwd: optimize packet prefetch From: dpdklab@iol.unh.edu To: Test Report Cc: dpdk-test-reports@iol.unh.edu In-Reply-To: <20241225075302.353013-1-huangdengdui@huawei.com> References: <20241225075302.353013-1-huangdengdui@huawei.com> Content-Type: text/plain X-BeenThere: test-report@dpdk.org X-Mailman-Version: 2.1.29 Precedence: list List-Id: automatic DPDK test reports List-Unsubscribe: , List-Archive: List-Post: List-Help: List-Subscribe: , Errors-To: test-report-bounces@dpdk.org Test-Label: iol-compile-amd64-testing Test-Status: WARNING http://dpdk.org/patch/149471 _Testing issues_ Submitter: huangdengdui Date: Wednesday, December 25 2024 07:53:02 DPDK git baseline: Repo:dpdk Branch: master CommitID:fd51012de5369679e807be1d6a81d63ef15015ce 149471 --> testing issues Test environment and result as below: +---------------------+--------------------+------------------+-------------------+-------------------+-------------------------+----------------------+ | Environment | dpdk_meson_compile | dpdk_compile_ovs | dpdk_compile_spdk | dpdk_msvc_compile | dpdk_llvm_clang_compile | dpdk_mingw64_compile | +=====================+====================+==================+===================+===================+=========================+======================+ | CentOS Stream 9 | PASS | PASS | PASS | SKIPPED | SKIPPED | SKIPPED | +---------------------+--------------------+------------------+-------------------+-------------------+-------------------------+----------------------+ | Debian Bullseye | PASS | PASS | PASS | SKIPPED | SKIPPED | SKIPPED | +---------------------+--------------------+------------------+-------------------+-------------------+-------------------------+----------------------+ | Debian 12 | PASS | PASS | PASS | SKIPPED | SKIPPED | SKIPPED | +---------------------+--------------------+------------------+-------------------+-------------------+-------------------------+----------------------+ | Fedora 40 (Clang) | PASS | PASS | PASS | SKIPPED | SKIPPED | SKIPPED | +---------------------+--------------------+------------------+-------------------+-------------------+-------------------------+----------------------+ | Fedora 40 | PASS | PASS | PASS | SKIPPED | SKIPPED | SKIPPED | +---------------------+--------------------+------------------+-------------------+-------------------+-------------------------+----------------------+ | Fedora 41 (Clang) | PASS | PASS | PASS | SKIPPED | SKIPPED | SKIPPED | +---------------------+--------------------+------------------+-------------------+-------------------+-------------------------+----------------------+ | Fedora 41 | PASS | PASS | PASS | SKIPPED | SKIPPED | SKIPPED | +---------------------+--------------------+------------------+-------------------+-------------------+-------------------------+----------------------+ | openSUSE Leap 15 | PASS | WARN | SKIPPED | SKIPPED | SKIPPED | SKIPPED | +---------------------+--------------------+------------------+-------------------+-------------------+-------------------------+----------------------+ | RHEL8 | PASS | PASS | SKIPPED | SKIPPED | SKIPPED | SKIPPED | +---------------------+--------------------+------------------+-------------------+-------------------+-------------------------+----------------------+ | RHEL9 | PASS | PASS | SKIPPED | SKIPPED | SKIPPED | SKIPPED | +---------------------+--------------------+------------------+-------------------+-------------------+-------------------------+----------------------+ | Ubuntu 20.04 | PASS | SKIPPED | SKIPPED | SKIPPED | SKIPPED | SKIPPED | +---------------------+--------------------+------------------+-------------------+-------------------+-------------------------+----------------------+ | Ubuntu 22.04 | PASS | PASS | PASS | SKIPPED | SKIPPED | SKIPPED | +---------------------+--------------------+------------------+-------------------+-------------------+-------------------------+----------------------+ | Ubuntu 24.04 | PASS | PASS | PASS | SKIPPED | SKIPPED | SKIPPED | +---------------------+--------------------+------------------+-------------------+-------------------+-------------------------+----------------------+ | Alpine | PASS | PASS | SKIPPED | SKIPPED | SKIPPED | SKIPPED | +---------------------+--------------------+------------------+-------------------+-------------------+-------------------------+----------------------+ | FreeBSD 13.4 | PASS | SKIPPED | SKIPPED | SKIPPED | SKIPPED | SKIPPED | +---------------------+--------------------+------------------+-------------------+-------------------+-------------------------+----------------------+ | FreeBSD 14.2 | PASS | SKIPPED | SKIPPED | SKIPPED | SKIPPED | SKIPPED | +---------------------+--------------------+------------------+-------------------+-------------------+-------------------------+----------------------+ | Windows Server 2022 | SKIPPED | SKIPPED | SKIPPED | PASS | PASS | PASS | +---------------------+--------------------+------------------+-------------------+-------------------+-------------------------+----------------------+ ==== 20 line log output for openSUSE Leap 15 (dpdk_compile_ovs): ==== --- Failed to get log output --- ==== End log output ==== CentOS Stream 9 Kernel: Depends on container host Compiler: gcc 11.5.0 20240719 (Red Hat 11.5.0-2) Debian Bullseye Kernel: Depends on container host Compiler: gcc (Debian 10.2.1-6) 10.2.1 20210110 Debian 12 Kernel: Depends on container host Compiler: gcc (Debian 12.2.0-14) 12.2.0 Fedora 40 (Clang) Kernel: Depends on container host Compiler: clang 18.1.8 (Fedora 18.1.8-1.fc40) Fedora 40 Kernel: Depends on container host Compiler: gcc 14.2.1 20240912 (Red Hat 14.2.1-3) Fedora 41 (Clang) Kernel: Depends on container host Compiler: clang 19.1.5 (Fedora 19.1.5-1.fc41) Fedora 41 Kernel: Depends on container host Compiler: gcc 14.2.1 20240912 (Red Hat 14.2.1-3) openSUSE Leap 15 Kernel: Depends on container host Compiler: gcc (SUSE Linux) 7.5.0 RHEL8 Kernel: Depends on container host Compiler: gcc 8.5.0 20210514 (Red Hat 8.5.0-22) RHEL9 Kernel: Depends on container host Compiler: gcc 11.5.0 20240719 (Red Hat 11.5.0-2) Ubuntu 20.04 Kernel: Depends on container host Compiler: gcc (Ubuntu 9.4.0-1ubuntu1~20.04.2) 9.4.0 Ubuntu 22.04 Kernel: Depends on container host Compiler: gcc (Ubuntu 11.4.0-1ubuntu1~22.04) 11.4.0 Ubuntu 24.04 Kernel: Depends on container host Compiler: gcc (Ubuntu 13.3.0-6ubuntu2~24.04) 13.3.0 Alpine Kernel: Depends on container host Compiler: gcc (Alpine 14.2.0) 14.2.0 FreeBSD 13.4 Kernel: 13.4-RELEASE-p1 Compiler: clang 18.1.6 FreeBSD 14.2 Kernel: 14.2-RELEASE Compiler: clang 18.1.6 Windows Server 2022 Kernel: 10.0.20348.2031 Compiler: clang 15.0.7, gcc 14.1.0 (MinGW), and MSVC VS 19.39.33521 To view detailed results, visit: https://lab.dpdk.org/results/dashboard/patchsets/32210/ UNH-IOL DPDK Community Lab To manage your email subscriptions, visit: https://lab.dpdk.org/results/dashboard/preferences/subscriptions/