From mboxrd@z Thu Jan 1 00:00:00 1970 Return-Path: Received: from mails.dpdk.org (mails.dpdk.org [217.70.189.124]) by inbox.dpdk.org (Postfix) with ESMTP id 6A68B461BE for ; Fri, 7 Feb 2025 19:12:39 +0100 (CET) Received: from mails.dpdk.org (localhost [127.0.0.1]) by mails.dpdk.org (Postfix) with ESMTP id 6681942ED5; Fri, 7 Feb 2025 19:12:39 +0100 (CET) Received: from mail-qt1-f228.google.com (mail-qt1-f228.google.com [209.85.160.228]) by mails.dpdk.org (Postfix) with ESMTP id 92B9842E90 for ; Fri, 7 Feb 2025 19:12:38 +0100 (CET) Received: by mail-qt1-f228.google.com with SMTP id d75a77b69052e-467a1d43821so30976311cf.1 for ; Fri, 07 Feb 2025 10:12:38 -0800 (PST) DKIM-Signature: v=1; a=rsa-sha256; c=relaxed/relaxed; d=iol.unh.edu; s=unh-iol; t=1738951958; x=1739556758; darn=dpdk.org; h=references:in-reply-to:cc:to:from:subject:message-id:date:from:to :cc:subject:date:message-id:reply-to; bh=nqpf/pDkIoTzU7di34PyG7qSsnukQKieXKUJntTbb4Y=; b=CNfWhTQ7kZkUNxYfyRiJ5+Zb1q/x8GHDqlnVuRnkzKYU9iwTIl6m8Gz+GLvV80IWe3 LwGzyeOq9BAbvQB9WlhGuJDWTSi5KOiQQk/69TTFbOXMLHpEByXVmRDfl7Upc15RUiZl lT0sxjTncOrTIrvox05w3EI09dK/TKHJkNrp0= X-Google-DKIM-Signature: v=1; a=rsa-sha256; c=relaxed/relaxed; d=1e100.net; s=20230601; t=1738951958; x=1739556758; h=references:in-reply-to:cc:to:from:subject:message-id:date :x-gm-message-state:from:to:cc:subject:date:message-id:reply-to; bh=nqpf/pDkIoTzU7di34PyG7qSsnukQKieXKUJntTbb4Y=; b=uGPPflJyCF02UvUybacnCMM5A+beFaUCoIN2jqKUS9aLmYhLgZEgembIr1FtZ3GhLE YgsE/VbsaPqO9q5VgA/3LsV4nghEyeLP+zCnEjRF98EQiKgt02xDOApPv0w67fzBWfhS gF8uCC9w6yJO8Q2YoPYxGz+YZ+c/FYQZSYyaB8dnor6NSMlpsaIos0AvcoZCQM7fx4pb kdWneYq7nKFrZRHX1CPonBbScWVWPHl4E3qKFMjMwt13wAvpZDE6OYnOpDsIDdDQkecs PchllxA41AWrsf+uX7FILkZ0ZQO56r5KIpZKpuXDesEXevPl1j8QvGN+t+1MULTdyKoE Ej/w== X-Gm-Message-State: AOJu0YxotDl5Cc5LFaCBuEJQvACDSPpNW76xWkOgm8Y1twp5Wi/afTT6 r4AroktAvbtv61NSIdivJMB5agqg378ymY48SJZ2vu0bzQ6mQeypX1OlkNY1AKdzG0BA+A8KUCr Q4Tn90SfEDCI5X3NsHDCo/4WvCXGWEd+KrwoevbTs X-Gm-Gg: ASbGncvEyh481bStB3/LQlXag7TF34GPyxJO2n2gWYYgUSgE4I1+Ab8W9cwXPWgGErP XZnkTesANNOIy33oRrjXkA5qGwSdLROQUWDK6QocTCkbNbaQcAXXvMwhFPG2NxNqevvfrgb21kw fjslVe0hN40bskF4bsH4O2aTncXb9KNldw87eI69neaktTtApyL2/kL0VAWRN5HEUQgKr2VcLED 1i4kLIyB3JcfWyTptWplG85zXjTS17k+v2uG+jbAXWLOgy56sWZBamTG+LEWDP5GR6rhhYEjQwE I4Om0APVMFDhUauvaYNZ+oE5HBusdw== X-Google-Smtp-Source: AGHT+IFTFLi3tsSDGUo7MIiG05tSdVBX72QrGUiI3WClChX9iO8Cws4wY52raVs3IXhcCzFWhY1tMQEGOx2S X-Received: by 2002:a05:622a:8a:b0:467:7315:c63d with SMTP id d75a77b69052e-471689111camr65738271cf.23.1738951957949; Fri, 07 Feb 2025 10:12:37 -0800 (PST) Received: from postal.iol.unh.edu (postal.iol.unh.edu. [132.177.123.84]) by smtp-relay.gmail.com with ESMTPS id d75a77b69052e-47149277972sm2009011cf.2.2025.02.07.10.12.37 (version=TLS1_2 cipher=ECDHE-ECDSA-AES128-GCM-SHA256 bits=128/128); Fri, 07 Feb 2025 10:12:37 -0800 (PST) X-Relaying-Domain: iol.unh.edu Date: Fri, 07 Feb 2025 10:12:37 -0800 (PST) Message-ID: <67a64d15.c80a0220.13bb7f.a774SMTPIN_ADDED_MISSING@mx.google.com> Received: from [172.21.0.6] (unknown [172.18.0.240]) by postal.iol.unh.edu (Postfix) with ESMTP id 9B33E6052472; Fri, 7 Feb 2025 13:12:07 -0500 (EST) Subject: |WARNING| pw149491-149492 [PATCH] [2/2] drivers/net: remove use of n From: dpdklab@iol.unh.edu To: Test Report Cc: dpdk-test-reports@iol.unh.edu In-Reply-To: <1735243903-26857-3-git-send-email-andremue@linux.microsoft.com> References: <1735243903-26857-3-git-send-email-andremue@linux.microsoft.com> Content-Type: text/plain X-BeenThere: test-report@dpdk.org X-Mailman-Version: 2.1.29 Precedence: list List-Id: automatic DPDK test reports List-Unsubscribe: , List-Archive: List-Post: List-Help: List-Subscribe: , Errors-To: test-report-bounces@dpdk.org Test-Label: iol-compile-amd64-testing Test-Status: WARNING http://dpdk.org/patch/149492 _Testing issues_ Submitter: Andre Muezerie Date: Thursday, December 26 2024 20:11:43 DPDK git baseline: Repo:dpdk Branch: master CommitID:fd51012de5369679e807be1d6a81d63ef15015ce 149491-149492 --> testing issues Test environment and result as below: +---------------------+--------------------+------------------+-------------------+-------------------------+-------------------+----------------------+ | Environment | dpdk_meson_compile | dpdk_compile_ovs | dpdk_compile_spdk | dpdk_llvm_clang_compile | dpdk_msvc_compile | dpdk_mingw64_compile | +=====================+====================+==================+===================+=========================+===================+======================+ | CentOS Stream 9 | PASS | PASS | PASS | SKIPPED | SKIPPED | SKIPPED | +---------------------+--------------------+------------------+-------------------+-------------------------+-------------------+----------------------+ | Debian Bullseye | PASS | PASS | PASS | SKIPPED | SKIPPED | SKIPPED | +---------------------+--------------------+------------------+-------------------+-------------------------+-------------------+----------------------+ | Fedora 40 | PASS | PASS | PASS | SKIPPED | SKIPPED | SKIPPED | +---------------------+--------------------+------------------+-------------------+-------------------------+-------------------+----------------------+ | Debian 12 | PASS | PASS | PASS | SKIPPED | SKIPPED | SKIPPED | +---------------------+--------------------+------------------+-------------------+-------------------------+-------------------+----------------------+ | Fedora 40 (Clang) | PASS | PASS | PASS | SKIPPED | SKIPPED | SKIPPED | +---------------------+--------------------+------------------+-------------------+-------------------------+-------------------+----------------------+ | Fedora 41 (Clang) | PASS | PASS | PASS | SKIPPED | SKIPPED | SKIPPED | +---------------------+--------------------+------------------+-------------------+-------------------------+-------------------+----------------------+ | Fedora 41 | PASS | PASS | PASS | SKIPPED | SKIPPED | SKIPPED | +---------------------+--------------------+------------------+-------------------+-------------------------+-------------------+----------------------+ | openSUSE Leap 15 | PASS | WARN | SKIPPED | SKIPPED | SKIPPED | SKIPPED | +---------------------+--------------------+------------------+-------------------+-------------------------+-------------------+----------------------+ | RHEL8 | PASS | PASS | SKIPPED | SKIPPED | SKIPPED | SKIPPED | +---------------------+--------------------+------------------+-------------------+-------------------------+-------------------+----------------------+ | Ubuntu 20.04 | PASS | SKIPPED | SKIPPED | SKIPPED | SKIPPED | SKIPPED | +---------------------+--------------------+------------------+-------------------+-------------------------+-------------------+----------------------+ | Ubuntu 22.04 | PASS | PASS | PASS | SKIPPED | SKIPPED | SKIPPED | +---------------------+--------------------+------------------+-------------------+-------------------------+-------------------+----------------------+ | Ubuntu 24.04 | PASS | PASS | PASS | SKIPPED | SKIPPED | SKIPPED | +---------------------+--------------------+------------------+-------------------+-------------------------+-------------------+----------------------+ | Alpine | PASS | PASS | SKIPPED | SKIPPED | SKIPPED | SKIPPED | +---------------------+--------------------+------------------+-------------------+-------------------------+-------------------+----------------------+ | FreeBSD 13.4 | PASS | SKIPPED | SKIPPED | SKIPPED | SKIPPED | SKIPPED | +---------------------+--------------------+------------------+-------------------+-------------------------+-------------------+----------------------+ | FreeBSD 14.2 | PASS | SKIPPED | SKIPPED | SKIPPED | SKIPPED | SKIPPED | +---------------------+--------------------+------------------+-------------------+-------------------------+-------------------+----------------------+ | RHEL9 | PASS | PASS | SKIPPED | SKIPPED | SKIPPED | SKIPPED | +---------------------+--------------------+------------------+-------------------+-------------------------+-------------------+----------------------+ | Windows Server 2022 | SKIPPED | SKIPPED | SKIPPED | PASS | PASS | PASS | +---------------------+--------------------+------------------+-------------------+-------------------------+-------------------+----------------------+ ==== 20 line log output for openSUSE Leap 15 (dpdk_compile_ovs): ==== --- Failed to get log output --- ==== End log output ==== CentOS Stream 9 Kernel: Depends on container host Compiler: gcc 11.5.0 20240719 (Red Hat 11.5.0-2) Debian Bullseye Kernel: Depends on container host Compiler: gcc (Debian 10.2.1-6) 10.2.1 20210110 Fedora 40 Kernel: Depends on container host Compiler: gcc 14.2.1 20240912 (Red Hat 14.2.1-3) Debian 12 Kernel: Depends on container host Compiler: gcc (Debian 12.2.0-14) 12.2.0 Fedora 40 (Clang) Kernel: Depends on container host Compiler: clang 18.1.8 (Fedora 18.1.8-1.fc40) Fedora 41 (Clang) Kernel: Depends on container host Compiler: clang 19.1.5 (Fedora 19.1.5-1.fc41) Fedora 41 Kernel: Depends on container host Compiler: gcc 14.2.1 20240912 (Red Hat 14.2.1-3) openSUSE Leap 15 Kernel: Depends on container host Compiler: gcc (SUSE Linux) 7.5.0 RHEL8 Kernel: Depends on container host Compiler: gcc 8.5.0 20210514 (Red Hat 8.5.0-22) Ubuntu 20.04 Kernel: Depends on container host Compiler: gcc (Ubuntu 9.4.0-1ubuntu1~20.04.2) 9.4.0 Ubuntu 22.04 Kernel: Depends on container host Compiler: gcc (Ubuntu 11.4.0-1ubuntu1~22.04) 11.4.0 Ubuntu 24.04 Kernel: Depends on container host Compiler: gcc (Ubuntu 13.3.0-6ubuntu2~24.04) 13.3.0 Alpine Kernel: Depends on container host Compiler: gcc (Alpine 14.2.0) 14.2.0 FreeBSD 13.4 Kernel: 13.4-RELEASE-p1 Compiler: clang 18.1.6 FreeBSD 14.2 Kernel: 14.2-RELEASE Compiler: clang 18.1.6 RHEL9 Kernel: Depends on container host Compiler: gcc 11.5.0 20240719 (Red Hat 11.5.0-2) Windows Server 2022 Kernel: 10.0.20348.2031 Compiler: clang 15.0.7, gcc 14.1.0 (MinGW), and MSVC VS 19.39.33521 To view detailed results, visit: https://lab.dpdk.org/results/dashboard/patchsets/32215/ UNH-IOL DPDK Community Lab To manage your email subscriptions, visit: https://lab.dpdk.org/results/dashboard/preferences/subscriptions/