From mboxrd@z Thu Jan 1 00:00:00 1970 Return-Path: Received: from mails.dpdk.org (mails.dpdk.org [217.70.189.124]) by inbox.dpdk.org (Postfix) with ESMTP id 79F9A461AE for ; Fri, 7 Feb 2025 19:12:44 +0100 (CET) Received: from mails.dpdk.org (localhost [127.0.0.1]) by mails.dpdk.org (Postfix) with ESMTP id 76E9442ED5; Fri, 7 Feb 2025 19:12:44 +0100 (CET) Received: from mail-io1-f100.google.com (mail-io1-f100.google.com [209.85.166.100]) by mails.dpdk.org (Postfix) with ESMTP id C007042E90 for ; Fri, 7 Feb 2025 19:12:43 +0100 (CET) Received: by mail-io1-f100.google.com with SMTP id ca18e2360f4ac-844ee43460aso157830539f.1 for ; Fri, 07 Feb 2025 10:12:43 -0800 (PST) DKIM-Signature: v=1; a=rsa-sha256; c=relaxed/relaxed; d=iol.unh.edu; s=unh-iol; t=1738951963; x=1739556763; darn=dpdk.org; h=references:in-reply-to:cc:to:from:subject:message-id:date:from:to :cc:subject:date:message-id:reply-to; bh=lkg6hgOa4jp7MPBu6UthvxkXjHcyw5oLoeBfQk4zkYI=; b=Hxckv2jRoYG0WED4bTjfPTVEja7VGXl5acE18Qoo4W6juRXu6wlFlPMD87I0HvVH4K ht+Ww8MGAjtpGyU/0LyTU1WHW75WRuhmFw8diF7NzNZUqu3eXC7Cf/iVI08k8XZohO0K 0VA0rdND38Fa0iF2Nl5ykleFKE3nxT5d+xmWU= X-Google-DKIM-Signature: v=1; a=rsa-sha256; c=relaxed/relaxed; d=1e100.net; s=20230601; t=1738951963; x=1739556763; h=references:in-reply-to:cc:to:from:subject:message-id:date :x-gm-message-state:from:to:cc:subject:date:message-id:reply-to; bh=lkg6hgOa4jp7MPBu6UthvxkXjHcyw5oLoeBfQk4zkYI=; b=o1nfnPS9kV083gQn/bLg7yYQpzYHsrKAhbLkG53UzZ+1/Ad8Cf+JAzCV2h5ST3r2Ne Q4QJyvV/KAh/E5r/ireSMLQG3ZOJvZNcYtbiI67JCNdqOxMSJIFnlpVO9eqGKhuoOl3k FUPIIrc77zSB4w6gxphseIhuTeQN1D11oMdxREqEmWrrRm5ZePR9gVtxLlTfNFYspl9Q mfqqzXLlF2YhoCYFMolankB/GjKLDx35rjqDQJiaWVTbKhkzdz/56OrqnAsKDJVxHcJX DQ31YEALqWGppQxpWNau5PSX9QhGb7zjHaQMehwegypJKJvB+mYzG2Yh1dmEF6lveHFH Ah0w== X-Gm-Message-State: AOJu0YwsvRbi3SsASWt1JN+wd6LTNOvv/TKJ/n66Fe2xs3Gl4QDQNZhg bUMmXP9C/75kYK6gTC8BrjfX+JFEWmFQYtv0CSQyh3b/IACSV8tX52pPyrZXRyiZ5OdfI8bHagY 26ngLiUEDkxTn5x0aimtU85QtR+80TELu/TnljST3 X-Gm-Gg: ASbGnctP4R8BRWi4+MFxmQ+ZUJ+yEt4Fr338pRCuzBl5HiRTi3NBqOGpwDL2AHb1Cvk CWP+ht6WLIRaQ7rIl2ravWlBkslDLb/u1QqX1EmBqJOzI9obTwCkKNTJfbxJ2WZhoztJ5pkrye3 4xnp70PXpoEKgU31CdreIiL7MwEQ5kvB6IYeyV2Xw9141faqp28He65ZSXhczjW6WFFEZ0kqu93 bIeWA5EEreUnRs3zzw6XOdFci20vTGCdgo/GFlLNl4GPnwI9MgpHd3QlRVeHWTIUDvKdahFiFWO Bb1MlXXpr5PinktxuYvZoRyJP+3oTw== X-Google-Smtp-Source: AGHT+IF3WEx2mmkQ2CNy6M9uyszJ+YC6kxfDvfMX3Tm3F1fbdHrlPbC81NuqUJLqlubi8aLWPCfoAq+R+ujp X-Received: by 2002:a05:6602:7289:b0:84f:5547:8398 with SMTP id ca18e2360f4ac-854fd8f59d6mr471267339f.11.1738951961654; Fri, 07 Feb 2025 10:12:41 -0800 (PST) Received: from postal.iol.unh.edu (postal.iol.unh.edu. [132.177.123.84]) by smtp-relay.gmail.com with ESMTPS id ca18e2360f4ac-854f6545063sm23413239f.0.2025.02.07.10.12.41 (version=TLS1_2 cipher=ECDHE-ECDSA-AES128-GCM-SHA256 bits=128/128); Fri, 07 Feb 2025 10:12:41 -0800 (PST) X-Relaying-Domain: iol.unh.edu Date: Fri, 07 Feb 2025 10:12:41 -0800 (PST) Message-ID: <67a64d19.050a0220.27c983.bd6cSMTPIN_ADDED_MISSING@mx.google.com> Received: from [172.21.0.7] (unknown [172.18.0.240]) by postal.iol.unh.edu (Postfix) with ESMTP id 27AB36052477; Fri, 7 Feb 2025 13:12:11 -0500 (EST) Subject: |WARNING| pw149489-149490 [PATCH] [2/2] drivers/net: remove unused v From: dpdklab@iol.unh.edu To: Test Report Cc: dpdk-test-reports@iol.unh.edu In-Reply-To: <1735238504-15597-3-git-send-email-andremue@linux.microsoft.com> References: <1735238504-15597-3-git-send-email-andremue@linux.microsoft.com> Content-Type: text/plain X-BeenThere: test-report@dpdk.org X-Mailman-Version: 2.1.29 Precedence: list List-Id: automatic DPDK test reports List-Unsubscribe: , List-Archive: List-Post: List-Help: List-Subscribe: , Errors-To: test-report-bounces@dpdk.org Test-Label: iol-compile-amd64-testing Test-Status: WARNING http://dpdk.org/patch/149490 _Testing issues_ Submitter: Andre Muezerie Date: Thursday, December 26 2024 18:41:44 DPDK git baseline: Repo:dpdk Branch: master CommitID:94ad302b4ebba4a5b6706a1c43ea0505e5098169 149489-149490 --> testing issues Test environment and result as below: +---------------------+--------------------+------------------+-------------------+-------------------------+-------------------+----------------------+ | Environment | dpdk_meson_compile | dpdk_compile_ovs | dpdk_compile_spdk | dpdk_llvm_clang_compile | dpdk_msvc_compile | dpdk_mingw64_compile | +=====================+====================+==================+===================+=========================+===================+======================+ | Debian 12 | PASS | PASS | PASS | SKIPPED | SKIPPED | SKIPPED | +---------------------+--------------------+------------------+-------------------+-------------------------+-------------------+----------------------+ | Fedora 40 (Clang) | PASS | PASS | PASS | SKIPPED | SKIPPED | SKIPPED | +---------------------+--------------------+------------------+-------------------+-------------------------+-------------------+----------------------+ | CentOS Stream 9 | PASS | PASS | PASS | SKIPPED | SKIPPED | SKIPPED | +---------------------+--------------------+------------------+-------------------+-------------------------+-------------------+----------------------+ | Fedora 41 | PASS | PASS | PASS | SKIPPED | SKIPPED | SKIPPED | +---------------------+--------------------+------------------+-------------------+-------------------------+-------------------+----------------------+ | Fedora 40 | PASS | PASS | PASS | SKIPPED | SKIPPED | SKIPPED | +---------------------+--------------------+------------------+-------------------+-------------------------+-------------------+----------------------+ | Ubuntu 22.04 | PASS | PASS | PASS | SKIPPED | SKIPPED | SKIPPED | +---------------------+--------------------+------------------+-------------------+-------------------------+-------------------+----------------------+ | openSUSE Leap 15 | PASS | WARN | SKIPPED | SKIPPED | SKIPPED | SKIPPED | +---------------------+--------------------+------------------+-------------------+-------------------------+-------------------+----------------------+ | Ubuntu 20.04 | PASS | SKIPPED | SKIPPED | SKIPPED | SKIPPED | SKIPPED | +---------------------+--------------------+------------------+-------------------+-------------------------+-------------------+----------------------+ | Fedora 41 (Clang) | PASS | PASS | PASS | SKIPPED | SKIPPED | SKIPPED | +---------------------+--------------------+------------------+-------------------+-------------------------+-------------------+----------------------+ | Debian Bullseye | PASS | PASS | PASS | SKIPPED | SKIPPED | SKIPPED | +---------------------+--------------------+------------------+-------------------+-------------------------+-------------------+----------------------+ | RHEL8 | PASS | PASS | SKIPPED | SKIPPED | SKIPPED | SKIPPED | +---------------------+--------------------+------------------+-------------------+-------------------------+-------------------+----------------------+ | RHEL9 | PASS | PASS | SKIPPED | SKIPPED | SKIPPED | SKIPPED | +---------------------+--------------------+------------------+-------------------+-------------------------+-------------------+----------------------+ | Alpine | PASS | PASS | SKIPPED | SKIPPED | SKIPPED | SKIPPED | +---------------------+--------------------+------------------+-------------------+-------------------------+-------------------+----------------------+ | Ubuntu 24.04 | PASS | PASS | PASS | SKIPPED | SKIPPED | SKIPPED | +---------------------+--------------------+------------------+-------------------+-------------------------+-------------------+----------------------+ | FreeBSD 14.2 | PASS | SKIPPED | SKIPPED | SKIPPED | SKIPPED | SKIPPED | +---------------------+--------------------+------------------+-------------------+-------------------------+-------------------+----------------------+ | FreeBSD 13.4 | PASS | SKIPPED | SKIPPED | SKIPPED | SKIPPED | SKIPPED | +---------------------+--------------------+------------------+-------------------+-------------------------+-------------------+----------------------+ | Windows Server 2022 | SKIPPED | SKIPPED | SKIPPED | PASS | PASS | PASS | +---------------------+--------------------+------------------+-------------------+-------------------------+-------------------+----------------------+ ==== 20 line log output for openSUSE Leap 15 (dpdk_compile_ovs): ==== --- Failed to get log output --- ==== End log output ==== Debian 12 Kernel: Depends on container host Compiler: gcc (Debian 12.2.0-14) 12.2.0 Fedora 40 (Clang) Kernel: Depends on container host Compiler: clang 18.1.8 (Fedora 18.1.8-1.fc40) CentOS Stream 9 Kernel: Depends on container host Compiler: gcc 11.5.0 20240719 (Red Hat 11.5.0-2) Fedora 41 Kernel: Depends on container host Compiler: gcc 14.2.1 20240912 (Red Hat 14.2.1-3) Fedora 40 Kernel: Depends on container host Compiler: gcc 14.2.1 20240912 (Red Hat 14.2.1-3) Ubuntu 22.04 Kernel: Depends on container host Compiler: gcc (Ubuntu 11.4.0-1ubuntu1~22.04) 11.4.0 openSUSE Leap 15 Kernel: Depends on container host Compiler: gcc (SUSE Linux) 7.5.0 Ubuntu 20.04 Kernel: Depends on container host Compiler: gcc (Ubuntu 9.4.0-1ubuntu1~20.04.2) 9.4.0 Fedora 41 (Clang) Kernel: Depends on container host Compiler: clang 19.1.5 (Fedora 19.1.5-1.fc41) Debian Bullseye Kernel: Depends on container host Compiler: gcc (Debian 10.2.1-6) 10.2.1 20210110 RHEL8 Kernel: Depends on container host Compiler: gcc 8.5.0 20210514 (Red Hat 8.5.0-22) RHEL9 Kernel: Depends on container host Compiler: gcc 11.5.0 20240719 (Red Hat 11.5.0-2) Alpine Kernel: Depends on container host Compiler: gcc (Alpine 14.2.0) 14.2.0 Ubuntu 24.04 Kernel: Depends on container host Compiler: gcc (Ubuntu 13.3.0-6ubuntu2~24.04) 13.3.0 FreeBSD 14.2 Kernel: 14.2-RELEASE Compiler: clang 18.1.6 FreeBSD 13.4 Kernel: 13.4-RELEASE-p1 Compiler: clang 18.1.6 Windows Server 2022 Kernel: 10.0.20348.2031 Compiler: clang 15.0.7, gcc 14.1.0 (MinGW), and MSVC VS 19.39.33521 To view detailed results, visit: https://lab.dpdk.org/results/dashboard/patchsets/32214/ UNH-IOL DPDK Community Lab To manage your email subscriptions, visit: https://lab.dpdk.org/results/dashboard/preferences/subscriptions/