From mboxrd@z Thu Jan 1 00:00:00 1970 Return-Path: Received: from mails.dpdk.org (mails.dpdk.org [217.70.189.124]) by inbox.dpdk.org (Postfix) with ESMTP id AEC12461AE for ; Fri, 7 Feb 2025 19:12:58 +0100 (CET) Received: from mails.dpdk.org (localhost [127.0.0.1]) by mails.dpdk.org (Postfix) with ESMTP id AB9FA42ED5; Fri, 7 Feb 2025 19:12:58 +0100 (CET) Received: from mail-il1-f228.google.com (mail-il1-f228.google.com [209.85.166.228]) by mails.dpdk.org (Postfix) with ESMTP id CD19642E90 for ; Fri, 7 Feb 2025 19:12:57 +0100 (CET) Received: by mail-il1-f228.google.com with SMTP id e9e14a558f8ab-3d04aec2b84so16812515ab.2 for ; Fri, 07 Feb 2025 10:12:57 -0800 (PST) DKIM-Signature: v=1; a=rsa-sha256; c=relaxed/relaxed; d=iol.unh.edu; s=unh-iol; t=1738951977; x=1739556777; darn=dpdk.org; h=references:in-reply-to:cc:to:from:subject:message-id:date:from:to :cc:subject:date:message-id:reply-to; bh=jo7vZts/YdDC9ITANNu3COa98M7W/LoB77Z0vZvKefU=; b=hOdhDftfBxWXIQbA3aGMywtTQBn0LhgFYtCHSVo1+GFhhixXHpk9w4uz8pPW3p5Qau /O5nfcHgtDrt0MAnQ00qvMtZhTxhI7tQf1xJaHJzoLOFPmTi7DZiNdcO8jkVKs93LVjI 8fRa6+MF0KcOVOkZLLerfEmNNXw8sXSxgfRF8= X-Google-DKIM-Signature: v=1; a=rsa-sha256; c=relaxed/relaxed; d=1e100.net; s=20230601; t=1738951977; x=1739556777; h=references:in-reply-to:cc:to:from:subject:message-id:date :x-gm-message-state:from:to:cc:subject:date:message-id:reply-to; bh=jo7vZts/YdDC9ITANNu3COa98M7W/LoB77Z0vZvKefU=; b=bLSRMGCdg2PJVs8rvwcNYRWHeZITPxSU/uo96rVms1pUfzzSa6XR065uEbhMMQoDPT fIC9tIfgcIPQeVWhBMBptg3/5s7BtTKLvbadeq7Won22hXaIhnpw0TIEuU8gj8erUTe8 N3w5D4u8PmzZCD8ig2aDHH+HGtcn4KxK61kHUYaoMmzWvHPakUjbXFYDz9siLFjltrgC 3AZ9NMjb2lmlPUkVwh5bgs7C+cnKSItSoRcVijW8OZWHhtUfj73VMnZyLJNx0CilrdJI IWpcqPwjrRAQfKL3Y8yp0uEsZLAZ0M5QVOetMukD3pzrwmAhYZPrLgkdj26qXbkALb8N FNhQ== X-Gm-Message-State: AOJu0YxBikjMFYcBJzDdCpT8aPOX8dERUpgBdmqAoiEMYm8xP65bvXm6 w0SsRtuiEfZGqOM1KPo56qNZW322byA4YtUyAmgnDmNdLlQzgj1yBATSDFPAr2WWMl6S8+zTqWj 6VZfRqmxn7+aE9hKXw/+3piGnbaQ+fYf2/pnY4ZRC X-Gm-Gg: ASbGncu4EPi5GqC9b8FM+WUFPhZklery9WADVeP3mRdKNZFGvqJyPedOZ0UpkwKDPCF I5RUBrcEVoZPhlmAJtg+AZUjjeTntVdkXbOF8u+KgmzmjxRhBdawuEFnEagXz9VNjq2baYhdz0O X1yHB2szopHwEPOJxZWs9bJx4LSVvjPyWMB/X/VbFfUV7COHeVd2tP+UfUeSu8RbglH7Tso+gxa 6MrNNdxiL1j4oAus3ZatwvnyW5MEmkycqQmoUnI4cDBTqsThRI1vG6uAKbTg6S4zG0aOEnMwK7d 0e2BBCDkJZ/FBgbgAWKXfMj5e0zWUg== X-Google-Smtp-Source: AGHT+IGBSH4C+/AIlKUfFfWp5nJybD+oAfL/lBZ7tJBtx7q/+aAsAzM0U/gyryNapbVzejxUDHs1qIrTQdPu X-Received: by 2002:a05:6e02:3421:b0:3d0:3851:c3cc with SMTP id e9e14a558f8ab-3d13df2249bmr39256065ab.16.1738951977092; Fri, 07 Feb 2025 10:12:57 -0800 (PST) Received: from postal.iol.unh.edu (postal.iol.unh.edu. [132.177.123.84]) by smtp-relay.gmail.com with ESMTPS id 8926c6da1cb9f-4ecdc4937f5sm115392173.22.2025.02.07.10.12.56 (version=TLS1_2 cipher=ECDHE-ECDSA-AES128-GCM-SHA256 bits=128/128); Fri, 07 Feb 2025 10:12:57 -0800 (PST) X-Relaying-Domain: iol.unh.edu Date: Fri, 07 Feb 2025 10:12:57 -0800 (PST) Message-ID: <67a64d29.050a0220.90469.58c9SMTPIN_ADDED_MISSING@mx.google.com> Received: from [172.21.0.13] (unknown [172.18.0.240]) by postal.iol.unh.edu (Postfix) with ESMTP id 8ABA66052471; Fri, 7 Feb 2025 13:12:26 -0500 (EST) Subject: |WARNING| pw149472 [PATCH] [v3] net/bonding: fix dedicated queue set From: dpdklab@iol.unh.edu To: Test Report Cc: dpdk-test-reports@iol.unh.edu In-Reply-To: <20241226012618.13535-1-chaoyong.he@corigine.com> References: <20241226012618.13535-1-chaoyong.he@corigine.com> Content-Type: text/plain X-BeenThere: test-report@dpdk.org X-Mailman-Version: 2.1.29 Precedence: list List-Id: automatic DPDK test reports List-Unsubscribe: , List-Archive: List-Post: List-Help: List-Subscribe: , Errors-To: test-report-bounces@dpdk.org Test-Label: iol-compile-amd64-testing Test-Status: WARNING http://dpdk.org/patch/149472 _Testing issues_ Submitter: Chaoyong He Date: Thursday, December 26 2024 01:26:18 DPDK git baseline: Repo:dpdk Branch: master CommitID:94ad302b4ebba4a5b6706a1c43ea0505e5098169 149472 --> testing issues Test environment and result as below: +---------------------+--------------------+------------------+-------------------+-------------------+-------------------------+----------------------+ | Environment | dpdk_meson_compile | dpdk_compile_ovs | dpdk_compile_spdk | dpdk_msvc_compile | dpdk_llvm_clang_compile | dpdk_mingw64_compile | +=====================+====================+==================+===================+===================+=========================+======================+ | CentOS Stream 9 | PASS | PASS | PASS | SKIPPED | SKIPPED | SKIPPED | +---------------------+--------------------+------------------+-------------------+-------------------+-------------------------+----------------------+ | Debian Bullseye | PASS | PASS | PASS | SKIPPED | SKIPPED | SKIPPED | +---------------------+--------------------+------------------+-------------------+-------------------+-------------------------+----------------------+ | Fedora 40 | PASS | PASS | PASS | SKIPPED | SKIPPED | SKIPPED | +---------------------+--------------------+------------------+-------------------+-------------------+-------------------------+----------------------+ | RHEL8 | PASS | PASS | SKIPPED | SKIPPED | SKIPPED | SKIPPED | +---------------------+--------------------+------------------+-------------------+-------------------+-------------------------+----------------------+ | Fedora 41 (Clang) | PASS | PASS | PASS | SKIPPED | SKIPPED | SKIPPED | +---------------------+--------------------+------------------+-------------------+-------------------+-------------------------+----------------------+ | Debian 12 | PASS | PASS | PASS | SKIPPED | SKIPPED | SKIPPED | +---------------------+--------------------+------------------+-------------------+-------------------+-------------------------+----------------------+ | openSUSE Leap 15 | PASS | WARN | SKIPPED | SKIPPED | SKIPPED | SKIPPED | +---------------------+--------------------+------------------+-------------------+-------------------+-------------------------+----------------------+ | Fedora 40 (Clang) | PASS | PASS | PASS | SKIPPED | SKIPPED | SKIPPED | +---------------------+--------------------+------------------+-------------------+-------------------+-------------------------+----------------------+ | Fedora 41 | PASS | PASS | PASS | SKIPPED | SKIPPED | SKIPPED | +---------------------+--------------------+------------------+-------------------+-------------------+-------------------------+----------------------+ | RHEL9 | PASS | PASS | SKIPPED | SKIPPED | SKIPPED | SKIPPED | +---------------------+--------------------+------------------+-------------------+-------------------+-------------------------+----------------------+ | FreeBSD 13.4 | PASS | SKIPPED | SKIPPED | SKIPPED | SKIPPED | SKIPPED | +---------------------+--------------------+------------------+-------------------+-------------------+-------------------------+----------------------+ | Ubuntu 20.04 | PASS | SKIPPED | SKIPPED | SKIPPED | SKIPPED | SKIPPED | +---------------------+--------------------+------------------+-------------------+-------------------+-------------------------+----------------------+ | Ubuntu 22.04 | PASS | PASS | PASS | SKIPPED | SKIPPED | SKIPPED | +---------------------+--------------------+------------------+-------------------+-------------------+-------------------------+----------------------+ | Ubuntu 24.04 | PASS | PASS | PASS | SKIPPED | SKIPPED | SKIPPED | +---------------------+--------------------+------------------+-------------------+-------------------+-------------------------+----------------------+ | Alpine | PASS | PASS | SKIPPED | SKIPPED | SKIPPED | SKIPPED | +---------------------+--------------------+------------------+-------------------+-------------------+-------------------------+----------------------+ | FreeBSD 14.2 | PASS | SKIPPED | SKIPPED | SKIPPED | SKIPPED | SKIPPED | +---------------------+--------------------+------------------+-------------------+-------------------+-------------------------+----------------------+ | Windows Server 2022 | SKIPPED | SKIPPED | SKIPPED | PASS | PASS | PASS | +---------------------+--------------------+------------------+-------------------+-------------------+-------------------------+----------------------+ ==== 20 line log output for openSUSE Leap 15 (dpdk_compile_ovs): ==== --- Failed to get log output --- ==== End log output ==== CentOS Stream 9 Kernel: Depends on container host Compiler: gcc 11.5.0 20240719 (Red Hat 11.5.0-2) Debian Bullseye Kernel: Depends on container host Compiler: gcc (Debian 10.2.1-6) 10.2.1 20210110 Fedora 40 Kernel: Depends on container host Compiler: gcc 14.2.1 20240912 (Red Hat 14.2.1-3) RHEL8 Kernel: Depends on container host Compiler: gcc 8.5.0 20210514 (Red Hat 8.5.0-22) Fedora 41 (Clang) Kernel: Depends on container host Compiler: clang 19.1.5 (Fedora 19.1.5-1.fc41) Debian 12 Kernel: Depends on container host Compiler: gcc (Debian 12.2.0-14) 12.2.0 openSUSE Leap 15 Kernel: Depends on container host Compiler: gcc (SUSE Linux) 7.5.0 Fedora 40 (Clang) Kernel: Depends on container host Compiler: clang 18.1.8 (Fedora 18.1.8-1.fc40) Fedora 41 Kernel: Depends on container host Compiler: gcc 14.2.1 20240912 (Red Hat 14.2.1-3) RHEL9 Kernel: Depends on container host Compiler: gcc 11.5.0 20240719 (Red Hat 11.5.0-2) FreeBSD 13.4 Kernel: 13.4-RELEASE-p1 Compiler: clang 18.1.6 Ubuntu 20.04 Kernel: Depends on container host Compiler: gcc (Ubuntu 9.4.0-1ubuntu1~20.04.2) 9.4.0 Ubuntu 22.04 Kernel: Depends on container host Compiler: gcc (Ubuntu 11.4.0-1ubuntu1~22.04) 11.4.0 Ubuntu 24.04 Kernel: Depends on container host Compiler: gcc (Ubuntu 13.3.0-6ubuntu2~24.04) 13.3.0 Alpine Kernel: Depends on container host Compiler: gcc (Alpine 14.2.0) 14.2.0 FreeBSD 14.2 Kernel: 14.2-RELEASE Compiler: clang 18.1.6 Windows Server 2022 Kernel: 10.0.20348.2031 Compiler: clang 15.0.7, gcc 14.1.0 (MinGW), and MSVC VS 19.39.33521 To view detailed results, visit: https://lab.dpdk.org/results/dashboard/patchsets/32211/ UNH-IOL DPDK Community Lab To manage your email subscriptions, visit: https://lab.dpdk.org/results/dashboard/preferences/subscriptions/