From mboxrd@z Thu Jan 1 00:00:00 1970 Return-Path: Received: from mails.dpdk.org (mails.dpdk.org [217.70.189.124]) by inbox.dpdk.org (Postfix) with ESMTP id CD327461AE for ; Fri, 7 Feb 2025 19:13:01 +0100 (CET) Received: from mails.dpdk.org (localhost [127.0.0.1]) by mails.dpdk.org (Postfix) with ESMTP id C8A3B42ED5; Fri, 7 Feb 2025 19:13:01 +0100 (CET) Received: from mail-oo1-f100.google.com (mail-oo1-f100.google.com [209.85.161.100]) by mails.dpdk.org (Postfix) with ESMTP id 3D32A42E90 for ; Fri, 7 Feb 2025 19:12:59 +0100 (CET) Received: by mail-oo1-f100.google.com with SMTP id 006d021491bc7-5f2e13cb359so707806eaf.3 for ; Fri, 07 Feb 2025 10:12:59 -0800 (PST) DKIM-Signature: v=1; a=rsa-sha256; c=relaxed/relaxed; d=iol.unh.edu; s=unh-iol; t=1738951978; x=1739556778; darn=dpdk.org; h=references:in-reply-to:cc:to:from:subject:message-id:date:from:to :cc:subject:date:message-id:reply-to; bh=HFkZGwnpJ62xjxtBO+Sfg4aaCVAlZ3NqAOQMIxmcm1s=; b=K25eLZNja32Cwa2eijOxDeRmZ5nEQ6ZFdePqcLhpRGpJISSkZNstI/00Kkk7s6S5u+ QXgYjBKc5PZf5tKs5euYV3zqbJVmAo8ldmFYhaT91LAoz6b3R6X/j3jAsOiz5S79rKWA 0sS8n6z28Bs8bzuFmLulyc7Dt8bTOPw9DUpr8= X-Google-DKIM-Signature: v=1; a=rsa-sha256; c=relaxed/relaxed; d=1e100.net; s=20230601; t=1738951978; x=1739556778; h=references:in-reply-to:cc:to:from:subject:message-id:date :x-gm-message-state:from:to:cc:subject:date:message-id:reply-to; bh=HFkZGwnpJ62xjxtBO+Sfg4aaCVAlZ3NqAOQMIxmcm1s=; b=biTnRP+k0K+12TnUA5xnWhs67eSQJpMh0V7jhMgs0sfE9y5Xzi+Wn5aZE8CLAZ4dlN BcBs4J40IMZeL6wKlDCIe6eYuC0rpmAb335wGVZQ6PqTnFPluYRwphLNr96/maEC1ZDF Ggu4CdMc8mBAjlSJpZ+nYZAN/4Bh4WpbmabKpIRmgm9dYXrc5OTFKabtzVthMSvlUfgb jC/QMkdGChFDY4R8uYtHLamtEwN0Cw4YLvToOIBWX+Lcl/nwdkjlKzIXYqrWI51G2E9C ymNl8dzw7jDLd8CUiC3bRhaVKYnWd0VmfPHHjDOf1OXrwJZN0sTH2H/igM1EiEdhvbZi nJhg== X-Gm-Message-State: AOJu0Yx6EOAzkfsIn63LS1EqYDiknupU1Zptc1EXXiLkUULBgQfLt0op w8n7ZAY6A0wHEAk7UFEpl2M451hto5j6QuTsF9+LdjFfd2n1B6rMen/3q8bbs7ccjeIYaQqNkzL 0sUKCL0Tj4OeyGKnD5+r2gxJjUOr1iC1Td2+UkXPl X-Gm-Gg: ASbGncsHWDbJZ9fv9/BtaiskTuvXpuQ0BtF12/QTD0qmvIlnASlMiNAM+1hPNGeOUuQ c6oaH8sgXDUJ1u/pGSASaCHkO6VpI/xp2JyZVvV+Y2pYd774rbfvxHu2A7CXvtl9L51jCpPaLD1 P2OTaxaMFEnD4zZbLz/QxRBYJGUn2D/y28aMCRukUOW5bRMMVb+1J3gVfURGKY1Sn1a8y/IJW5k weII46V4U99/nKbS5GSl4t1pxQu3+xnJ4tWAC92f0F4OzP7oeBMDg4UMBeePED4CyzMmZiwkimi hWZn8udWBDEnoq/6lElRy77/Inifjw== X-Google-Smtp-Source: AGHT+IFmDDNPZiYn9GEDMtiOCjpjKMyra7QWCgoUEQA6bQdVj4dhHMM3hIY25dsY+7yJDnbe+hihrLo+hxWZ X-Received: by 2002:a05:6820:515:b0:5f9:d8de:b20b with SMTP id 006d021491bc7-5fc5e7329c4mr2326927eaf.6.1738951978352; Fri, 07 Feb 2025 10:12:58 -0800 (PST) Received: from postal.iol.unh.edu (postal.iol.unh.edu. [132.177.123.84]) by smtp-relay.gmail.com with ESMTPS id 006d021491bc7-5fc544e98a6sm127059eaf.12.2025.02.07.10.12.58 (version=TLS1_2 cipher=ECDHE-ECDSA-AES128-GCM-SHA256 bits=128/128); Fri, 07 Feb 2025 10:12:58 -0800 (PST) X-Relaying-Domain: iol.unh.edu Date: Fri, 07 Feb 2025 10:12:58 -0800 (PST) Message-ID: <67a64d2a.4a0a0220.79316.6887SMTPIN_ADDED_MISSING@mx.google.com> Received: from [172.21.0.12] (unknown [172.18.0.240]) by postal.iol.unh.edu (Postfix) with ESMTP id C7DF6605247D; Fri, 7 Feb 2025 13:12:27 -0500 (EST) Subject: |WARNING| pw149474-149485 [PATCH] [v6,15/15] net/zxdh: mtu update op From: dpdklab@iol.unh.edu To: Test Report Cc: dpdk-test-reports@iol.unh.edu In-Reply-To: <20241226033719.1629989-16-wang.junlong1@zte.com.cn> References: <20241226033719.1629989-16-wang.junlong1@zte.com.cn> Content-Type: text/plain X-BeenThere: test-report@dpdk.org X-Mailman-Version: 2.1.29 Precedence: list List-Id: automatic DPDK test reports List-Unsubscribe: , List-Archive: List-Post: List-Help: List-Subscribe: , Errors-To: test-report-bounces@dpdk.org Test-Label: iol-compile-amd64-testing Test-Status: WARNING http://dpdk.org/patch/149485 _Testing issues_ Submitter: Junlong Wang Date: Thursday, December 26 2024 03:37:19 DPDK git baseline: Repo:dpdk Branch: master CommitID:94ad302b4ebba4a5b6706a1c43ea0505e5098169 149474-149485 --> testing issues Test environment and result as below: +---------------------+--------------------+------------------+-------------------+-------------------------+-------------------+----------------------+ | Environment | dpdk_meson_compile | dpdk_compile_ovs | dpdk_compile_spdk | dpdk_llvm_clang_compile | dpdk_msvc_compile | dpdk_mingw64_compile | +=====================+====================+==================+===================+=========================+===================+======================+ | CentOS Stream 9 | PASS | PASS | PASS | SKIPPED | SKIPPED | SKIPPED | +---------------------+--------------------+------------------+-------------------+-------------------------+-------------------+----------------------+ | Debian Bullseye | PASS | PASS | PASS | SKIPPED | SKIPPED | SKIPPED | +---------------------+--------------------+------------------+-------------------+-------------------------+-------------------+----------------------+ | Debian 12 | PASS | PASS | PASS | SKIPPED | SKIPPED | SKIPPED | +---------------------+--------------------+------------------+-------------------+-------------------------+-------------------+----------------------+ | Fedora 40 (Clang) | PASS | PASS | PASS | SKIPPED | SKIPPED | SKIPPED | +---------------------+--------------------+------------------+-------------------+-------------------------+-------------------+----------------------+ | Fedora 40 | PASS | PASS | PASS | SKIPPED | SKIPPED | SKIPPED | +---------------------+--------------------+------------------+-------------------+-------------------------+-------------------+----------------------+ | Fedora 41 (Clang) | PASS | PASS | PASS | SKIPPED | SKIPPED | SKIPPED | +---------------------+--------------------+------------------+-------------------+-------------------------+-------------------+----------------------+ | Fedora 41 | PASS | PASS | PASS | SKIPPED | SKIPPED | SKIPPED | +---------------------+--------------------+------------------+-------------------+-------------------------+-------------------+----------------------+ | openSUSE Leap 15 | PASS | WARN | SKIPPED | SKIPPED | SKIPPED | SKIPPED | +---------------------+--------------------+------------------+-------------------+-------------------------+-------------------+----------------------+ | RHEL8 | PASS | PASS | SKIPPED | SKIPPED | SKIPPED | SKIPPED | +---------------------+--------------------+------------------+-------------------+-------------------------+-------------------+----------------------+ | RHEL9 | PASS | PASS | SKIPPED | SKIPPED | SKIPPED | SKIPPED | +---------------------+--------------------+------------------+-------------------+-------------------------+-------------------+----------------------+ | Ubuntu 20.04 | PASS | SKIPPED | SKIPPED | SKIPPED | SKIPPED | SKIPPED | +---------------------+--------------------+------------------+-------------------+-------------------------+-------------------+----------------------+ | Ubuntu 22.04 | PASS | PASS | PASS | SKIPPED | SKIPPED | SKIPPED | +---------------------+--------------------+------------------+-------------------+-------------------------+-------------------+----------------------+ | Ubuntu 24.04 | PASS | PASS | PASS | SKIPPED | SKIPPED | SKIPPED | +---------------------+--------------------+------------------+-------------------+-------------------------+-------------------+----------------------+ | Alpine | PASS | PASS | SKIPPED | SKIPPED | SKIPPED | SKIPPED | +---------------------+--------------------+------------------+-------------------+-------------------------+-------------------+----------------------+ | FreeBSD 13.4 | PASS | SKIPPED | SKIPPED | SKIPPED | SKIPPED | SKIPPED | +---------------------+--------------------+------------------+-------------------+-------------------------+-------------------+----------------------+ | FreeBSD 14.2 | PASS | SKIPPED | SKIPPED | SKIPPED | SKIPPED | SKIPPED | +---------------------+--------------------+------------------+-------------------+-------------------------+-------------------+----------------------+ | Windows Server 2022 | SKIPPED | SKIPPED | SKIPPED | PASS | PASS | PASS | +---------------------+--------------------+------------------+-------------------+-------------------------+-------------------+----------------------+ ==== 20 line log output for openSUSE Leap 15 (dpdk_compile_ovs): ==== --- Failed to get log output --- ==== End log output ==== CentOS Stream 9 Kernel: Depends on container host Compiler: gcc 11.5.0 20240719 (Red Hat 11.5.0-2) Debian Bullseye Kernel: Depends on container host Compiler: gcc (Debian 10.2.1-6) 10.2.1 20210110 Debian 12 Kernel: Depends on container host Compiler: gcc (Debian 12.2.0-14) 12.2.0 Fedora 40 (Clang) Kernel: Depends on container host Compiler: clang 18.1.8 (Fedora 18.1.8-1.fc40) Fedora 40 Kernel: Depends on container host Compiler: gcc 14.2.1 20240912 (Red Hat 14.2.1-3) Fedora 41 (Clang) Kernel: Depends on container host Compiler: clang 19.1.5 (Fedora 19.1.5-1.fc41) Fedora 41 Kernel: Depends on container host Compiler: gcc 14.2.1 20240912 (Red Hat 14.2.1-3) openSUSE Leap 15 Kernel: Depends on container host Compiler: gcc (SUSE Linux) 7.5.0 RHEL8 Kernel: Depends on container host Compiler: gcc 8.5.0 20210514 (Red Hat 8.5.0-22) RHEL9 Kernel: Depends on container host Compiler: gcc 11.5.0 20240719 (Red Hat 11.5.0-2) Ubuntu 20.04 Kernel: Depends on container host Compiler: gcc (Ubuntu 9.4.0-1ubuntu1~20.04.2) 9.4.0 Ubuntu 22.04 Kernel: Depends on container host Compiler: gcc (Ubuntu 11.4.0-1ubuntu1~22.04) 11.4.0 Ubuntu 24.04 Kernel: Depends on container host Compiler: gcc (Ubuntu 13.3.0-6ubuntu2~24.04) 13.3.0 Alpine Kernel: Depends on container host Compiler: gcc (Alpine 14.2.0) 14.2.0 FreeBSD 13.4 Kernel: 13.4-RELEASE-p1 Compiler: clang 18.1.6 FreeBSD 14.2 Kernel: 14.2-RELEASE Compiler: clang 18.1.6 Windows Server 2022 Kernel: 10.0.20348.2031 Compiler: clang 15.0.7, gcc 14.1.0 (MinGW), and MSVC VS 19.39.33521 To view detailed results, visit: https://lab.dpdk.org/results/dashboard/patchsets/32212/ UNH-IOL DPDK Community Lab To manage your email subscriptions, visit: https://lab.dpdk.org/results/dashboard/preferences/subscriptions/