From mboxrd@z Thu Jan 1 00:00:00 1970 Return-Path: Received: from mails.dpdk.org (mails.dpdk.org [217.70.189.124]) by inbox.dpdk.org (Postfix) with ESMTP id DEA18461AE for ; Fri, 7 Feb 2025 19:13:03 +0100 (CET) Received: from mails.dpdk.org (localhost [127.0.0.1]) by mails.dpdk.org (Postfix) with ESMTP id D96EA42ED5; Fri, 7 Feb 2025 19:13:03 +0100 (CET) Received: from mail-qv1-f98.google.com (mail-qv1-f98.google.com [209.85.219.98]) by mails.dpdk.org (Postfix) with ESMTP id AC94042E90 for ; Fri, 7 Feb 2025 19:13:02 +0100 (CET) Received: by mail-qv1-f98.google.com with SMTP id 6a1803df08f44-6d92e457230so24196256d6.1 for ; Fri, 07 Feb 2025 10:13:02 -0800 (PST) DKIM-Signature: v=1; a=rsa-sha256; c=relaxed/relaxed; d=iol.unh.edu; s=unh-iol; t=1738951982; x=1739556782; darn=dpdk.org; h=cc:to:from:subject:message-id:date:from:to:cc:subject:date :message-id:reply-to; bh=izWaFjRC1iraKzEX0TmooPrriU7S1RSD83RRCCXheXM=; b=cd91qM1oTSc1NAmgKb6gWmpjZ4WCui/xfrr7BVlNiwb3mkc5eNwcG/LTRUqaDQaXLJ PGia2sgMVsPiYIUcXl92j3zpQJWvd3WHW9TwBi/NIJBNRUTkjBdyL/wD2g58cWojVEiF NYJfb3ihTDAHWzxaJDwER7yzXgpzTQqyPd6No= X-Google-DKIM-Signature: v=1; a=rsa-sha256; c=relaxed/relaxed; d=1e100.net; s=20230601; t=1738951982; x=1739556782; h=cc:to:from:subject:message-id:date:x-gm-message-state:from:to:cc :subject:date:message-id:reply-to; bh=izWaFjRC1iraKzEX0TmooPrriU7S1RSD83RRCCXheXM=; b=xPZRlEFLstbzfFLdawCQRre3fec1yd0PibWq/p5ZIrF8KijB5RD4vwfaSqgC7JXlba inQf0bEAC5KFpLl8FKtqaBEzPS+kZIuiFrZSU6jCpewQIFOt8I7TQcdsx6UEVygbypX0 1qPs7F9F9qptlrV9fZ39IGJofqaCtK4G+8n8j9kMnJO1oUmpxD5GvSBE77iEZNyJkmjA o6XF0GNm08J/Fb3LAZGR9+04VOdnLTHomvtCp2HTZ37DjnLhWXCtJ+fg5SIi0EC/2Ang JxCB8tTmhsQxFQsKVFEyxt9JbCxbM1M57t4ZzOQXKCwS1xuShLmMUUPWrU6gDI7srLE2 K+2Q== X-Gm-Message-State: AOJu0Yxb3tpqxZ0vDwY1EnMnReCljKJ6+UDme67V97IDJxwswNjv7PoS yeiAW64N6tQ4xyMdm8cQk3G6ZXxHf1Xzx/B2f7d46/ygm0P1vONpwOE54IY+HWQi+bgCsP54hdP Hl05fOq6rqlpB8XsbJeeUscMAG84XaV6IsCBs88LK X-Gm-Gg: ASbGncsfn3P4QPvSc7NihivE/0VgBoMm2o+S8xWCJeN4Nv0xC3zkISEogmwbiArejQn 8UyMJ48wJa3NT8HYGIHlL5f3z08PALNFS55MsUzxNQ3aqCCYh1NpgZKKwrYKk3b7VWAGcfDSQvG VuQmiT6LyCd5eACUTPurBtSffKRic/LB86xfUz7y3pGABjXQoPGR9+E9ow5lQUuEKmsK3hEoi1x vkcxREaj0KSUaZIgSDEq47FX8xuBcSzYU1de+oAVH6hQOC42ibHX/kY058QmJjdADmaIJfDKXFd igmyrDudkeYq9FQI6I76QFMoEBxEBw== X-Google-Smtp-Source: AGHT+IGF+u6IGcIoERhxuPHPMm26e7etzGq2FVDaP/BYTkXaIPlCbxlgYx4IuMVrNdjmcDWOyqD2c10N1few X-Received: by 2002:ad4:5dea:0:b0:6d8:f0ba:ea92 with SMTP id 6a1803df08f44-6e445651b2amr55760216d6.21.1738951981957; Fri, 07 Feb 2025 10:13:01 -0800 (PST) Received: from postal.iol.unh.edu (postal.iol.unh.edu. [132.177.123.84]) by smtp-relay.gmail.com with ESMTPS id 6a1803df08f44-6e43ba4123csm2304556d6.25.2025.02.07.10.13.01 (version=TLS1_2 cipher=ECDHE-ECDSA-AES128-GCM-SHA256 bits=128/128); Fri, 07 Feb 2025 10:13:01 -0800 (PST) X-Relaying-Domain: iol.unh.edu Date: Fri, 07 Feb 2025 10:13:01 -0800 (PST) Message-ID: <67a64d2d.050a0220.177405.bc87SMTPIN_ADDED_MISSING@mx.google.com> Received: from [172.21.0.11] (unknown [172.18.0.240]) by postal.iol.unh.edu (Postfix) with ESMTP id 9D45E6052483; Fri, 7 Feb 2025 13:12:31 -0500 (EST) Subject: |WARNING| [GIT MASTER] fd51012de5369679e807be1d6a81d63ef15015ce From: dpdklab@iol.unh.edu To: Test Report Cc: dpdk-test-reports@iol.unh.edu Content-Type: text/plain X-BeenThere: test-report@dpdk.org X-Mailman-Version: 2.1.29 Precedence: list List-Id: automatic DPDK test reports List-Unsubscribe: , List-Archive: List-Post: List-Help: List-Subscribe: , Errors-To: test-report-bounces@dpdk.org _Testing issues_ Branch: dpdk fd51012de5369679e807be1d6a81d63ef15015ce --> testing issues Test environment and result as below: +---------------------+--------------------+------------------+-------------------+-------------------------+-------------------+----------------------+ | Environment | dpdk_meson_compile | dpdk_compile_ovs | dpdk_compile_spdk | dpdk_llvm_clang_compile | dpdk_msvc_compile | dpdk_mingw64_compile | +=====================+====================+==================+===================+=========================+===================+======================+ | Debian Bullseye | PASS | PASS | PASS | SKIPPED | SKIPPED | SKIPPED | +---------------------+--------------------+------------------+-------------------+-------------------------+-------------------+----------------------+ | Debian 12 | PASS | PASS | PASS | SKIPPED | SKIPPED | SKIPPED | +---------------------+--------------------+------------------+-------------------+-------------------------+-------------------+----------------------+ | Fedora 40 (Clang) | PASS | PASS | PASS | SKIPPED | SKIPPED | SKIPPED | +---------------------+--------------------+------------------+-------------------+-------------------------+-------------------+----------------------+ | Fedora 40 | PASS | PASS | PASS | SKIPPED | SKIPPED | SKIPPED | +---------------------+--------------------+------------------+-------------------+-------------------------+-------------------+----------------------+ | Fedora 41 (Clang) | PASS | PASS | PASS | SKIPPED | SKIPPED | SKIPPED | +---------------------+--------------------+------------------+-------------------+-------------------------+-------------------+----------------------+ | Fedora 41 | PASS | PASS | PASS | SKIPPED | SKIPPED | SKIPPED | +---------------------+--------------------+------------------+-------------------+-------------------------+-------------------+----------------------+ | openSUSE Leap 15 | PASS | WARN | SKIPPED | SKIPPED | SKIPPED | SKIPPED | +---------------------+--------------------+------------------+-------------------+-------------------------+-------------------+----------------------+ | RHEL8 | PASS | PASS | SKIPPED | SKIPPED | SKIPPED | SKIPPED | +---------------------+--------------------+------------------+-------------------+-------------------------+-------------------+----------------------+ | RHEL9 | PASS | PASS | SKIPPED | SKIPPED | SKIPPED | SKIPPED | +---------------------+--------------------+------------------+-------------------+-------------------------+-------------------+----------------------+ | Ubuntu 20.04 | PASS | SKIPPED | SKIPPED | SKIPPED | SKIPPED | SKIPPED | +---------------------+--------------------+------------------+-------------------+-------------------------+-------------------+----------------------+ | Ubuntu 22.04 | PASS | PASS | PASS | SKIPPED | SKIPPED | SKIPPED | +---------------------+--------------------+------------------+-------------------+-------------------------+-------------------+----------------------+ | Ubuntu 24.04 | PASS | PASS | PASS | SKIPPED | SKIPPED | SKIPPED | +---------------------+--------------------+------------------+-------------------+-------------------------+-------------------+----------------------+ | Alpine | PASS | PASS | SKIPPED | SKIPPED | SKIPPED | SKIPPED | +---------------------+--------------------+------------------+-------------------+-------------------------+-------------------+----------------------+ | FreeBSD 13.4 | PASS | SKIPPED | SKIPPED | SKIPPED | SKIPPED | SKIPPED | +---------------------+--------------------+------------------+-------------------+-------------------------+-------------------+----------------------+ | FreeBSD 14.2 | PASS | SKIPPED | SKIPPED | SKIPPED | SKIPPED | SKIPPED | +---------------------+--------------------+------------------+-------------------+-------------------------+-------------------+----------------------+ | CentOS Stream 9 | PASS | PASS | PASS | SKIPPED | SKIPPED | SKIPPED | +---------------------+--------------------+------------------+-------------------+-------------------------+-------------------+----------------------+ | Arch Linux | PASS | PASS | SKIPPED | SKIPPED | SKIPPED | SKIPPED | +---------------------+--------------------+------------------+-------------------+-------------------------+-------------------+----------------------+ | Windows Server 2022 | SKIPPED | SKIPPED | SKIPPED | PASS | PASS | PASS | +---------------------+--------------------+------------------+-------------------+-------------------------+-------------------+----------------------+ ==== 20 line log output for openSUSE Leap 15 (dpdk_compile_ovs): ==== --- Failed to get log output --- ==== End log output ==== Debian Bullseye Kernel: Depends on container host Compiler: gcc (Debian 10.2.1-6) 10.2.1 20210110 Debian 12 Kernel: Depends on container host Compiler: gcc (Debian 12.2.0-14) 12.2.0 Fedora 40 (Clang) Kernel: Depends on container host Compiler: clang 18.1.8 (Fedora 18.1.8-1.fc40) Fedora 40 Kernel: Depends on container host Compiler: gcc 14.2.1 20240912 (Red Hat 14.2.1-3) Fedora 41 (Clang) Kernel: Depends on container host Compiler: clang 19.1.5 (Fedora 19.1.5-1.fc41) Fedora 41 Kernel: Depends on container host Compiler: gcc 14.2.1 20240912 (Red Hat 14.2.1-3) openSUSE Leap 15 Kernel: Depends on container host Compiler: gcc (SUSE Linux) 7.5.0 RHEL8 Kernel: Depends on container host Compiler: gcc 8.5.0 20210514 (Red Hat 8.5.0-22) RHEL9 Kernel: Depends on container host Compiler: gcc 11.5.0 20240719 (Red Hat 11.5.0-2) Ubuntu 20.04 Kernel: Depends on container host Compiler: gcc (Ubuntu 9.4.0-1ubuntu1~20.04.2) 9.4.0 Ubuntu 22.04 Kernel: Depends on container host Compiler: gcc (Ubuntu 11.4.0-1ubuntu1~22.04) 11.4.0 Ubuntu 24.04 Kernel: Depends on container host Compiler: gcc (Ubuntu 13.3.0-6ubuntu2~24.04) 13.3.0 Alpine Kernel: Depends on container host Compiler: gcc (Alpine 14.2.0) 14.2.0 FreeBSD 13.4 Kernel: 13.4-RELEASE-p1 Compiler: clang 18.1.6 FreeBSD 14.2 Kernel: 14.2-RELEASE Compiler: clang 18.1.6 CentOS Stream 9 Kernel: Depends on container host Compiler: gcc 11.5.0 20240719 (Red Hat 11.5.0-2) Arch Linux Kernel: Depends on container host Compiler: gcc 14.2.1 20240910 Windows Server 2022 Kernel: 10.0.20348.2031 Compiler: clang 15.0.7, gcc 14.1.0 (MinGW), and MSVC VS 19.39.33521 To view detailed results, visit: https://lab.dpdk.org/results/dashboard/tarballs/32047/ UNH-IOL DPDK Community Lab To manage your email subscriptions, visit: https://lab.dpdk.org/results/dashboard/preferences/subscriptions/