From mboxrd@z Thu Jan 1 00:00:00 1970 Return-Path: Received: from mails.dpdk.org (mails.dpdk.org [217.70.189.124]) by inbox.dpdk.org (Postfix) with ESMTP id C0D34461BE for ; Fri, 7 Feb 2025 19:14:14 +0100 (CET) Received: from mails.dpdk.org (localhost [127.0.0.1]) by mails.dpdk.org (Postfix) with ESMTP id BE35742ED5; Fri, 7 Feb 2025 19:14:14 +0100 (CET) Received: from mail-il1-f225.google.com (mail-il1-f225.google.com [209.85.166.225]) by mails.dpdk.org (Postfix) with ESMTP id 2E8E642E90 for ; Fri, 7 Feb 2025 19:14:13 +0100 (CET) Received: by mail-il1-f225.google.com with SMTP id e9e14a558f8ab-3ce76b8d5bcso19131375ab.0 for ; Fri, 07 Feb 2025 10:14:13 -0800 (PST) DKIM-Signature: v=1; a=rsa-sha256; c=relaxed/relaxed; d=iol.unh.edu; s=unh-iol; t=1738952052; x=1739556852; darn=dpdk.org; h=references:in-reply-to:cc:to:from:subject:message-id:date:from:to :cc:subject:date:message-id:reply-to; bh=s19Xid0L9w/40VkO7xmIkLceHOF70jJEStbB2pcVpJ0=; b=XSmdqkbxRROGLpL227leujvJyF5DPdcjRuzQmFnJQrL/3u8q2c7Cu9EiJfe2xCzKZN roI8UJeLIdv4DfmgoYrlIE5SaZQgLabzXktYQCxsUSHvnkcucpH54RrALYZEletkCQr3 4sOIirG7/3qR/OCXazr0WNLSrWQh6C7Y80K5g= X-Google-DKIM-Signature: v=1; a=rsa-sha256; c=relaxed/relaxed; d=1e100.net; s=20230601; t=1738952052; x=1739556852; h=references:in-reply-to:cc:to:from:subject:message-id:date :x-gm-message-state:from:to:cc:subject:date:message-id:reply-to; bh=s19Xid0L9w/40VkO7xmIkLceHOF70jJEStbB2pcVpJ0=; b=oHf8BMoc/17bw+Yyr2oVLJSkUUhtkAeg11hPBv8T+2RG2FukM1S64u34spfjDgCqcU Qumvb+hSE+qUm1NvVlRCGQ9rc6dy91eNgyVemuXvMryQJVGuA1bew3ZqTctR60aFHsep y7CVnNm8/5kai3F1orD7RQznvI3mq3FLrhZXTAG+wB/T4s/VQ9OgVzl2fwbVgwk3CfG8 7CVvQpWAhI/sw3kK7fTLCD7OZ+CtL9Exw27NoDKTL8dkELZkYCjI3cM8COMiHF8PaCE6 mdVRLzyASeG9ctUT4vpmW8gtAIc5551aJu2rT+kg2w8/cCbRwd3Wr1FEl51rCETb/hkO shrQ== X-Gm-Message-State: AOJu0YyGK1ftaH0ZGHfzSOCx8WwrB7wU2weTYGB9cHFIjJ8E1WxTijvn jRl9hEQhpkN1QYBOcOC2LcqBgzKM6rsjFWhfqyrXrTtquZlU6myuKFWDFL6kqs5vbTeV8VN6bQv XwtYB3u8ApAyPzHuW5MOFHTktkqODS+8wzKEX8KzX X-Gm-Gg: ASbGncvPxmgw2L+Bp8gpyUwcyM/SI3YzZ5wGn5iTJ/wYhKNjnAYOAZVtahs4sC7SLvj LZmDM2rZ9988U+XD/0G82+YHrOiLsi6QHMNa3fGHTPDPy8ufC/e7Q5Iy/hu7scB8gsAoAccSAsZ fF+uL1Kgk1wMaKL+LpGlpNrvNDN8KU9yt/qKpaK3iDhynWGzkUTe+e2l0yJo6cqdEvmB0ldgBFm XulzHicxbT06quRxgTYheVYl4kI0p3I3p7u/Wm9E8QzXridaK+2AvjluH/CK9CqPdiRgJ5RWGtX Tricc+MFRwOt8C3i3bVcYeMRF0lV+A== X-Google-Smtp-Source: AGHT+IGWNputyB569m5Oq5lwksjhosn3/dgMxrp8UDZA9U03QgJucR5pn3a1qmyT+qS6Yr7QsL6v76UoeO56 X-Received: by 2002:a05:6e02:1707:b0:3d0:405d:e94f with SMTP id e9e14a558f8ab-3d13dfa703emr28908975ab.17.1738952052506; Fri, 07 Feb 2025 10:14:12 -0800 (PST) Received: from postal.iol.unh.edu (postal.iol.unh.edu. [132.177.123.84]) by smtp-relay.gmail.com with ESMTPS id e9e14a558f8ab-3d05e9f06easm2637665ab.47.2025.02.07.10.14.12 (version=TLS1_2 cipher=ECDHE-ECDSA-AES128-GCM-SHA256 bits=128/128); Fri, 07 Feb 2025 10:14:12 -0800 (PST) X-Relaying-Domain: iol.unh.edu Date: Fri, 07 Feb 2025 10:14:12 -0800 (PST) Message-ID: <67a64d74.050a0220.7991b.e178SMTPIN_ADDED_MISSING@mx.google.com> Received: from [172.21.0.5] (unknown [172.18.0.240]) by postal.iol.unh.edu (Postfix) with ESMTP id 05FF56052471; Fri, 7 Feb 2025 13:14:12 -0500 (EST) Subject: |WARNING| pw149413-149440 [PATCH] [v7,29/29] lib/vhost: replace pack From: dpdklab@iol.unh.edu To: Test Report Cc: dpdk-test-reports@iol.unh.edu In-Reply-To: <1734981122-4729-30-git-send-email-andremue@linux.microsoft.com> References: <1734981122-4729-30-git-send-email-andremue@linux.microsoft.com> Content-Type: text/plain X-BeenThere: test-report@dpdk.org X-Mailman-Version: 2.1.29 Precedence: list List-Id: automatic DPDK test reports List-Unsubscribe: , List-Archive: List-Post: List-Help: List-Subscribe: , Errors-To: test-report-bounces@dpdk.org Test-Label: iol-compile-amd64-testing Test-Status: WARNING http://dpdk.org/patch/149440 _Testing issues_ Submitter: Andre Muezerie Date: Monday, December 23 2024 19:12:02 DPDK git baseline: Repo:dpdk Branch: master CommitID:fd51012de5369679e807be1d6a81d63ef15015ce 149413-149440 --> testing issues Test environment and result as below: +---------------------+--------------------+------------------+-------------------+-------------------+-------------------------+----------------------+ | Environment | dpdk_meson_compile | dpdk_compile_ovs | dpdk_compile_spdk | dpdk_msvc_compile | dpdk_llvm_clang_compile | dpdk_mingw64_compile | +=====================+====================+==================+===================+===================+=========================+======================+ | Debian 12 | PASS | PASS | PASS | SKIPPED | SKIPPED | SKIPPED | +---------------------+--------------------+------------------+-------------------+-------------------+-------------------------+----------------------+ | Fedora 40 (Clang) | PASS | PASS | PASS | SKIPPED | SKIPPED | SKIPPED | +---------------------+--------------------+------------------+-------------------+-------------------+-------------------------+----------------------+ | Fedora 39 | PASS | PASS | PASS | SKIPPED | SKIPPED | SKIPPED | +---------------------+--------------------+------------------+-------------------+-------------------+-------------------------+----------------------+ | Fedora 40 | PASS | PASS | PASS | SKIPPED | SKIPPED | SKIPPED | +---------------------+--------------------+------------------+-------------------+-------------------+-------------------------+----------------------+ | RHEL9 | PASS | PASS | SKIPPED | SKIPPED | SKIPPED | SKIPPED | +---------------------+--------------------+------------------+-------------------+-------------------+-------------------------+----------------------+ | Ubuntu 20.04 | PASS | SKIPPED | SKIPPED | SKIPPED | SKIPPED | SKIPPED | +---------------------+--------------------+------------------+-------------------+-------------------+-------------------------+----------------------+ | FreeBSD 13.4 | PASS | SKIPPED | SKIPPED | SKIPPED | SKIPPED | SKIPPED | +---------------------+--------------------+------------------+-------------------+-------------------+-------------------------+----------------------+ | Debian Bullseye | PASS | PASS | PASS | SKIPPED | SKIPPED | SKIPPED | +---------------------+--------------------+------------------+-------------------+-------------------+-------------------------+----------------------+ | Fedora 39 (Clang) | PASS | PASS | PASS | SKIPPED | SKIPPED | SKIPPED | +---------------------+--------------------+------------------+-------------------+-------------------+-------------------------+----------------------+ | CentOS Stream 9 | PASS | PASS | PASS | SKIPPED | SKIPPED | SKIPPED | +---------------------+--------------------+------------------+-------------------+-------------------+-------------------------+----------------------+ | openSUSE Leap 15 | PASS | WARN | SKIPPED | SKIPPED | SKIPPED | SKIPPED | +---------------------+--------------------+------------------+-------------------+-------------------+-------------------------+----------------------+ | RHEL8 | PASS | PASS | SKIPPED | SKIPPED | SKIPPED | SKIPPED | +---------------------+--------------------+------------------+-------------------+-------------------+-------------------------+----------------------+ | FreeBSD 14.2 | PASS | SKIPPED | SKIPPED | SKIPPED | SKIPPED | SKIPPED | +---------------------+--------------------+------------------+-------------------+-------------------+-------------------------+----------------------+ | Alpine | PASS | PASS | SKIPPED | SKIPPED | SKIPPED | SKIPPED | +---------------------+--------------------+------------------+-------------------+-------------------+-------------------------+----------------------+ | Ubuntu 24.04 | PASS | PASS | PASS | SKIPPED | SKIPPED | SKIPPED | +---------------------+--------------------+------------------+-------------------+-------------------+-------------------------+----------------------+ | Windows Server 2022 | SKIPPED | SKIPPED | SKIPPED | PASS | PASS | PASS | +---------------------+--------------------+------------------+-------------------+-------------------+-------------------------+----------------------+ ==== 20 line log output for openSUSE Leap 15 (dpdk_compile_ovs): ==== --- Failed to get log output --- ==== End log output ==== Debian 12 Kernel: Depends on container host Compiler: gcc (Debian 12.2.0-14) 12.2.0 Fedora 40 (Clang) Kernel: Depends on container host Compiler: clang 18.1.8 (Fedora 18.1.8-1.fc40) Fedora 39 Kernel: Depends on container host Compiler: gcc 13.3.1 20240522 (Red Hat 13.3.1-1) Fedora 40 Kernel: Depends on container host Compiler: gcc 14.2.1 20240912 (Red Hat 14.2.1-3) RHEL9 Kernel: Depends on container host Compiler: gcc 11.5.0 20240719 (Red Hat 11.5.0-2) Ubuntu 20.04 Kernel: Depends on container host Compiler: gcc (Ubuntu 9.4.0-1ubuntu1~20.04.2) 9.4.0 FreeBSD 13.4 Kernel: 13.4-RELEASE-p1 Compiler: clang 18.1.6 Debian Bullseye Kernel: Depends on container host Compiler: gcc (Debian 10.2.1-6) 10.2.1 20210110 Fedora 39 (Clang) Kernel: Depends on container host Compiler: clang 17.0.6 (Fedora 17.0.6-2.fc39) CentOS Stream 9 Kernel: Depends on container host Compiler: gcc 11.5.0 20240719 (Red Hat 11.5.0-2) openSUSE Leap 15 Kernel: Depends on container host Compiler: gcc (SUSE Linux) 7.5.0 RHEL8 Kernel: Depends on container host Compiler: gcc 8.5.0 20210514 (Red Hat 8.5.0-22) FreeBSD 14.2 Kernel: 14.2-RELEASE Compiler: clang 18.1.6 Alpine Kernel: Depends on container host Compiler: gcc (Alpine 14.2.0) 14.2.0 Ubuntu 24.04 Kernel: Depends on container host Compiler: gcc (Ubuntu 13.3.0-6ubuntu2~24.04) 13.3.0 Windows Server 2022 Kernel: 10.0.20348.2031 Compiler: clang 15.0.7, gcc 14.1.0 (MinGW), and MSVC VS 19.39.33521 To view detailed results, visit: https://lab.dpdk.org/results/dashboard/patchsets/32201/ UNH-IOL DPDK Community Lab To manage your email subscriptions, visit: https://lab.dpdk.org/results/dashboard/preferences/subscriptions/