From mboxrd@z Thu Jan 1 00:00:00 1970 Return-Path: Received: from mails.dpdk.org (mails.dpdk.org [217.70.189.124]) by inbox.dpdk.org (Postfix) with ESMTP id F25B4461BE for ; Fri, 7 Feb 2025 19:14:50 +0100 (CET) Received: from mails.dpdk.org (localhost [127.0.0.1]) by mails.dpdk.org (Postfix) with ESMTP id EE43A42ED5; Fri, 7 Feb 2025 19:14:50 +0100 (CET) Received: from mail-yw1-f226.google.com (mail-yw1-f226.google.com [209.85.128.226]) by mails.dpdk.org (Postfix) with ESMTP id 2F30E42E90 for ; Fri, 7 Feb 2025 19:14:50 +0100 (CET) Received: by mail-yw1-f226.google.com with SMTP id 00721157ae682-6ef60e500d7so19188057b3.0 for ; Fri, 07 Feb 2025 10:14:50 -0800 (PST) DKIM-Signature: v=1; a=rsa-sha256; c=relaxed/relaxed; d=iol.unh.edu; s=unh-iol; t=1738952089; x=1739556889; darn=dpdk.org; h=references:in-reply-to:cc:to:from:subject:message-id:date:from:to :cc:subject:date:message-id:reply-to; bh=d/v7nXM5E/lDPbaMAHFTPcf1mYHjAhLJdF7STy8rvDU=; b=BOKWe3IBL2hY5/t5qYPVqhNZS06m1mygHbBFprPc6s52ImwQxo/5E5QEJ3+ilvFB2c KOPm5t6H4okIqvLXD24EjPBA/eEL30r3m/lq/Z6KHLXy87cn5h+GIusu9ibPMJ1oQR5H x018zgI5PaXsK1xfyrjAhdyuB2yc+jt8FY6A0= X-Google-DKIM-Signature: v=1; a=rsa-sha256; c=relaxed/relaxed; d=1e100.net; s=20230601; t=1738952089; x=1739556889; h=references:in-reply-to:cc:to:from:subject:message-id:date :x-gm-message-state:from:to:cc:subject:date:message-id:reply-to; bh=d/v7nXM5E/lDPbaMAHFTPcf1mYHjAhLJdF7STy8rvDU=; b=V4yhRd0wQakLnM/3qU4Tg4CqjyGQvevtZLGZZI06xGUZJyVfSJr8QqLBVfUXJ4UZE4 6dCTdPEo8x/o32DIopKPa3K95Qv8hSScUgfVPbuJKRujYE7zbwKIpwPAsYoqKHkai1Ym iLg1yukHjL528Yc135stWwucr8WItFGCApRCnNXs7//1PgeVEODB9rdx00Ejjkl/ZHpB dcTbxp8JB3aGa9khvxeCKWnyC+2yuwXO4pKw5xzpj23bVpttETVlAPOH+21b44//lnor QqXr1jmKk/jGeFNlO7YZJusIhd/wGOl9ganYSsQkcZk3y+UNL0/Y/FOo6y8T1jmPhzxR wpsg== X-Gm-Message-State: AOJu0YxRgUpvusHNU4mBd8iRnbbZI6Mbb5BmxDXVfmf1G9VIX8dSnJjr JmQXcOUa0hyp8Yyu4KC9BtRmrUz+YVz2NEGpOy58e9UI6KtUsgHlL7y5FwcAwHsQSAfTFCsjz/V s9MXpeAf8VJV9A+WD3CqmhXf1uskRaOx/t5MWUIM4 X-Gm-Gg: ASbGncupCD4vQseDPsYMcWvTpO4kYsd9ydQyTPbBEDTIsxQ1/mxivbs2XV2jKiaDaNl 3+i057p7odwAbaNfc27wkqEx15qf+1FDTn8XACQVaLXDUcsjsvb6y1uYX3whJUN2cFuYRSoJLfV YXC13DN6Z9bRIMCkbFoC4muW4EsTZijlEaRi1bLbpuP62bEY/ScugBLiM2jZRsVxKenAzL9gAnN ZGymldUjAb5Q9iS3cXhyOZX3slIfrcW4j3Knsda6QJ52hOYiZx2Ba+0cUjJ6WC1Fa/mc+2uoCCo SKOn/bp2td5sTGcP9/sr5s4a4X7iKQ== X-Google-Smtp-Source: AGHT+IF09ARAqhfCI4oIIe8O+rFJTt1QPujZ8ZWgCQo497GNOopUHRwm3B3DiE7rdbKRQZNE5jg2ia5QxGJ0 X-Received: by 2002:a05:690c:2501:b0:6ef:5097:5daa with SMTP id 00721157ae682-6f9b29da09fmr35288757b3.34.1738952089583; Fri, 07 Feb 2025 10:14:49 -0800 (PST) Received: from postal.iol.unh.edu (postal.iol.unh.edu. [132.177.123.84]) by smtp-relay.gmail.com with ESMTPS id 00721157ae682-6f99ffd79f7sm446417b3.63.2025.02.07.10.14.49 (version=TLS1_2 cipher=ECDHE-ECDSA-AES128-GCM-SHA256 bits=128/128); Fri, 07 Feb 2025 10:14:49 -0800 (PST) X-Relaying-Domain: iol.unh.edu Date: Fri, 07 Feb 2025 10:14:49 -0800 (PST) Message-ID: <67a64d99.050a0220.1118f0.2029SMTPIN_ADDED_MISSING@mx.google.com> Received: from [172.21.0.7] (unknown [172.18.0.240]) by postal.iol.unh.edu (Postfix) with ESMTP id 3A7896052471; Fri, 7 Feb 2025 13:14:19 -0500 (EST) Subject: |WARNING| pw149412 [PATCH] [v2,1/1] dts: add EAL confidence check su From: dpdklab@iol.unh.edu To: Test Report Cc: dpdk-test-reports@iol.unh.edu In-Reply-To: <20241223185739.29621-1-dmarx@iol.unh.edu> References: <20241223185739.29621-1-dmarx@iol.unh.edu> Content-Type: text/plain X-BeenThere: test-report@dpdk.org X-Mailman-Version: 2.1.29 Precedence: list List-Id: automatic DPDK test reports List-Unsubscribe: , List-Archive: List-Post: List-Help: List-Subscribe: , Errors-To: test-report-bounces@dpdk.org Test-Label: iol-compile-amd64-testing Test-Status: WARNING http://dpdk.org/patch/149412 _Testing issues_ Submitter: Dean Marx Date: Monday, December 23 2024 18:57:39 DPDK git baseline: Repo:dpdk Branch: master CommitID:fd51012de5369679e807be1d6a81d63ef15015ce 149412 --> testing issues Test environment and result as below: +---------------------+--------------------+------------------+-------------------+-------------------+-------------------------+----------------------+ | Environment | dpdk_meson_compile | dpdk_compile_ovs | dpdk_compile_spdk | dpdk_msvc_compile | dpdk_llvm_clang_compile | dpdk_mingw64_compile | +=====================+====================+==================+===================+===================+=========================+======================+ | CentOS Stream 9 | PASS | PASS | PASS | SKIPPED | SKIPPED | SKIPPED | +---------------------+--------------------+------------------+-------------------+-------------------+-------------------------+----------------------+ | Debian 12 | PASS | PASS | PASS | SKIPPED | SKIPPED | SKIPPED | +---------------------+--------------------+------------------+-------------------+-------------------+-------------------------+----------------------+ | Debian Bullseye | PASS | PASS | PASS | SKIPPED | SKIPPED | SKIPPED | +---------------------+--------------------+------------------+-------------------+-------------------+-------------------------+----------------------+ | Fedora 39 (Clang) | PASS | PASS | PASS | SKIPPED | SKIPPED | SKIPPED | +---------------------+--------------------+------------------+-------------------+-------------------+-------------------------+----------------------+ | Fedora 40 (Clang) | PASS | PASS | PASS | SKIPPED | SKIPPED | SKIPPED | +---------------------+--------------------+------------------+-------------------+-------------------+-------------------------+----------------------+ | Fedora 40 | PASS | PASS | PASS | SKIPPED | SKIPPED | SKIPPED | +---------------------+--------------------+------------------+-------------------+-------------------+-------------------------+----------------------+ | Fedora 39 | PASS | PASS | PASS | SKIPPED | SKIPPED | SKIPPED | +---------------------+--------------------+------------------+-------------------+-------------------+-------------------------+----------------------+ | openSUSE Leap 15 | PASS | WARN | SKIPPED | SKIPPED | SKIPPED | SKIPPED | +---------------------+--------------------+------------------+-------------------+-------------------+-------------------------+----------------------+ | RHEL8 | PASS | PASS | SKIPPED | SKIPPED | SKIPPED | SKIPPED | +---------------------+--------------------+------------------+-------------------+-------------------+-------------------------+----------------------+ | RHEL9 | PASS | PASS | SKIPPED | SKIPPED | SKIPPED | SKIPPED | +---------------------+--------------------+------------------+-------------------+-------------------+-------------------------+----------------------+ | Ubuntu 20.04 | PASS | SKIPPED | SKIPPED | SKIPPED | SKIPPED | SKIPPED | +---------------------+--------------------+------------------+-------------------+-------------------+-------------------------+----------------------+ | Ubuntu 22.04 | PASS | PASS | PASS | SKIPPED | SKIPPED | SKIPPED | +---------------------+--------------------+------------------+-------------------+-------------------+-------------------------+----------------------+ | Ubuntu 24.04 | PASS | PASS | PASS | SKIPPED | SKIPPED | SKIPPED | +---------------------+--------------------+------------------+-------------------+-------------------+-------------------------+----------------------+ | Alpine | PASS | PASS | SKIPPED | SKIPPED | SKIPPED | SKIPPED | +---------------------+--------------------+------------------+-------------------+-------------------+-------------------------+----------------------+ | FreeBSD 13.4 | PASS | SKIPPED | SKIPPED | SKIPPED | SKIPPED | SKIPPED | +---------------------+--------------------+------------------+-------------------+-------------------+-------------------------+----------------------+ | FreeBSD 14.2 | PASS | SKIPPED | SKIPPED | SKIPPED | SKIPPED | SKIPPED | +---------------------+--------------------+------------------+-------------------+-------------------+-------------------------+----------------------+ | Windows Server 2022 | SKIPPED | SKIPPED | SKIPPED | PASS | PASS | PASS | +---------------------+--------------------+------------------+-------------------+-------------------+-------------------------+----------------------+ ==== 20 line log output for openSUSE Leap 15 (dpdk_compile_ovs): ==== --- Failed to get log output --- ==== End log output ==== CentOS Stream 9 Kernel: Depends on container host Compiler: gcc 11.5.0 20240719 (Red Hat 11.5.0-2) Debian 12 Kernel: Depends on container host Compiler: gcc (Debian 12.2.0-14) 12.2.0 Debian Bullseye Kernel: Depends on container host Compiler: gcc (Debian 10.2.1-6) 10.2.1 20210110 Fedora 39 (Clang) Kernel: Depends on container host Compiler: clang 17.0.6 (Fedora 17.0.6-2.fc39) Fedora 40 (Clang) Kernel: Depends on container host Compiler: clang 18.1.8 (Fedora 18.1.8-1.fc40) Fedora 40 Kernel: Depends on container host Compiler: gcc 14.2.1 20240912 (Red Hat 14.2.1-3) Fedora 39 Kernel: Depends on container host Compiler: gcc 13.3.1 20240522 (Red Hat 13.3.1-1) openSUSE Leap 15 Kernel: Depends on container host Compiler: gcc (SUSE Linux) 7.5.0 RHEL8 Kernel: Depends on container host Compiler: gcc 8.5.0 20210514 (Red Hat 8.5.0-22) RHEL9 Kernel: Depends on container host Compiler: gcc 11.5.0 20240719 (Red Hat 11.5.0-2) Ubuntu 20.04 Kernel: Depends on container host Compiler: gcc (Ubuntu 9.4.0-1ubuntu1~20.04.2) 9.4.0 Ubuntu 22.04 Kernel: Depends on container host Compiler: gcc (Ubuntu 11.4.0-1ubuntu1~22.04) 11.4.0 Ubuntu 24.04 Kernel: Depends on container host Compiler: gcc (Ubuntu 13.3.0-6ubuntu2~24.04) 13.3.0 Alpine Kernel: Depends on container host Compiler: gcc (Alpine 14.2.0) 14.2.0 FreeBSD 13.4 Kernel: 13.4-RELEASE-p1 Compiler: clang 18.1.6 FreeBSD 14.2 Kernel: 14.2-RELEASE Compiler: clang 18.1.6 Windows Server 2022 Kernel: 10.0.20348.2031 Compiler: clang 15.0.7, gcc 14.1.0 (MinGW), and MSVC VS 19.39.33521 To view detailed results, visit: https://lab.dpdk.org/results/dashboard/patchsets/32200/ UNH-IOL DPDK Community Lab To manage your email subscriptions, visit: https://lab.dpdk.org/results/dashboard/preferences/subscriptions/