From mboxrd@z Thu Jan 1 00:00:00 1970 Return-Path: Received: from mails.dpdk.org (mails.dpdk.org [217.70.189.124]) by inbox.dpdk.org (Postfix) with ESMTP id 2A5BA461BE for ; Fri, 7 Feb 2025 19:16:18 +0100 (CET) Received: from mails.dpdk.org (localhost [127.0.0.1]) by mails.dpdk.org (Postfix) with ESMTP id 1D69642ED5; Fri, 7 Feb 2025 19:16:18 +0100 (CET) Received: from mail-il1-f228.google.com (mail-il1-f228.google.com [209.85.166.228]) by mails.dpdk.org (Postfix) with ESMTP id C0BEB42E90 for ; Fri, 7 Feb 2025 19:16:16 +0100 (CET) Received: by mail-il1-f228.google.com with SMTP id e9e14a558f8ab-3d04d655fefso20076435ab.3 for ; Fri, 07 Feb 2025 10:16:16 -0800 (PST) DKIM-Signature: v=1; a=rsa-sha256; c=relaxed/relaxed; d=iol.unh.edu; s=unh-iol; t=1738952176; x=1739556976; darn=dpdk.org; h=cc:to:from:subject:message-id:date:from:to:cc:subject:date :message-id:reply-to; bh=X2zjVulddTlO4ZS8dR0B0/aGKGReslrcoHGh2yKQOIY=; b=bE3mgtXik/wfPKrScpQwNNuKwf4tZ7VK0Cdg71g29X/4z7TeS5V7ZUsBT8HCDq6Cvf B48RqefvVaPHn7w2/mG5msdIdqXeWGoWWT/4FNdDJr8OMMZlpNrsN1AatCccoPQGKNYx wMZUnjpQ5S1VkMBPv+FrMG3FHkJPd+byjstyY= X-Google-DKIM-Signature: v=1; a=rsa-sha256; c=relaxed/relaxed; d=1e100.net; s=20230601; t=1738952176; x=1739556976; h=cc:to:from:subject:message-id:date:x-gm-message-state:from:to:cc :subject:date:message-id:reply-to; bh=X2zjVulddTlO4ZS8dR0B0/aGKGReslrcoHGh2yKQOIY=; b=TvIOkb6rsuxhgfLnNpJvb+RxISxSsU0z6s/4aL33vf3K6K5C3lvz9Mk8gCs75raSIx ePuWt0lQfa7ev3ASjYw8BaP4AYbZsfcMc0MYoMXK9CCndAYS0nhWABAK9n29OYYwcF4i uwpOB3tP8FEGsrPcDoM9RP8ZRxA+l+VDoWdiI8ayQygx41G3+LEUa+YqzkQuNwoa0tRQ qe00QMbQnugNt4yhXb955iwbRAaeLDU7JBP6hJwvXymAv6XkQvMblDmX6aWaVLzOQinS oeYihLJmBUbPNVtGdMSvIQxutWHwZ+6sbkBQ7j8FAzBHmaXSjY2g8BDV/wX7s8C2S2Cm ckgA== X-Gm-Message-State: AOJu0YySzgDBjX0szpQ3LD4BDx9Xp6C9PumxCqWhw2l5z0w3mrUShWCd DuepyuV8vj6i7e5EdwFAzLz0x3tx7fFGafeuxDIAVXAdjwU7HyUYbRVf1yhY5GQ8MRHAihrl1Ru pY1wf4SOm1brSCmmL+D5TWPhhd8k7ety/EeOnLzoK X-Gm-Gg: ASbGncsaTumFA0+V90DTYfiGtD4pYXMIfvzXTMtZo8igvi+T1qXHQ06izYcU04Y5whp dmnJsyFffhR5Sdgkzghete9yVaSDt/qlRshVx3gz7R3wtEgpLDvSbh85DQQctWxcSTFPokNMAoR BF/Ro7LANMauLeCBkE0XZioQSXG4YXoPBnb8+nDLIdxgq0vtHcogTTlaAI0kIGwYOMjttN8rWcD sV9b8nQJNg7FU9sx8mQMqQX9BgK4r4Thdt9kL8uHTGnY6SN6vdNG/iuDa8+9tHY0cHOk7Ugw2jA dnp5SPwgdT07ey1LORToFBxokTmsDA== X-Google-Smtp-Source: AGHT+IGwkTTgi8T3Rx6Jn2a5dPlzjhfVKanEr21Yco7Bu1/El4OKmwP/imHhyRJQXYS1f7TMSjS8Yo2ssfe9 X-Received: by 2002:a05:6e02:2162:b0:3d0:1932:768c with SMTP id e9e14a558f8ab-3d13dd78298mr28321685ab.13.1738952176084; Fri, 07 Feb 2025 10:16:16 -0800 (PST) Received: from postal.iol.unh.edu (postal.iol.unh.edu. [132.177.123.84]) by smtp-relay.gmail.com with ESMTPS id e9e14a558f8ab-3d05ea20b68sm2661305ab.65.2025.02.07.10.16.16 (version=TLS1_2 cipher=ECDHE-ECDSA-AES128-GCM-SHA256 bits=128/128); Fri, 07 Feb 2025 10:16:16 -0800 (PST) X-Relaying-Domain: iol.unh.edu Date: Fri, 07 Feb 2025 10:16:16 -0800 (PST) Message-ID: <67a64df0.050a0220.1229ef.e101SMTPIN_ADDED_MISSING@mx.google.com> Received: from [172.21.0.10] (unknown [172.18.0.240]) by postal.iol.unh.edu (Postfix) with ESMTP id 85BC16052471; Fri, 7 Feb 2025 13:16:15 -0500 (EST) Subject: |SUCCESS| [GIT MASTER] e145d919d60b440c649abe6fd0d55c42357330f1 From: dpdklab@iol.unh.edu To: Test Report Cc: dpdk-test-reports@iol.unh.edu, Bruce Richardson Content-Type: text/plain X-BeenThere: test-report@dpdk.org X-Mailman-Version: 2.1.29 Precedence: list List-Id: automatic DPDK test reports List-Unsubscribe: , List-Archive: List-Post: List-Help: List-Subscribe: , Errors-To: test-report-bounces@dpdk.org _Testing PASS_ Branch: dpdk-next-net-intel e145d919d60b440c649abe6fd0d55c42357330f1 --> testing pass Upstream job id: Generic-Unit-Test-DPDK#312796 Test environment and result as below: +---------------------+----------------+ | Environment | dpdk_unit_test | +=====================+================+ | CentOS Stream 9 | PASS | +---------------------+----------------+ | Debian Bullseye | PASS | +---------------------+----------------+ | Fedora 40 | PASS | +---------------------+----------------+ | Fedora 40 (Clang) | PASS | +---------------------+----------------+ | Fedora 41 | PASS | +---------------------+----------------+ | Debian 12 | PASS | +---------------------+----------------+ | Fedora 41 (Clang) | PASS | +---------------------+----------------+ | RHEL9 | PASS | +---------------------+----------------+ | RHEL8 | PASS | +---------------------+----------------+ | Ubuntu 20.04 | PASS | +---------------------+----------------+ | Ubuntu 24.04 | PASS | +---------------------+----------------+ | Ubuntu 22.04 | PASS | +---------------------+----------------+ | Windows Server 2022 | PASS | +---------------------+----------------+ CentOS Stream 9 Kernel: Depends on container host Compiler: gcc 11.5.0 20240719 (Red Hat 11.5.0-2) Debian Bullseye Kernel: Depends on container host Compiler: gcc (Debian 10.2.1-6) 10.2.1 20210110 Fedora 40 Kernel: Depends on container host Compiler: gcc 14.2.1 20240912 (Red Hat 14.2.1-3) Fedora 40 (Clang) Kernel: Depends on container host Compiler: clang 18.1.8 (Fedora 18.1.8-1.fc40) Fedora 41 Kernel: Depends on container host Compiler: gcc 14.2.1 20240912 (Red Hat 14.2.1-3) Debian 12 Kernel: Depends on container host Compiler: gcc (Debian 12.2.0-14) 12.2.0 Fedora 41 (Clang) Kernel: Depends on container host Compiler: clang 19.1.5 (Fedora 19.1.5-1.fc41) RHEL9 Kernel: Depends on container host Compiler: gcc 11.5.0 20240719 (Red Hat 11.5.0-2) RHEL8 Kernel: Depends on container host Compiler: gcc 8.5.0 20210514 (Red Hat 8.5.0-22) Ubuntu 20.04 Kernel: Depends on container host Compiler: gcc (Ubuntu 9.4.0-1ubuntu1~20.04.2) 9.4.0 Ubuntu 24.04 Kernel: Depends on container host Compiler: gcc (Ubuntu 13.3.0-6ubuntu2~24.04) 13.3.0 Ubuntu 22.04 Kernel: Depends on container host Compiler: gcc (Ubuntu 11.4.0-1ubuntu1~22.04) 11.4.0 Windows Server 2022 Kernel: 10.0.20348.2031 Compiler: clang 15.0.7, gcc 14.1.0 (MinGW), and MSVC VS 19.39.33521 To view detailed results, visit: https://lab.dpdk.org/results/dashboard/tarballs/32489/ UNH-IOL DPDK Community Lab To manage your email subscriptions, visit: https://lab.dpdk.org/results/dashboard/preferences/subscriptions/