From mboxrd@z Thu Jan 1 00:00:00 1970 Return-Path: Received: from mails.dpdk.org (mails.dpdk.org [217.70.189.124]) by inbox.dpdk.org (Postfix) with ESMTP id 6CC00461BE for ; Fri, 7 Feb 2025 19:17:53 +0100 (CET) Received: from mails.dpdk.org (localhost [127.0.0.1]) by mails.dpdk.org (Postfix) with ESMTP id 69FAD42ED5; Fri, 7 Feb 2025 19:17:53 +0100 (CET) Received: from mail-io1-f99.google.com (mail-io1-f99.google.com [209.85.166.99]) by mails.dpdk.org (Postfix) with ESMTP id 6288B42E90 for ; Fri, 7 Feb 2025 19:17:52 +0100 (CET) Received: by mail-io1-f99.google.com with SMTP id ca18e2360f4ac-844e39439abso65112039f.1 for ; Fri, 07 Feb 2025 10:17:52 -0800 (PST) DKIM-Signature: v=1; a=rsa-sha256; c=relaxed/relaxed; d=iol.unh.edu; s=unh-iol; t=1738952272; x=1739557072; darn=dpdk.org; h=references:in-reply-to:cc:to:from:subject:message-id:date:from:to :cc:subject:date:message-id:reply-to; bh=eQ71z3LLOYRELDgQbpsfHLTuLoRZ5AjJZN4TX6LJGLA=; b=M6AQF4zcWUM863420HvCqCoGxFiPBxUsupBtcB7JlALicVOYotYa3eTtv5/0An6wWp 6Qzs2yZXMX2JIv7SzzqwtwPpn+QgWul0kbvzmCilcQYKKvlEJm7xgJMUSpUYAzE9v8Bp HcMDwCxWFSd9Y+WZ4+yj6xxWpD0s7bimlIocE= X-Google-DKIM-Signature: v=1; a=rsa-sha256; c=relaxed/relaxed; d=1e100.net; s=20230601; t=1738952272; x=1739557072; h=references:in-reply-to:cc:to:from:subject:message-id:date :x-gm-message-state:from:to:cc:subject:date:message-id:reply-to; bh=eQ71z3LLOYRELDgQbpsfHLTuLoRZ5AjJZN4TX6LJGLA=; b=ud9Gbq0gTYmiQm1i4RbWdpd/z/Ot6KI5XqBgZShnDSvi1FmNWgRHRhEecAnmrsDfQx N2asoBMnhyPnp7pzbmTf/bc7NthKI6g3siFRDpoKh6WzxT9sA1rUjkDixEMn9cVV91s+ /ZcPPBwzd155SyM+TIWs83ANq/ylidUFWbKZAa5JknWLREY7AwsgfrWWTiW7LP3/0j0P r65CvyekGMEf7ZxvZUHYKbZtAsun1RcoeZigxnjKhTY2z5adaGTQza1c24cE55BAhwjk honmhfU+i0vWZhORr/xtDprEAlcW9QTxoAoCLAAZYWfodPySsc7EeeN5Q6njSVEgIqye HZTQ== X-Gm-Message-State: AOJu0YwhY1YYdw4TRjVlQWe1R7rBWjJo696xpyvByiS6P193yUqFeGi0 XuthXQgljyO8SFrehEFKy/YMPE4QcLnhgeO3rYqrHRY1+bmUMRzzCjAh29XEOHUV2wyTjNiA1zP Q3vteClS5n+hg+LjPIxv9owCcu2M21C9Sf5p5W24m X-Gm-Gg: ASbGncvVLGEV0b7jCega/MpkDeC8/sxoxuL86bYwC9cAUSyQSyFGj5KryHVjpfhwXh1 1RHPvD7+eXFBYwCbdvmlYRxYrbMEUjxb5THWoBqq7s+gsCrWY85Mck8sWCVJ2TkeHDOe1Iy4PsS xTlWpzbLYBBomO5bHX/VkbXQtX73Dr7gdxlU+potkOUAMLYya8BXQLlw1STtMYakmp22TG8Yt28 87kHx7vTmsgCZJsC+NS0DF/1fOcxMZFMYq8cbpFtmrLEao5J/1ibrrejZKUSm571uVK7tf3q/1z Ik3sCAXzSuJOmSuMt707IchePTLt5A== X-Google-Smtp-Source: AGHT+IER2pg503MfgRyWp84RJr262sKMAbLSYIXwqZdW8Y9ZwrxEqlxgN+NYx71tx1JAt0H6WU9ktdsI166L X-Received: by 2002:a05:6602:4008:b0:851:f176:9827 with SMTP id ca18e2360f4ac-854fd89ba0bmr496857639f.5.1738952271742; Fri, 07 Feb 2025 10:17:51 -0800 (PST) Received: from postal.iol.unh.edu (postal.iol.unh.edu. [132.177.123.84]) by smtp-relay.gmail.com with ESMTPS id 8926c6da1cb9f-4eccfaf728dsm246778173.73.2025.02.07.10.17.51 (version=TLS1_2 cipher=ECDHE-ECDSA-AES128-GCM-SHA256 bits=128/128); Fri, 07 Feb 2025 10:17:51 -0800 (PST) X-Relaying-Domain: iol.unh.edu Date: Fri, 07 Feb 2025 10:17:51 -0800 (PST) Message-ID: <67a64e4f.050a0220.107578.dc2bSMTPIN_ADDED_MISSING@mx.google.com> Received: from [172.21.0.8] (unknown [172.18.0.240]) by postal.iol.unh.edu (Postfix) with ESMTP id 4075A6052471; Fri, 7 Feb 2025 13:17:51 -0500 (EST) Subject: |WARNING| pw149394-149406 [PATCH] [v5,15/15] net/zxdh: mtu update op From: dpdklab@iol.unh.edu To: Test Report Cc: dpdk-test-reports@iol.unh.edu In-Reply-To: <20241223110249.1483277-16-wang.junlong1@zte.com.cn> References: <20241223110249.1483277-16-wang.junlong1@zte.com.cn> Content-Type: text/plain X-BeenThere: test-report@dpdk.org X-Mailman-Version: 2.1.29 Precedence: list List-Id: automatic DPDK test reports List-Unsubscribe: , List-Archive: List-Post: List-Help: List-Subscribe: , Errors-To: test-report-bounces@dpdk.org Test-Label: iol-compile-amd64-testing Test-Status: WARNING http://dpdk.org/patch/149406 _Testing issues_ Submitter: Junlong Wang Date: Monday, December 23 2024 11:02:49 DPDK git baseline: Repo:dpdk Branch: master CommitID:94ad302b4ebba4a5b6706a1c43ea0505e5098169 149394-149406 --> testing issues Test environment and result as below: +---------------------+--------------------+------------------+-------------------+-------------------+-------------------------+----------------------+ | Environment | dpdk_meson_compile | dpdk_compile_ovs | dpdk_compile_spdk | dpdk_msvc_compile | dpdk_llvm_clang_compile | dpdk_mingw64_compile | +=====================+====================+==================+===================+===================+=========================+======================+ | CentOS Stream 9 | PASS | PASS | PASS | SKIPPED | SKIPPED | SKIPPED | +---------------------+--------------------+------------------+-------------------+-------------------+-------------------------+----------------------+ | Debian Bullseye | PASS | PASS | PASS | SKIPPED | SKIPPED | SKIPPED | +---------------------+--------------------+------------------+-------------------+-------------------+-------------------------+----------------------+ | Debian 12 | PASS | PASS | PASS | SKIPPED | SKIPPED | SKIPPED | +---------------------+--------------------+------------------+-------------------+-------------------+-------------------------+----------------------+ | Fedora 39 (Clang) | PASS | PASS | PASS | SKIPPED | SKIPPED | SKIPPED | +---------------------+--------------------+------------------+-------------------+-------------------+-------------------------+----------------------+ | Fedora 40 (Clang) | PASS | PASS | PASS | SKIPPED | SKIPPED | SKIPPED | +---------------------+--------------------+------------------+-------------------+-------------------+-------------------------+----------------------+ | RHEL8 | PASS | PASS | SKIPPED | SKIPPED | SKIPPED | SKIPPED | +---------------------+--------------------+------------------+-------------------+-------------------+-------------------------+----------------------+ | openSUSE Leap 15 | PASS | WARN | SKIPPED | SKIPPED | SKIPPED | SKIPPED | +---------------------+--------------------+------------------+-------------------+-------------------+-------------------------+----------------------+ | Fedora 40 | PASS | PASS | PASS | SKIPPED | SKIPPED | SKIPPED | +---------------------+--------------------+------------------+-------------------+-------------------+-------------------------+----------------------+ | Ubuntu 20.04 | PASS | SKIPPED | SKIPPED | SKIPPED | SKIPPED | SKIPPED | +---------------------+--------------------+------------------+-------------------+-------------------+-------------------------+----------------------+ | Ubuntu 22.04 | PASS | PASS | PASS | SKIPPED | SKIPPED | SKIPPED | +---------------------+--------------------+------------------+-------------------+-------------------+-------------------------+----------------------+ | RHEL9 | PASS | PASS | SKIPPED | SKIPPED | SKIPPED | SKIPPED | +---------------------+--------------------+------------------+-------------------+-------------------+-------------------------+----------------------+ | Ubuntu 24.04 | PASS | PASS | PASS | SKIPPED | SKIPPED | SKIPPED | +---------------------+--------------------+------------------+-------------------+-------------------+-------------------------+----------------------+ | Alpine | PASS | PASS | SKIPPED | SKIPPED | SKIPPED | SKIPPED | +---------------------+--------------------+------------------+-------------------+-------------------+-------------------------+----------------------+ | FreeBSD 13.4 | PASS | SKIPPED | SKIPPED | SKIPPED | SKIPPED | SKIPPED | +---------------------+--------------------+------------------+-------------------+-------------------+-------------------------+----------------------+ | FreeBSD 14.2 | PASS | SKIPPED | SKIPPED | SKIPPED | SKIPPED | SKIPPED | +---------------------+--------------------+------------------+-------------------+-------------------+-------------------------+----------------------+ | Fedora 39 | PASS | PASS | PASS | SKIPPED | SKIPPED | SKIPPED | +---------------------+--------------------+------------------+-------------------+-------------------+-------------------------+----------------------+ | Windows Server 2022 | SKIPPED | SKIPPED | SKIPPED | PASS | PASS | PASS | +---------------------+--------------------+------------------+-------------------+-------------------+-------------------------+----------------------+ ==== 20 line log output for openSUSE Leap 15 (dpdk_compile_ovs): ==== --- Failed to get log output --- ==== End log output ==== CentOS Stream 9 Kernel: Depends on container host Compiler: gcc 11.5.0 20240719 (Red Hat 11.5.0-2) Debian Bullseye Kernel: Depends on container host Compiler: gcc (Debian 10.2.1-6) 10.2.1 20210110 Debian 12 Kernel: Depends on container host Compiler: gcc (Debian 12.2.0-14) 12.2.0 Fedora 39 (Clang) Kernel: Depends on container host Compiler: clang 17.0.6 (Fedora 17.0.6-2.fc39) Fedora 40 (Clang) Kernel: Depends on container host Compiler: clang 18.1.8 (Fedora 18.1.8-1.fc40) RHEL8 Kernel: Depends on container host Compiler: gcc 8.5.0 20210514 (Red Hat 8.5.0-22) openSUSE Leap 15 Kernel: Depends on container host Compiler: gcc (SUSE Linux) 7.5.0 Fedora 40 Kernel: Depends on container host Compiler: gcc 14.2.1 20240912 (Red Hat 14.2.1-3) Ubuntu 20.04 Kernel: Depends on container host Compiler: gcc (Ubuntu 9.4.0-1ubuntu1~20.04.2) 9.4.0 Ubuntu 22.04 Kernel: Depends on container host Compiler: gcc (Ubuntu 11.4.0-1ubuntu1~22.04) 11.4.0 RHEL9 Kernel: Depends on container host Compiler: gcc 11.5.0 20240719 (Red Hat 11.5.0-2) Ubuntu 24.04 Kernel: Depends on container host Compiler: gcc (Ubuntu 13.3.0-6ubuntu2~24.04) 13.3.0 Alpine Kernel: Depends on container host Compiler: gcc (Alpine 14.2.0) 14.2.0 FreeBSD 13.4 Kernel: 13.4-RELEASE-p1 Compiler: clang 18.1.6 FreeBSD 14.2 Kernel: 14.2-RELEASE Compiler: clang 18.1.6 Fedora 39 Kernel: Depends on container host Compiler: gcc 13.3.1 20240522 (Red Hat 13.3.1-1) Windows Server 2022 Kernel: 10.0.20348.2031 Compiler: clang 15.0.7, gcc 14.1.0 (MinGW), and MSVC VS 19.39.33521 To view detailed results, visit: https://lab.dpdk.org/results/dashboard/patchsets/32195/ UNH-IOL DPDK Community Lab To manage your email subscriptions, visit: https://lab.dpdk.org/results/dashboard/preferences/subscriptions/