From mboxrd@z Thu Jan 1 00:00:00 1970 Return-Path: Received: from mails.dpdk.org (mails.dpdk.org [217.70.189.124]) by inbox.dpdk.org (Postfix) with ESMTP id 8D7D9461BE for ; Fri, 7 Feb 2025 19:17:59 +0100 (CET) Received: from mails.dpdk.org (localhost [127.0.0.1]) by mails.dpdk.org (Postfix) with ESMTP id 8ABB342ED5; Fri, 7 Feb 2025 19:17:59 +0100 (CET) Received: from mail-qt1-f225.google.com (mail-qt1-f225.google.com [209.85.160.225]) by mails.dpdk.org (Postfix) with ESMTP id C360342EE1 for ; Fri, 7 Feb 2025 19:17:56 +0100 (CET) Received: by mail-qt1-f225.google.com with SMTP id d75a77b69052e-4678cce3d60so23210361cf.2 for ; Fri, 07 Feb 2025 10:17:56 -0800 (PST) DKIM-Signature: v=1; a=rsa-sha256; c=relaxed/relaxed; d=iol.unh.edu; s=unh-iol; t=1738952276; x=1739557076; darn=dpdk.org; h=references:in-reply-to:cc:to:from:subject:message-id:date:from:to :cc:subject:date:message-id:reply-to; bh=8yJFeu7MGPOqfpMcUiDHZO15aG/3tGIRF8/WLEK1Ecg=; b=iYu2f+7221oUSa+2gBoTVjhpyRuqVZWMT3GDm/1f4wBY4D1i27PwrdrewrEkF3lAoB C5zSUrObvE0hPV83O2phdgsmvISux1M6F13NUGqr+3+yMxKOF3chv007CNRgHd8DvFV1 v99v9U/wdxVBJOAT8HrpazmmLtZuiySJ1C9S0= X-Google-DKIM-Signature: v=1; a=rsa-sha256; c=relaxed/relaxed; d=1e100.net; s=20230601; t=1738952276; x=1739557076; h=references:in-reply-to:cc:to:from:subject:message-id:date :x-gm-message-state:from:to:cc:subject:date:message-id:reply-to; bh=8yJFeu7MGPOqfpMcUiDHZO15aG/3tGIRF8/WLEK1Ecg=; b=REOKfSgKsZPfubFEWsdv+JCxCxEd8SUbN8W7uNachU4wIOJo0f//IJHQrnp+Yr1TPP NH26GtjAu4KPOjnqPFQchlwpnq2yezyH6bAeERnFSqv/EQ0Pikz0n8Zd/yS62wAXMSe3 ZcJcBIU0VpzEK7C1uuLy6gz6j6kAJ2sA1aoLN6ZuH++uqZq9sM1cEvdvnYIfbhhlHWHo GjAJH0UKy8MtkFPWlSaUGVYl3nvXTbphQavV4eq/5C520qGSjQVvEkbrbva4VSn/WgjK AqrbvmWzvIWnweY4kRAIaQe6sIYHU5S5NBcKge1MwtcxvDiPMBZ1Yeks6cdRr4LyrFtk Vn/A== X-Gm-Message-State: AOJu0YxVdrF5VnJD+64AIlTGkuGzZgCMmcFoHYb0qZSmk1ozFFWQmowq XAe2BxKJ6LLq5oo9aJiDNy3zlqNG2a1XMAnFke8WtUBbUUcuKfG7Pk9saXOoEeHuRSkWDZAMvx7 N31nK12sNwS0osrdc2gx8paoBahO7t/ipSf+uSmCo X-Gm-Gg: ASbGncsmgErmJ1iH7gpbPcU7/9SDlY9rSC5n6vdt46vpzJl/BdkgZ7XZEJJeIZU2c6a QcCpD16N7s/8AXoesuqPIfg4LE1ayUYq0adP3T2JIh2c0V1JIPMXBgnk/VQn9OZFCcqSS3fN8kr E5YGLRIEWqTHh/zrIhVFl7YTHFXClc9ZrDXi7ld9/ehGC5SC9tCPWaq0etoowYAGxuVAu6T1a+n WifHEA5dtD25XcxUQkbScTtH8q9GQsFSUX1bsPSqlYokgEv7x2XQ8vmY/KEYYnOlFYIN1q3lO0F VPsIqy1ZqxE1bLGPcAH1YLtDO/ai5A== X-Google-Smtp-Source: AGHT+IFeMr9n0fjs77DspIuJh9K8iCGXe+xVNBHnuTQyrXEjmwpWc30qU/qXc59iTZQZwfdr9F6Ep8+Y5WD7 X-Received: by 2002:a05:622a:428f:b0:467:6eda:dfc8 with SMTP id d75a77b69052e-47167b1859dmr74810251cf.46.1738952276092; Fri, 07 Feb 2025 10:17:56 -0800 (PST) Received: from postal.iol.unh.edu (postal.iol.unh.edu. [132.177.123.84]) by smtp-relay.gmail.com with ESMTPS id d75a77b69052e-471492764a2sm1964671cf.3.2025.02.07.10.17.56 (version=TLS1_2 cipher=ECDHE-ECDSA-AES128-GCM-SHA256 bits=128/128); Fri, 07 Feb 2025 10:17:56 -0800 (PST) X-Relaying-Domain: iol.unh.edu Date: Fri, 07 Feb 2025 10:17:56 -0800 (PST) Message-ID: <67a64e54.050a0220.3732d6.a33fSMTPIN_ADDED_MISSING@mx.google.com> Received: from [172.21.0.7] (unknown [172.18.0.240]) by postal.iol.unh.edu (Postfix) with ESMTP id C85876052471; Fri, 7 Feb 2025 13:17:55 -0500 (EST) Subject: |WARNING| pw149385 [PATCH] [v3] app/test-flow-perf: support testing From: dpdklab@iol.unh.edu To: Test Report Cc: dpdk-test-reports@iol.unh.edu In-Reply-To: <20241223091600.53160-1-sunyang.wu@jaguarmicro.com> References: <20241223091600.53160-1-sunyang.wu@jaguarmicro.com> Content-Type: text/plain X-BeenThere: test-report@dpdk.org X-Mailman-Version: 2.1.29 Precedence: list List-Id: automatic DPDK test reports List-Unsubscribe: , List-Archive: List-Post: List-Help: List-Subscribe: , Errors-To: test-report-bounces@dpdk.org Test-Label: iol-compile-amd64-testing Test-Status: WARNING http://dpdk.org/patch/149385 _Testing issues_ Submitter: Sunyang Wu Date: Monday, December 23 2024 09:16:00 DPDK git baseline: Repo:dpdk Branch: master CommitID:fd51012de5369679e807be1d6a81d63ef15015ce 149385 --> testing issues Test environment and result as below: +---------------------+--------------------+------------------+-------------------+-------------------+-------------------------+----------------------+ | Environment | dpdk_meson_compile | dpdk_compile_ovs | dpdk_compile_spdk | dpdk_msvc_compile | dpdk_llvm_clang_compile | dpdk_mingw64_compile | +=====================+====================+==================+===================+===================+=========================+======================+ | Debian Bullseye | PASS | PASS | PASS | SKIPPED | SKIPPED | SKIPPED | +---------------------+--------------------+------------------+-------------------+-------------------+-------------------------+----------------------+ | CentOS Stream 9 | PASS | PASS | PASS | SKIPPED | SKIPPED | SKIPPED | +---------------------+--------------------+------------------+-------------------+-------------------+-------------------------+----------------------+ | Fedora 39 (Clang) | PASS | PASS | PASS | SKIPPED | SKIPPED | SKIPPED | +---------------------+--------------------+------------------+-------------------+-------------------+-------------------------+----------------------+ | Fedora 39 | PASS | PASS | PASS | SKIPPED | SKIPPED | SKIPPED | +---------------------+--------------------+------------------+-------------------+-------------------+-------------------------+----------------------+ | Debian 12 | PASS | PASS | PASS | SKIPPED | SKIPPED | SKIPPED | +---------------------+--------------------+------------------+-------------------+-------------------+-------------------------+----------------------+ | Ubuntu 20.04 | PASS | SKIPPED | SKIPPED | SKIPPED | SKIPPED | SKIPPED | +---------------------+--------------------+------------------+-------------------+-------------------+-------------------------+----------------------+ | Ubuntu 22.04 | PASS | PASS | PASS | SKIPPED | SKIPPED | SKIPPED | +---------------------+--------------------+------------------+-------------------+-------------------+-------------------------+----------------------+ | openSUSE Leap 15 | PASS | WARN | SKIPPED | SKIPPED | SKIPPED | SKIPPED | +---------------------+--------------------+------------------+-------------------+-------------------+-------------------------+----------------------+ | RHEL8 | PASS | PASS | SKIPPED | SKIPPED | SKIPPED | SKIPPED | +---------------------+--------------------+------------------+-------------------+-------------------+-------------------------+----------------------+ | Fedora 40 | PASS | PASS | PASS | SKIPPED | SKIPPED | SKIPPED | +---------------------+--------------------+------------------+-------------------+-------------------+-------------------------+----------------------+ | Fedora 40 (Clang) | PASS | PASS | PASS | SKIPPED | SKIPPED | SKIPPED | +---------------------+--------------------+------------------+-------------------+-------------------+-------------------------+----------------------+ | RHEL9 | PASS | PASS | SKIPPED | SKIPPED | SKIPPED | SKIPPED | +---------------------+--------------------+------------------+-------------------+-------------------+-------------------------+----------------------+ | Ubuntu 24.04 | PASS | PASS | PASS | SKIPPED | SKIPPED | SKIPPED | +---------------------+--------------------+------------------+-------------------+-------------------+-------------------------+----------------------+ | Alpine | PASS | PASS | SKIPPED | SKIPPED | SKIPPED | SKIPPED | +---------------------+--------------------+------------------+-------------------+-------------------+-------------------------+----------------------+ | FreeBSD 13.4 | PASS | SKIPPED | SKIPPED | SKIPPED | SKIPPED | SKIPPED | +---------------------+--------------------+------------------+-------------------+-------------------+-------------------------+----------------------+ | FreeBSD 14.2 | PASS | SKIPPED | SKIPPED | SKIPPED | SKIPPED | SKIPPED | +---------------------+--------------------+------------------+-------------------+-------------------+-------------------------+----------------------+ | Windows Server 2022 | SKIPPED | SKIPPED | SKIPPED | PASS | PASS | PASS | +---------------------+--------------------+------------------+-------------------+-------------------+-------------------------+----------------------+ ==== 20 line log output for openSUSE Leap 15 (dpdk_compile_ovs): ==== --- Failed to get log output --- ==== End log output ==== Debian Bullseye Kernel: Depends on container host Compiler: gcc (Debian 10.2.1-6) 10.2.1 20210110 CentOS Stream 9 Kernel: Depends on container host Compiler: gcc 11.5.0 20240719 (Red Hat 11.5.0-2) Fedora 39 (Clang) Kernel: Depends on container host Compiler: clang 17.0.6 (Fedora 17.0.6-2.fc39) Fedora 39 Kernel: Depends on container host Compiler: gcc 13.3.1 20240522 (Red Hat 13.3.1-1) Debian 12 Kernel: Depends on container host Compiler: gcc (Debian 12.2.0-14) 12.2.0 Ubuntu 20.04 Kernel: Depends on container host Compiler: gcc (Ubuntu 9.4.0-1ubuntu1~20.04.2) 9.4.0 Ubuntu 22.04 Kernel: Depends on container host Compiler: gcc (Ubuntu 11.4.0-1ubuntu1~22.04) 11.4.0 openSUSE Leap 15 Kernel: Depends on container host Compiler: gcc (SUSE Linux) 7.5.0 RHEL8 Kernel: Depends on container host Compiler: gcc 8.5.0 20210514 (Red Hat 8.5.0-22) Fedora 40 Kernel: Depends on container host Compiler: gcc 14.2.1 20240912 (Red Hat 14.2.1-3) Fedora 40 (Clang) Kernel: Depends on container host Compiler: clang 18.1.8 (Fedora 18.1.8-1.fc40) RHEL9 Kernel: Depends on container host Compiler: gcc 11.5.0 20240719 (Red Hat 11.5.0-2) Ubuntu 24.04 Kernel: Depends on container host Compiler: gcc (Ubuntu 13.3.0-6ubuntu2~24.04) 13.3.0 Alpine Kernel: Depends on container host Compiler: gcc (Alpine 14.2.0) 14.2.0 FreeBSD 13.4 Kernel: 13.4-RELEASE-p1 Compiler: clang 18.1.6 FreeBSD 14.2 Kernel: 14.2-RELEASE Compiler: clang 18.1.6 Windows Server 2022 Kernel: 10.0.20348.2031 Compiler: clang 15.0.7, gcc 14.1.0 (MinGW), and MSVC VS 19.39.33521 To view detailed results, visit: https://lab.dpdk.org/results/dashboard/patchsets/32193/ UNH-IOL DPDK Community Lab To manage your email subscriptions, visit: https://lab.dpdk.org/results/dashboard/preferences/subscriptions/