From mboxrd@z Thu Jan 1 00:00:00 1970 Return-Path: Received: from mails.dpdk.org (mails.dpdk.org [217.70.189.124]) by inbox.dpdk.org (Postfix) with ESMTP id B3774461BE for ; Fri, 7 Feb 2025 19:18:33 +0100 (CET) Received: from mails.dpdk.org (localhost [127.0.0.1]) by mails.dpdk.org (Postfix) with ESMTP id ADB9842ED5; Fri, 7 Feb 2025 19:18:33 +0100 (CET) Received: from mail-pj1-f99.google.com (mail-pj1-f99.google.com [209.85.216.99]) by mails.dpdk.org (Postfix) with ESMTP id 8E59042E90 for ; Fri, 7 Feb 2025 19:18:32 +0100 (CET) Received: by mail-pj1-f99.google.com with SMTP id 98e67ed59e1d1-2fa3fe04dd2so316308a91.0 for ; Fri, 07 Feb 2025 10:18:32 -0800 (PST) DKIM-Signature: v=1; a=rsa-sha256; c=relaxed/relaxed; d=iol.unh.edu; s=unh-iol; t=1738952312; x=1739557112; darn=dpdk.org; h=references:in-reply-to:cc:to:from:subject:message-id:date:from:to :cc:subject:date:message-id:reply-to; bh=fdZJqnBKXK+TGw7L0vaVYbO9djsZ6dPT5y13kAzcsJc=; b=UynV+wtiyK+nTacxf7rJkNQK4mbCbmcvxj/zxahOHL+hpb0iG/JPaL9J1U8FLkdV6X L9WmAuacEwnyPkexQQqOxr0QgeVbx81RQWNjzXJ+QAGAABXhpLRyFsyY8Myvl9TtdVsP 5MbbvrLzyqbhxdbBRoDhX8dUEfCxeGVDiOKJo= X-Google-DKIM-Signature: v=1; a=rsa-sha256; c=relaxed/relaxed; d=1e100.net; s=20230601; t=1738952312; x=1739557112; h=references:in-reply-to:cc:to:from:subject:message-id:date :x-gm-message-state:from:to:cc:subject:date:message-id:reply-to; bh=fdZJqnBKXK+TGw7L0vaVYbO9djsZ6dPT5y13kAzcsJc=; b=OcDk0h9SqXmQC15xBlGuCztpZdlhI9FpprJfFhmV+ZTCPRr5JV7dCc3tZ+NxH7zPsK QFv5GQVgKnLexF4A+XBAK+3iuKOC8BihAb71wy1QLWpt1cCfefm+c6eefGmi6tQt+8H/ 8VFlMkq6SNpY1jPecI3heWxpiedWi4bi8P56biAYBdv5F6NLxwGL1lShmklkQWP4ycZq oAX1XAYa4TYgPl5LlXIGSkVP96NLQ9Zpvsdxv1hGBPv+3u5LPdvnV559p8b5B0DRzHZu rSy8QLdipK8SLPxWinSKivYArBGpnQiSpJXwzZ3VfUVNjOJeofZ0Ev7GKOm6Bu5CiVjB oOBw== X-Gm-Message-State: AOJu0Yz7DcMxwNxS0ofX+AN5JnDkKgnyNUBvXqIh0nGsv3Bc5u7y7o7f OW7ElZfyKio9ixopl/P7MX5dZU4Si43kIMnDT7lPC+uHzhRJp/OfkVYbNi8aK/FR7DOr8jxomZT O24AMVr92xeJXUU+pFj/bNeriDLf1QzY1DvCV1qaP X-Gm-Gg: ASbGncuyaPXih3MNa2g/gJ+YtLkPtBR2PQ6BkJOj2DanTWz2aQ9sIPHvHmfsnOj5ikm 7f5Kyxd2S74kyN9r/r/sy89qBuoyuobsOEAjlbMftdhzPuDIE9PfuofL53A3yaOCARHPwmlkPaR UrjgB0Sjo91iaOoTOv8qQscVaKOvJQk/+xZ1TFb1xiBNnmmlCMnuIXKLjW3nF7Pexq0J0xx2kde 3RmyyhP6Yx15VTOJvnV6cf5NkN1XEHxagbhaoaXQlSi2PALskHsSjyiHQ5mR4QcySgjEvOOY4SF ygdoVktj9rGT23MqkJ6lopoFomPbvA== X-Google-Smtp-Source: AGHT+IFPauHcVI8buyeVBIVG6mxZHY4wBf/NnOIbSugOC/us2YaBYRxQt4ROgvdCJJ8TsDPxAfcd96ttaxBK X-Received: by 2002:a17:90b:510e:b0:2ef:67c2:4030 with SMTP id 98e67ed59e1d1-2fa242e5c6amr5686680a91.27.1738952311653; Fri, 07 Feb 2025 10:18:31 -0800 (PST) Received: from postal.iol.unh.edu (postal.iol.unh.edu. [132.177.123.84]) by smtp-relay.gmail.com with ESMTPS id 98e67ed59e1d1-2fa09b610a2sm269266a91.12.2025.02.07.10.18.31 (version=TLS1_2 cipher=ECDHE-ECDSA-AES128-GCM-SHA256 bits=128/128); Fri, 07 Feb 2025 10:18:31 -0800 (PST) X-Relaying-Domain: iol.unh.edu Date: Fri, 07 Feb 2025 10:18:31 -0800 (PST) Message-ID: <67a64e77.170a0220.22cc82.e058SMTPIN_ADDED_MISSING@mx.google.com> Received: from [172.21.0.8] (unknown [172.18.0.240]) by postal.iol.unh.edu (Postfix) with ESMTP id D73096052477; Fri, 7 Feb 2025 13:18:25 -0500 (EST) Subject: |WARNING| pw149370-149380 [PATCH] [v4,11/11] {common,net}/cnxk: remo From: dpdklab@iol.unh.edu To: Test Report Cc: dpdk-test-reports@iol.unh.edu In-Reply-To: <20241222125725.1532157-12-otilibil@eurecom.fr> References: <20241222125725.1532157-12-otilibil@eurecom.fr> Content-Type: text/plain X-BeenThere: test-report@dpdk.org X-Mailman-Version: 2.1.29 Precedence: list List-Id: automatic DPDK test reports List-Unsubscribe: , List-Archive: List-Post: List-Help: List-Subscribe: , Errors-To: test-report-bounces@dpdk.org Test-Label: iol-compile-amd64-testing Test-Status: WARNING http://dpdk.org/patch/149380 _Testing issues_ Submitter: Ariel Otilibili-Anieli Date: Sunday, December 22 2024 12:49:31 DPDK git baseline: Repo:dpdk Branch: master CommitID:07604f264417959d76aa9fcb8cb0c3665f62f0d3 149370-149380 --> testing issues Test environment and result as below: +---------------------+--------------------+------------------+-------------------+-------------------------+-------------------+----------------------+ | Environment | dpdk_meson_compile | dpdk_compile_ovs | dpdk_compile_spdk | dpdk_llvm_clang_compile | dpdk_msvc_compile | dpdk_mingw64_compile | +=====================+====================+==================+===================+=========================+===================+======================+ | CentOS Stream 9 | PASS | PASS | PASS | SKIPPED | SKIPPED | SKIPPED | +---------------------+--------------------+------------------+-------------------+-------------------------+-------------------+----------------------+ | Debian Bullseye | PASS | PASS | PASS | SKIPPED | SKIPPED | SKIPPED | +---------------------+--------------------+------------------+-------------------+-------------------------+-------------------+----------------------+ | Fedora 39 | PASS | PASS | PASS | SKIPPED | SKIPPED | SKIPPED | +---------------------+--------------------+------------------+-------------------+-------------------------+-------------------+----------------------+ | Debian 12 | PASS | PASS | PASS | SKIPPED | SKIPPED | SKIPPED | +---------------------+--------------------+------------------+-------------------+-------------------------+-------------------+----------------------+ | openSUSE Leap 15 | PASS | WARN | SKIPPED | SKIPPED | SKIPPED | SKIPPED | +---------------------+--------------------+------------------+-------------------+-------------------------+-------------------+----------------------+ | Fedora 40 | PASS | PASS | PASS | SKIPPED | SKIPPED | SKIPPED | +---------------------+--------------------+------------------+-------------------+-------------------------+-------------------+----------------------+ | RHEL9 | PASS | PASS | SKIPPED | SKIPPED | SKIPPED | SKIPPED | +---------------------+--------------------+------------------+-------------------+-------------------------+-------------------+----------------------+ | RHEL8 | PASS | PASS | SKIPPED | SKIPPED | SKIPPED | SKIPPED | +---------------------+--------------------+------------------+-------------------+-------------------------+-------------------+----------------------+ | Ubuntu 20.04 | PASS | SKIPPED | SKIPPED | SKIPPED | SKIPPED | SKIPPED | +---------------------+--------------------+------------------+-------------------+-------------------------+-------------------+----------------------+ | Ubuntu 22.04 | PASS | PASS | PASS | SKIPPED | SKIPPED | SKIPPED | +---------------------+--------------------+------------------+-------------------+-------------------------+-------------------+----------------------+ | Alpine | PASS | PASS | SKIPPED | SKIPPED | SKIPPED | SKIPPED | +---------------------+--------------------+------------------+-------------------+-------------------------+-------------------+----------------------+ | FreeBSD 13.4 | PASS | SKIPPED | SKIPPED | SKIPPED | SKIPPED | SKIPPED | +---------------------+--------------------+------------------+-------------------+-------------------------+-------------------+----------------------+ | FreeBSD 14.2 | PASS | SKIPPED | SKIPPED | SKIPPED | SKIPPED | SKIPPED | +---------------------+--------------------+------------------+-------------------+-------------------------+-------------------+----------------------+ | Fedora 40 (Clang) | PASS | PASS | PASS | SKIPPED | SKIPPED | SKIPPED | +---------------------+--------------------+------------------+-------------------+-------------------------+-------------------+----------------------+ | Fedora 39 (Clang) | PASS | PASS | PASS | SKIPPED | SKIPPED | SKIPPED | +---------------------+--------------------+------------------+-------------------+-------------------------+-------------------+----------------------+ | Ubuntu 24.04 | PASS | PASS | PASS | SKIPPED | SKIPPED | SKIPPED | +---------------------+--------------------+------------------+-------------------+-------------------------+-------------------+----------------------+ | Windows Server 2022 | SKIPPED | SKIPPED | SKIPPED | PASS | PASS | PASS | +---------------------+--------------------+------------------+-------------------+-------------------------+-------------------+----------------------+ ==== 20 line log output for openSUSE Leap 15 (dpdk_compile_ovs): ==== --- Failed to get log output --- ==== End log output ==== CentOS Stream 9 Kernel: Depends on container host Compiler: gcc 11.5.0 20240719 (Red Hat 11.5.0-2) Debian Bullseye Kernel: Depends on container host Compiler: gcc (Debian 10.2.1-6) 10.2.1 20210110 Fedora 39 Kernel: Depends on container host Compiler: gcc 13.3.1 20240522 (Red Hat 13.3.1-1) Debian 12 Kernel: Depends on container host Compiler: gcc (Debian 12.2.0-14) 12.2.0 openSUSE Leap 15 Kernel: Depends on container host Compiler: gcc (SUSE Linux) 7.5.0 Fedora 40 Kernel: Depends on container host Compiler: gcc 14.2.1 20240912 (Red Hat 14.2.1-3) RHEL9 Kernel: Depends on container host Compiler: gcc 11.5.0 20240719 (Red Hat 11.5.0-2) RHEL8 Kernel: Depends on container host Compiler: gcc 8.5.0 20210514 (Red Hat 8.5.0-22) Ubuntu 20.04 Kernel: Depends on container host Compiler: gcc (Ubuntu 9.4.0-1ubuntu1~20.04.2) 9.4.0 Ubuntu 22.04 Kernel: Depends on container host Compiler: gcc (Ubuntu 11.4.0-1ubuntu1~22.04) 11.4.0 Alpine Kernel: Depends on container host Compiler: gcc (Alpine 14.2.0) 14.2.0 FreeBSD 13.4 Kernel: 13.4-RELEASE-p1 Compiler: clang 18.1.6 FreeBSD 14.2 Kernel: 14.2-RELEASE Compiler: clang 18.1.6 Fedora 40 (Clang) Kernel: Depends on container host Compiler: clang 18.1.8 (Fedora 18.1.8-1.fc40) Fedora 39 (Clang) Kernel: Depends on container host Compiler: clang 17.0.6 (Fedora 17.0.6-2.fc39) Ubuntu 24.04 Kernel: Depends on container host Compiler: gcc (Ubuntu 13.3.0-6ubuntu2~24.04) 13.3.0 Windows Server 2022 Kernel: 10.0.20348.2031 Compiler: clang 15.0.7, gcc 14.1.0 (MinGW), and MSVC VS 19.39.33521 To view detailed results, visit: https://lab.dpdk.org/results/dashboard/patchsets/32188/ UNH-IOL DPDK Community Lab To manage your email subscriptions, visit: https://lab.dpdk.org/results/dashboard/preferences/subscriptions/