From mboxrd@z Thu Jan 1 00:00:00 1970 Return-Path: Received: from mails.dpdk.org (mails.dpdk.org [217.70.189.124]) by inbox.dpdk.org (Postfix) with ESMTP id CF1A7461BE for ; Fri, 7 Feb 2025 19:18:39 +0100 (CET) Received: from mails.dpdk.org (localhost [127.0.0.1]) by mails.dpdk.org (Postfix) with ESMTP id CC3C042ED5; Fri, 7 Feb 2025 19:18:39 +0100 (CET) Received: from mail-ua1-f98.google.com (mail-ua1-f98.google.com [209.85.222.98]) by mails.dpdk.org (Postfix) with ESMTP id C244542E90 for ; Fri, 7 Feb 2025 19:18:34 +0100 (CET) Received: by mail-ua1-f98.google.com with SMTP id a1e0cc1a2514c-866f61c01e5so683844241.2 for ; Fri, 07 Feb 2025 10:18:34 -0800 (PST) DKIM-Signature: v=1; a=rsa-sha256; c=relaxed/relaxed; d=iol.unh.edu; s=unh-iol; t=1738952314; x=1739557114; darn=dpdk.org; h=references:in-reply-to:cc:to:from:subject:message-id:date:from:to :cc:subject:date:message-id:reply-to; bh=oLXXlZt9/5w6LbNZujdvM7Olx5ndn+RNYlznglb3pJk=; b=h1W09Kncr74GJo/obVOagRhsxUvU4P/AmhhoLRDVIiJp4PMwT/oX8LraD3DbfuDcOV AFnKM9/r6LlP81VMeGAYKoSXTEV3+eWsOrYLN//5Rhnttz1TIHWxgioDYfe/HmW+oFmK Vxk6LwPMv4J1pjI4+cABXU5PUG1tWTRF1diSk= X-Google-DKIM-Signature: v=1; a=rsa-sha256; c=relaxed/relaxed; d=1e100.net; s=20230601; t=1738952314; x=1739557114; h=references:in-reply-to:cc:to:from:subject:message-id:date :x-gm-message-state:from:to:cc:subject:date:message-id:reply-to; bh=oLXXlZt9/5w6LbNZujdvM7Olx5ndn+RNYlznglb3pJk=; b=iKUQvM7FiW/lzRBJNjewS/1AS9Oqhd1i1sBjH0EJ1kwmPrPsixC4PpfRmCPtdjld6s 1o0AvJndcimue6gRwU56nj9Bk5PMkOrkv5TWSlBihgpA9pTdf3U4Flb4e/s88lSL1nTh yIySD6VQjpLMDfueeZiqSoQ+C7UM9xN28fKdULBhcLytKzn4KNLzrqISftfS3FWDdU9B BZW05GlY/dImahMz2OhZhnrVba5PkIxUblz89dj57ms7vqTrwGxiQ9x+JpUa7Px7yYe0 xYYqNPIS9nygZWNlgY5FqcxnG/vg8sqYZRcbHQ++IlYcJBrg3DHUQAi9UzY5obZuUUj4 xMsg== X-Gm-Message-State: AOJu0YzZb2THl3TSv+SqRQu1vBvWrkQYLrPMaoNhm98tBYAMoFb31YXb aFXFdtOp2x5AvuXy/eQDvFN3RPz9RLzg8p5Dzb9Hvj+rdPJxAGwo9c4OqMth6zsQM2IwTUB5oRp NkgtY6vi/Bq11rTGuInb7Ivk3yO2nPP0pOpcb/c+q X-Gm-Gg: ASbGncsrlpfGMhKgrzKBvG0VYyYajoXl2PUpdpvTUcB7EezWEmx8BMLoR1zOeZLay9T yECaqdFdfxsMAQTfyMCcMQD/HE37SbCS8lyGVuBL3qb6b1wZf1w17Hhqjo3tb00vTIJsJVUKCDe Bu/FFHvYn3YA004luGNiqH6bjA1BrotuNcb27p21i7xsMBUyKllyJsZzq2Z07ujEghDejaKXydd HrzbD+m/JESO4C5picqC7Pq+N3YhtlvMW5paUnLqzQgSnJFTzsDiPq9I6/kJxwIqPMZVNCSFze9 ynKbwOG58SlyVH/tVJgc3w4hKw4IDw== X-Google-Smtp-Source: AGHT+IEjAYA+XfImlTwpdxDeuBnRUgUYVo9XclrqyeJ4jg6NAs8bCgUVWzIJ4SXiGvv+dOnE3Dil91IMQR6T X-Received: by 2002:a05:6102:2d08:b0:4a3:ab95:9637 with SMTP id ada2fe7eead31-4ba85e4148emr4580987137.12.1738952314130; Fri, 07 Feb 2025 10:18:34 -0800 (PST) Received: from postal.iol.unh.edu (postal.iol.unh.edu. [132.177.123.84]) by smtp-relay.gmail.com with ESMTPS id ada2fe7eead31-4ba7725f0edsm95386137.4.2025.02.07.10.18.34 (version=TLS1_2 cipher=ECDHE-ECDSA-AES128-GCM-SHA256 bits=128/128); Fri, 07 Feb 2025 10:18:34 -0800 (PST) X-Relaying-Domain: iol.unh.edu Date: Fri, 07 Feb 2025 10:18:34 -0800 (PST) Message-ID: <67a64e7a.670a0220.58a2f.4380SMTPIN_ADDED_MISSING@mx.google.com> Received: from [172.21.0.6] (unknown [172.18.0.240]) by postal.iol.unh.edu (Postfix) with ESMTP id BB5C96052471; Fri, 7 Feb 2025 13:18:03 -0500 (EST) Subject: |WARNING| pw149383 [PATCH] app/test-flow-perf: support testing the f From: dpdklab@iol.unh.edu To: Test Report Cc: dpdk-test-reports@iol.unh.edu In-Reply-To: <20241223083554.37784-1-sunyang.wu@jaguarmicro.com> References: <20241223083554.37784-1-sunyang.wu@jaguarmicro.com> Content-Type: text/plain X-BeenThere: test-report@dpdk.org X-Mailman-Version: 2.1.29 Precedence: list List-Id: automatic DPDK test reports List-Unsubscribe: , List-Archive: List-Post: List-Help: List-Subscribe: , Errors-To: test-report-bounces@dpdk.org Test-Label: iol-compile-amd64-testing Test-Status: WARNING http://dpdk.org/patch/149383 _Testing issues_ Submitter: Sunyang Wu Date: Monday, December 23 2024 08:35:54 DPDK git baseline: Repo:dpdk Branch: master CommitID:07604f264417959d76aa9fcb8cb0c3665f62f0d3 149383 --> testing issues Test environment and result as below: +---------------------+--------------------+------------------+-------------------+-------------------------+-------------------+----------------------+ | Environment | dpdk_meson_compile | dpdk_compile_ovs | dpdk_compile_spdk | dpdk_llvm_clang_compile | dpdk_msvc_compile | dpdk_mingw64_compile | +=====================+====================+==================+===================+=========================+===================+======================+ | CentOS Stream 9 | PASS | PASS | PASS | SKIPPED | SKIPPED | SKIPPED | +---------------------+--------------------+------------------+-------------------+-------------------------+-------------------+----------------------+ | Debian 12 | PASS | PASS | PASS | SKIPPED | SKIPPED | SKIPPED | +---------------------+--------------------+------------------+-------------------+-------------------------+-------------------+----------------------+ | Fedora 39 (Clang) | PASS | PASS | PASS | SKIPPED | SKIPPED | SKIPPED | +---------------------+--------------------+------------------+-------------------+-------------------------+-------------------+----------------------+ | Debian Bullseye | PASS | PASS | PASS | SKIPPED | SKIPPED | SKIPPED | +---------------------+--------------------+------------------+-------------------+-------------------------+-------------------+----------------------+ | Fedora 39 | PASS | PASS | PASS | SKIPPED | SKIPPED | SKIPPED | +---------------------+--------------------+------------------+-------------------+-------------------------+-------------------+----------------------+ | RHEL8 | PASS | PASS | SKIPPED | SKIPPED | SKIPPED | SKIPPED | +---------------------+--------------------+------------------+-------------------+-------------------------+-------------------+----------------------+ | openSUSE Leap 15 | PASS | WARN | SKIPPED | SKIPPED | SKIPPED | SKIPPED | +---------------------+--------------------+------------------+-------------------+-------------------------+-------------------+----------------------+ | Fedora 40 (Clang) | PASS | PASS | PASS | SKIPPED | SKIPPED | SKIPPED | +---------------------+--------------------+------------------+-------------------+-------------------------+-------------------+----------------------+ | Ubuntu 24.04 | PASS | PASS | PASS | SKIPPED | SKIPPED | SKIPPED | +---------------------+--------------------+------------------+-------------------+-------------------------+-------------------+----------------------+ | Fedora 40 | PASS | PASS | PASS | SKIPPED | SKIPPED | SKIPPED | +---------------------+--------------------+------------------+-------------------+-------------------------+-------------------+----------------------+ | RHEL9 | PASS | PASS | SKIPPED | SKIPPED | SKIPPED | SKIPPED | +---------------------+--------------------+------------------+-------------------+-------------------------+-------------------+----------------------+ | Ubuntu 20.04 | PASS | SKIPPED | SKIPPED | SKIPPED | SKIPPED | SKIPPED | +---------------------+--------------------+------------------+-------------------+-------------------------+-------------------+----------------------+ | Ubuntu 22.04 | PASS | PASS | PASS | SKIPPED | SKIPPED | SKIPPED | +---------------------+--------------------+------------------+-------------------+-------------------------+-------------------+----------------------+ | Alpine | PASS | PASS | SKIPPED | SKIPPED | SKIPPED | SKIPPED | +---------------------+--------------------+------------------+-------------------+-------------------------+-------------------+----------------------+ | FreeBSD 13.4 | PASS | SKIPPED | SKIPPED | SKIPPED | SKIPPED | SKIPPED | +---------------------+--------------------+------------------+-------------------+-------------------------+-------------------+----------------------+ | FreeBSD 14.2 | PASS | SKIPPED | SKIPPED | SKIPPED | SKIPPED | SKIPPED | +---------------------+--------------------+------------------+-------------------+-------------------------+-------------------+----------------------+ | Windows Server 2022 | SKIPPED | SKIPPED | SKIPPED | PASS | PASS | PASS | +---------------------+--------------------+------------------+-------------------+-------------------------+-------------------+----------------------+ ==== 20 line log output for openSUSE Leap 15 (dpdk_compile_ovs): ==== --- Failed to get log output --- ==== End log output ==== CentOS Stream 9 Kernel: Depends on container host Compiler: gcc 11.5.0 20240719 (Red Hat 11.5.0-2) Debian 12 Kernel: Depends on container host Compiler: gcc (Debian 12.2.0-14) 12.2.0 Fedora 39 (Clang) Kernel: Depends on container host Compiler: clang 17.0.6 (Fedora 17.0.6-2.fc39) Debian Bullseye Kernel: Depends on container host Compiler: gcc (Debian 10.2.1-6) 10.2.1 20210110 Fedora 39 Kernel: Depends on container host Compiler: gcc 13.3.1 20240522 (Red Hat 13.3.1-1) RHEL8 Kernel: Depends on container host Compiler: gcc 8.5.0 20210514 (Red Hat 8.5.0-22) openSUSE Leap 15 Kernel: Depends on container host Compiler: gcc (SUSE Linux) 7.5.0 Fedora 40 (Clang) Kernel: Depends on container host Compiler: clang 18.1.8 (Fedora 18.1.8-1.fc40) Ubuntu 24.04 Kernel: Depends on container host Compiler: gcc (Ubuntu 13.3.0-6ubuntu2~24.04) 13.3.0 Fedora 40 Kernel: Depends on container host Compiler: gcc 14.2.1 20240912 (Red Hat 14.2.1-3) RHEL9 Kernel: Depends on container host Compiler: gcc 11.5.0 20240719 (Red Hat 11.5.0-2) Ubuntu 20.04 Kernel: Depends on container host Compiler: gcc (Ubuntu 9.4.0-1ubuntu1~20.04.2) 9.4.0 Ubuntu 22.04 Kernel: Depends on container host Compiler: gcc (Ubuntu 11.4.0-1ubuntu1~22.04) 11.4.0 Alpine Kernel: Depends on container host Compiler: gcc (Alpine 14.2.0) 14.2.0 FreeBSD 13.4 Kernel: 13.4-RELEASE-p1 Compiler: clang 18.1.6 FreeBSD 14.2 Kernel: 14.2-RELEASE Compiler: clang 18.1.6 Windows Server 2022 Kernel: 10.0.20348.2031 Compiler: clang 15.0.7, gcc 14.1.0 (MinGW), and MSVC VS 19.39.33521 To view detailed results, visit: https://lab.dpdk.org/results/dashboard/patchsets/32191/ UNH-IOL DPDK Community Lab To manage your email subscriptions, visit: https://lab.dpdk.org/results/dashboard/preferences/subscriptions/