From mboxrd@z Thu Jan 1 00:00:00 1970 Return-Path: Received: from mails.dpdk.org (mails.dpdk.org [217.70.189.124]) by inbox.dpdk.org (Postfix) with ESMTP id EE627461BE for ; Fri, 7 Feb 2025 19:18:42 +0100 (CET) Received: from mails.dpdk.org (localhost [127.0.0.1]) by mails.dpdk.org (Postfix) with ESMTP id EAD5A42ED5; Fri, 7 Feb 2025 19:18:42 +0100 (CET) Received: from mail-pl1-f225.google.com (mail-pl1-f225.google.com [209.85.214.225]) by mails.dpdk.org (Postfix) with ESMTP id 4AED042E90 for ; Fri, 7 Feb 2025 19:18:40 +0100 (CET) Received: by mail-pl1-f225.google.com with SMTP id d9443c01a7336-21f0c4275a1so38171775ad.2 for ; Fri, 07 Feb 2025 10:18:40 -0800 (PST) DKIM-Signature: v=1; a=rsa-sha256; c=relaxed/relaxed; d=iol.unh.edu; s=unh-iol; t=1738952319; x=1739557119; darn=dpdk.org; h=references:in-reply-to:cc:to:from:subject:message-id:date:from:to :cc:subject:date:message-id:reply-to; bh=dvt9XkqshS/efE42UvHSgrZJBJQ7OSrUK8W2lCGcoEw=; b=MQEvWOy0s6wlIEOUvQTvieAh0GgPbymjA3cgA0/aBnVh1+893z5pXZw7KkYtkrTwyD 1nW7mmEDbAec+Gt4/3h7HwW1Rd1FM9MPnvdvkzUTcbzooMf3TRsc9lOGZ6acT4+07BdZ p0FAhS08QQn2W1XSOijwiON9hS0bjuXRlwxIg= X-Google-DKIM-Signature: v=1; a=rsa-sha256; c=relaxed/relaxed; d=1e100.net; s=20230601; t=1738952319; x=1739557119; h=references:in-reply-to:cc:to:from:subject:message-id:date :x-gm-message-state:from:to:cc:subject:date:message-id:reply-to; bh=dvt9XkqshS/efE42UvHSgrZJBJQ7OSrUK8W2lCGcoEw=; b=B8axf5yhq5yLuy+eHh5WBgLVJlmnE06pugygZAMKO65AdBBuapTH2UWMkDhMTDCc5s B6A1SwWcOY7iCdHJoAAIzRqqeyGaDKnIR7RoT0QoL0BjslzDUJIXku9gOzMLPR136YC/ 1W1spdWGyRS4wFX6XJuXJmUzPVqKGrTj1WsPPoICNbbswXC+pal2v341EAwvvIujYSpE 9BUM+q52X2IVcXt8oFj5dWy5vFaCz0MvFjM/h+KhImfsEdDbq1NOPdP3PP+R8DheNGdl c7JvDY+KOXyTi+yq3pGjn1JzGzM2WVPy52NAPa2ijF/47NWuW6zDXWAKE+r9w93jPMWm fqDA== X-Gm-Message-State: AOJu0YwYF6OqPF3hoo4kFMJeluZr/5dPsC0GfiILs8DefHS6nJm069qg D47j8moAsQuTYrOTBLeyVbRvPe5tSdYl8o2L/yGH6bMpJK2Ogc15OdQFMymSB3APTz2L7Pf4cK9 eLEqzu+KOxCXNzG8HsdZaOXfnnY8PapWEUG4opmvg X-Gm-Gg: ASbGncufv0CVfiB7C4cv/1fjkzvxGpTl/BlG598O/sDsOke/qMz4jnyZ4dsmMGH8Xvb x6VO+7jhRwgdvksmPK4QSrqohJ8sa8h1V9ZQIcPtgB+jsPqrTBsei9MsKwJzBkL4+ERjeyEsy8k IXtPi+6QlxM7ZlR5idXxUxIZZIP6qYFKMEaaxPjyYQE2wDkR4XmxvB4rdnXVf04giWNftGFJHtQ w7g1Z/C5WhEF9utENGIOOa11KQwQq+ebl55z+iN33+jduHUyYZhGMfwAT+4lIN5JKiOrtYhskIW 4cZB48AxC7FRWtTPDTmQzY5HEYyqkQ== X-Google-Smtp-Source: AGHT+IEuQFFJoLNyKtgt1a3z3oUQFaU/OfKqi8XSh2Zl++/N86WF2NC2hDTaMhaUlcKSwh5v/oNk0RH9XafN X-Received: by 2002:a17:902:f60a:b0:211:e812:3948 with SMTP id d9443c01a7336-21f4e10627fmr71263925ad.0.1738952319407; Fri, 07 Feb 2025 10:18:39 -0800 (PST) Received: from postal.iol.unh.edu (postal.iol.unh.edu. [132.177.123.84]) by smtp-relay.gmail.com with ESMTPS id d9443c01a7336-21f36876bacsm2128985ad.97.2025.02.07.10.18.39 (version=TLS1_2 cipher=ECDHE-ECDSA-AES128-GCM-SHA256 bits=128/128); Fri, 07 Feb 2025 10:18:39 -0800 (PST) X-Relaying-Domain: iol.unh.edu Date: Fri, 07 Feb 2025 10:18:39 -0800 (PST) Message-ID: <67a64e7f.170a0220.171c0.abfbSMTPIN_ADDED_MISSING@mx.google.com> Received: from [172.21.0.10] (unknown [172.18.0.240]) by postal.iol.unh.edu (Postfix) with ESMTP id 8C1EC6052472; Fri, 7 Feb 2025 13:18:08 -0500 (EST) Subject: |WARNING| pw149382 [PATCH] [1/1] vhost: fix missing descriptor chain From: dpdklab@iol.unh.edu To: Test Report Cc: dpdk-test-reports@iol.unh.edu In-Reply-To: <0bf28cc647eac66343c39d6acd4df868836e6ae6.1734923187.git.wangyunjian@huawei.com> References: <0bf28cc647eac66343c39d6acd4df868836e6ae6.1734923187.git.wangyunjian@huawei.com> Content-Type: text/plain X-BeenThere: test-report@dpdk.org X-Mailman-Version: 2.1.29 Precedence: list List-Id: automatic DPDK test reports List-Unsubscribe: , List-Archive: List-Post: List-Help: List-Subscribe: , Errors-To: test-report-bounces@dpdk.org Test-Label: iol-compile-amd64-testing Test-Status: WARNING http://dpdk.org/patch/149382 _Testing issues_ Submitter: Yunjian Wang Date: Monday, December 23 2024 03:29:21 DPDK git baseline: Repo:dpdk Branch: master CommitID:07604f264417959d76aa9fcb8cb0c3665f62f0d3 149382 --> testing issues Test environment and result as below: +---------------------+--------------------+------------------+-------------------+-------------------------+-------------------+----------------------+ | Environment | dpdk_meson_compile | dpdk_compile_ovs | dpdk_compile_spdk | dpdk_llvm_clang_compile | dpdk_msvc_compile | dpdk_mingw64_compile | +=====================+====================+==================+===================+=========================+===================+======================+ | Debian Bullseye | PASS | PASS | PASS | SKIPPED | SKIPPED | SKIPPED | +---------------------+--------------------+------------------+-------------------+-------------------------+-------------------+----------------------+ | Debian 12 | PASS | PASS | PASS | SKIPPED | SKIPPED | SKIPPED | +---------------------+--------------------+------------------+-------------------+-------------------------+-------------------+----------------------+ | Fedora 39 (Clang) | PASS | PASS | PASS | SKIPPED | SKIPPED | SKIPPED | +---------------------+--------------------+------------------+-------------------+-------------------------+-------------------+----------------------+ | openSUSE Leap 15 | PASS | WARN | SKIPPED | SKIPPED | SKIPPED | SKIPPED | +---------------------+--------------------+------------------+-------------------+-------------------------+-------------------+----------------------+ | RHEL8 | PASS | PASS | SKIPPED | SKIPPED | SKIPPED | SKIPPED | +---------------------+--------------------+------------------+-------------------+-------------------------+-------------------+----------------------+ | RHEL9 | PASS | PASS | SKIPPED | SKIPPED | SKIPPED | SKIPPED | +---------------------+--------------------+------------------+-------------------+-------------------------+-------------------+----------------------+ | Fedora 40 (Clang) | PASS | PASS | PASS | SKIPPED | SKIPPED | SKIPPED | +---------------------+--------------------+------------------+-------------------+-------------------------+-------------------+----------------------+ | Fedora 40 | PASS | PASS | PASS | SKIPPED | SKIPPED | SKIPPED | +---------------------+--------------------+------------------+-------------------+-------------------------+-------------------+----------------------+ | Ubuntu 22.04 | PASS | PASS | PASS | SKIPPED | SKIPPED | SKIPPED | +---------------------+--------------------+------------------+-------------------+-------------------------+-------------------+----------------------+ | Fedora 39 | PASS | PASS | PASS | SKIPPED | SKIPPED | SKIPPED | +---------------------+--------------------+------------------+-------------------+-------------------------+-------------------+----------------------+ | Ubuntu 20.04 | PASS | SKIPPED | SKIPPED | SKIPPED | SKIPPED | SKIPPED | +---------------------+--------------------+------------------+-------------------+-------------------------+-------------------+----------------------+ | Ubuntu 24.04 | PASS | PASS | PASS | SKIPPED | SKIPPED | SKIPPED | +---------------------+--------------------+------------------+-------------------+-------------------------+-------------------+----------------------+ | FreeBSD 13.4 | PASS | SKIPPED | SKIPPED | SKIPPED | SKIPPED | SKIPPED | +---------------------+--------------------+------------------+-------------------+-------------------------+-------------------+----------------------+ | Alpine | PASS | PASS | SKIPPED | SKIPPED | SKIPPED | SKIPPED | +---------------------+--------------------+------------------+-------------------+-------------------------+-------------------+----------------------+ | FreeBSD 14.2 | PASS | SKIPPED | SKIPPED | SKIPPED | SKIPPED | SKIPPED | +---------------------+--------------------+------------------+-------------------+-------------------------+-------------------+----------------------+ | CentOS Stream 9 | PASS | PASS | PASS | SKIPPED | SKIPPED | SKIPPED | +---------------------+--------------------+------------------+-------------------+-------------------------+-------------------+----------------------+ | Windows Server 2022 | SKIPPED | SKIPPED | SKIPPED | PASS | PASS | PASS | +---------------------+--------------------+------------------+-------------------+-------------------------+-------------------+----------------------+ ==== 20 line log output for openSUSE Leap 15 (dpdk_compile_ovs): ==== --- Failed to get log output --- ==== End log output ==== Debian Bullseye Kernel: Depends on container host Compiler: gcc (Debian 10.2.1-6) 10.2.1 20210110 Debian 12 Kernel: Depends on container host Compiler: gcc (Debian 12.2.0-14) 12.2.0 Fedora 39 (Clang) Kernel: Depends on container host Compiler: clang 17.0.6 (Fedora 17.0.6-2.fc39) openSUSE Leap 15 Kernel: Depends on container host Compiler: gcc (SUSE Linux) 7.5.0 RHEL8 Kernel: Depends on container host Compiler: gcc 8.5.0 20210514 (Red Hat 8.5.0-22) RHEL9 Kernel: Depends on container host Compiler: gcc 11.5.0 20240719 (Red Hat 11.5.0-2) Fedora 40 (Clang) Kernel: Depends on container host Compiler: clang 18.1.8 (Fedora 18.1.8-1.fc40) Fedora 40 Kernel: Depends on container host Compiler: gcc 14.2.1 20240912 (Red Hat 14.2.1-3) Ubuntu 22.04 Kernel: Depends on container host Compiler: gcc (Ubuntu 11.4.0-1ubuntu1~22.04) 11.4.0 Fedora 39 Kernel: Depends on container host Compiler: gcc 13.3.1 20240522 (Red Hat 13.3.1-1) Ubuntu 20.04 Kernel: Depends on container host Compiler: gcc (Ubuntu 9.4.0-1ubuntu1~20.04.2) 9.4.0 Ubuntu 24.04 Kernel: Depends on container host Compiler: gcc (Ubuntu 13.3.0-6ubuntu2~24.04) 13.3.0 FreeBSD 13.4 Kernel: 13.4-RELEASE-p1 Compiler: clang 18.1.6 Alpine Kernel: Depends on container host Compiler: gcc (Alpine 14.2.0) 14.2.0 FreeBSD 14.2 Kernel: 14.2-RELEASE Compiler: clang 18.1.6 CentOS Stream 9 Kernel: Depends on container host Compiler: gcc 11.5.0 20240719 (Red Hat 11.5.0-2) Windows Server 2022 Kernel: 10.0.20348.2031 Compiler: clang 15.0.7, gcc 14.1.0 (MinGW), and MSVC VS 19.39.33521 To view detailed results, visit: https://lab.dpdk.org/results/dashboard/patchsets/32190/ UNH-IOL DPDK Community Lab To manage your email subscriptions, visit: https://lab.dpdk.org/results/dashboard/preferences/subscriptions/