From mboxrd@z Thu Jan 1 00:00:00 1970 Return-Path: Received: from mails.dpdk.org (mails.dpdk.org [217.70.189.124]) by inbox.dpdk.org (Postfix) with ESMTP id 1434C461BE for ; Fri, 7 Feb 2025 19:18:47 +0100 (CET) Received: from mails.dpdk.org (localhost [127.0.0.1]) by mails.dpdk.org (Postfix) with ESMTP id 10F9D42ED5; Fri, 7 Feb 2025 19:18:47 +0100 (CET) Received: from mail-yb1-f228.google.com (mail-yb1-f228.google.com [209.85.219.228]) by mails.dpdk.org (Postfix) with ESMTP id 6848542E90 for ; Fri, 7 Feb 2025 19:18:45 +0100 (CET) Received: by mail-yb1-f228.google.com with SMTP id 3f1490d57ef6-e479e529ebcso1773827276.3 for ; Fri, 07 Feb 2025 10:18:45 -0800 (PST) DKIM-Signature: v=1; a=rsa-sha256; c=relaxed/relaxed; d=iol.unh.edu; s=unh-iol; t=1738952325; x=1739557125; darn=dpdk.org; h=cc:to:from:subject:message-id:date:from:to:cc:subject:date :message-id:reply-to; bh=fLcPPbAbq/u0AtyNIDbrLeC/orlO1GEL3795C3jwxaU=; b=PxLAzdIu4OyzQh96FCm33BSNgyDEzczuWxQUAZfb50XDgdhuiZITfn7yYBn+XvbQom dox6GBRvz8e/zFRs8ty0sAWGHSApgUm/m6wHcXXocWcXLYS6RWytaZGsSVSsJBeoq/YW +vxmdvsC6YfZJboxcHTcsb8cRJLlNMkez1RSo= X-Google-DKIM-Signature: v=1; a=rsa-sha256; c=relaxed/relaxed; d=1e100.net; s=20230601; t=1738952325; x=1739557125; h=cc:to:from:subject:message-id:date:x-gm-message-state:from:to:cc :subject:date:message-id:reply-to; bh=fLcPPbAbq/u0AtyNIDbrLeC/orlO1GEL3795C3jwxaU=; b=TjYiHp0Ubrv4je+BwP6UtFHtFushYtzumJ/atj06wD3LaROZeXJvNNrQD9hiANtLaG n3RrDf5cvOy1NhE6xKBkpWLbh7XjmK+bRnr9/Va/7FEkXSx04d+DaDT5Fe2etBtOK1en yG4ojSudcEnZOcfxQ/FzrEleNOR719GBKrEY1dYiaHn+fu17zAHV56Iu0/UVUma98QVz ZSK8m2KSjwP6iKEzXLoRbRNnT+nfBi1su+tH2CRFL2NYQ/uYbgpUR715Avon+Zl/pSXY quLJTHh5SrKJoi2YUiis/gpXmmLR5XlLUoNcRPHubKhjBDUkuIIBfOStA4uiiZrbgZ91 KAtA== X-Gm-Message-State: AOJu0Yyr3A0vm64fMpj5fb7adq/6X+FVllJqLQT1UxmfvXlpAAKa12er E2j6F5jxyM2deB/wOCX5KtQfMBq6Ak/I6OcstKrBLgayZQanIJOyZk6zug6lW0CRGhBVNNG2Q6l zQp4lYqi3ub4Td8AOEKX2fWfpS1M4mh+lEDzzY9vd X-Gm-Gg: ASbGncvy36jRB7o1c4Y4tJuGE3TL1/20zbOCGjZXkIgfOZFPm2QU5vpho5PlagAnBtM 5SbxZyO9CpJSQ6VHFXgsQOxk1QRMbD6XYrugaDmCrXLhsRC5zK7x3MNVFTbJp8U1knxN0ixWBOW 6x66YE2A6eTpjBLwhplee9boJYayGaBeKtM4gWizKQYek0aLHV5xhrR1XRGgqCASg+Ay7Qi77JS AvAn2HQhlhRpmb/EyF7xrsoLvcH8d+IuqQTudO+jRUteIqCGhtpSUy0NLGj5225yT9HjIm+6+6H ZsEl8QhbppMP7gIbBw6zytSIJNGv0A== X-Google-Smtp-Source: AGHT+IGIvsQapbjB5mf8MrDAW6TrHIAi8eeDO7zI7aA/IYiIl5rThH/yYfu3vGXp3Vck8dsoqGvUOwoUa4Mz X-Received: by 2002:a05:6902:1025:b0:e5b:323b:a1a7 with SMTP id 3f1490d57ef6-e5b4629256emr3598576276.42.1738952324765; Fri, 07 Feb 2025 10:18:44 -0800 (PST) Received: from postal.iol.unh.edu (postal.iol.unh.edu. [132.177.123.84]) by smtp-relay.gmail.com with ESMTPS id 3f1490d57ef6-e5b3a459238sm88078276.29.2025.02.07.10.18.44 (version=TLS1_2 cipher=ECDHE-ECDSA-AES128-GCM-SHA256 bits=128/128); Fri, 07 Feb 2025 10:18:44 -0800 (PST) X-Relaying-Domain: iol.unh.edu Date: Fri, 07 Feb 2025 10:18:44 -0800 (PST) Message-ID: <67a64e84.250a0220.19fb93.4396SMTPIN_ADDED_MISSING@mx.google.com> Received: from [172.21.0.11] (unknown [172.18.0.240]) by postal.iol.unh.edu (Postfix) with ESMTP id 6424E6052471; Fri, 7 Feb 2025 13:18:44 -0500 (EST) Subject: |WARNING| [GIT MASTER] 07604f264417959d76aa9fcb8cb0c3665f62f0d3 From: dpdklab@iol.unh.edu To: Test Report Cc: dpdk-test-reports@iol.unh.edu, Chenbo Xia , Maxime Coquelin Content-Type: text/plain X-BeenThere: test-report@dpdk.org X-Mailman-Version: 2.1.29 Precedence: list List-Id: automatic DPDK test reports List-Unsubscribe: , List-Archive: List-Post: List-Help: List-Subscribe: , Errors-To: test-report-bounces@dpdk.org _Testing issues_ Branch: dpdk-next-virtio 07604f264417959d76aa9fcb8cb0c3665f62f0d3 --> testing issues Test environment and result as below: +---------------------+--------------------+------------------+-------------------+-------------------+-------------------------+----------------------+ | Environment | dpdk_meson_compile | dpdk_compile_ovs | dpdk_compile_spdk | dpdk_msvc_compile | dpdk_llvm_clang_compile | dpdk_mingw64_compile | +=====================+====================+==================+===================+===================+=========================+======================+ | CentOS Stream 9 | PASS | PASS | PASS | SKIPPED | SKIPPED | SKIPPED | +---------------------+--------------------+------------------+-------------------+-------------------+-------------------------+----------------------+ | Debian Bullseye | PASS | PASS | PASS | SKIPPED | SKIPPED | SKIPPED | +---------------------+--------------------+------------------+-------------------+-------------------+-------------------------+----------------------+ | Debian 12 | PASS | PASS | PASS | SKIPPED | SKIPPED | SKIPPED | +---------------------+--------------------+------------------+-------------------+-------------------+-------------------------+----------------------+ | Fedora 39 (Clang) | PASS | PASS | PASS | SKIPPED | SKIPPED | SKIPPED | +---------------------+--------------------+------------------+-------------------+-------------------+-------------------------+----------------------+ | Fedora 40 (Clang) | PASS | PASS | PASS | SKIPPED | SKIPPED | SKIPPED | +---------------------+--------------------+------------------+-------------------+-------------------+-------------------------+----------------------+ | Fedora 40 | PASS | PASS | PASS | SKIPPED | SKIPPED | SKIPPED | +---------------------+--------------------+------------------+-------------------+-------------------+-------------------------+----------------------+ | Fedora 39 | PASS | PASS | PASS | SKIPPED | SKIPPED | SKIPPED | +---------------------+--------------------+------------------+-------------------+-------------------+-------------------------+----------------------+ | openSUSE Leap 15 | PASS | WARN | SKIPPED | SKIPPED | SKIPPED | SKIPPED | +---------------------+--------------------+------------------+-------------------+-------------------+-------------------------+----------------------+ | RHEL8 | PASS | PASS | SKIPPED | SKIPPED | SKIPPED | SKIPPED | +---------------------+--------------------+------------------+-------------------+-------------------+-------------------------+----------------------+ | RHEL9 | PASS | PASS | SKIPPED | SKIPPED | SKIPPED | SKIPPED | +---------------------+--------------------+------------------+-------------------+-------------------+-------------------------+----------------------+ | Ubuntu 20.04 | PASS | SKIPPED | SKIPPED | SKIPPED | SKIPPED | SKIPPED | +---------------------+--------------------+------------------+-------------------+-------------------+-------------------------+----------------------+ | Ubuntu 24.04 | PASS | PASS | PASS | SKIPPED | SKIPPED | SKIPPED | +---------------------+--------------------+------------------+-------------------+-------------------+-------------------------+----------------------+ | Alpine | PASS | PASS | SKIPPED | SKIPPED | SKIPPED | SKIPPED | +---------------------+--------------------+------------------+-------------------+-------------------+-------------------------+----------------------+ | FreeBSD 13.4 | PASS | SKIPPED | SKIPPED | SKIPPED | SKIPPED | SKIPPED | +---------------------+--------------------+------------------+-------------------+-------------------+-------------------------+----------------------+ | FreeBSD 14.2 | PASS | SKIPPED | SKIPPED | SKIPPED | SKIPPED | SKIPPED | +---------------------+--------------------+------------------+-------------------+-------------------+-------------------------+----------------------+ | Ubuntu 22.04 | PASS | PASS | PASS | SKIPPED | SKIPPED | SKIPPED | +---------------------+--------------------+------------------+-------------------+-------------------+-------------------------+----------------------+ | Windows Server 2022 | SKIPPED | SKIPPED | SKIPPED | PASS | PASS | PASS | +---------------------+--------------------+------------------+-------------------+-------------------+-------------------------+----------------------+ ==== 20 line log output for openSUSE Leap 15 (dpdk_compile_ovs): ==== --- Failed to get log output --- ==== End log output ==== CentOS Stream 9 Kernel: Depends on container host Compiler: gcc 11.5.0 20240719 (Red Hat 11.5.0-2) Debian Bullseye Kernel: Depends on container host Compiler: gcc (Debian 10.2.1-6) 10.2.1 20210110 Debian 12 Kernel: Depends on container host Compiler: gcc (Debian 12.2.0-14) 12.2.0 Fedora 39 (Clang) Kernel: Depends on container host Compiler: clang 17.0.6 (Fedora 17.0.6-2.fc39) Fedora 40 (Clang) Kernel: Depends on container host Compiler: clang 18.1.8 (Fedora 18.1.8-1.fc40) Fedora 40 Kernel: Depends on container host Compiler: gcc 14.2.1 20240912 (Red Hat 14.2.1-3) Fedora 39 Kernel: Depends on container host Compiler: gcc 13.3.1 20240522 (Red Hat 13.3.1-1) openSUSE Leap 15 Kernel: Depends on container host Compiler: gcc (SUSE Linux) 7.5.0 RHEL8 Kernel: Depends on container host Compiler: gcc 8.5.0 20210514 (Red Hat 8.5.0-22) RHEL9 Kernel: Depends on container host Compiler: gcc 11.5.0 20240719 (Red Hat 11.5.0-2) Ubuntu 20.04 Kernel: Depends on container host Compiler: gcc (Ubuntu 9.4.0-1ubuntu1~20.04.2) 9.4.0 Ubuntu 24.04 Kernel: Depends on container host Compiler: gcc (Ubuntu 13.3.0-6ubuntu2~24.04) 13.3.0 Alpine Kernel: Depends on container host Compiler: gcc (Alpine 14.2.0) 14.2.0 FreeBSD 13.4 Kernel: 13.4-RELEASE-p1 Compiler: clang 18.1.6 FreeBSD 14.2 Kernel: 14.2-RELEASE Compiler: clang 18.1.6 Ubuntu 22.04 Kernel: Depends on container host Compiler: gcc (Ubuntu 11.4.0-1ubuntu1~22.04) 11.4.0 Windows Server 2022 Kernel: 10.0.20348.2031 Compiler: clang 15.0.7, gcc 14.1.0 (MinGW), and MSVC VS 19.39.33521 To view detailed results, visit: https://lab.dpdk.org/results/dashboard/tarballs/32009/ UNH-IOL DPDK Community Lab To manage your email subscriptions, visit: https://lab.dpdk.org/results/dashboard/preferences/subscriptions/