From mboxrd@z Thu Jan 1 00:00:00 1970 Return-Path: Received: from mails.dpdk.org (mails.dpdk.org [217.70.189.124]) by inbox.dpdk.org (Postfix) with ESMTP id 4A999461BE for ; Fri, 7 Feb 2025 19:19:21 +0100 (CET) Received: from mails.dpdk.org (localhost [127.0.0.1]) by mails.dpdk.org (Postfix) with ESMTP id 4780A42ED5; Fri, 7 Feb 2025 19:19:21 +0100 (CET) Received: from mail-il1-f228.google.com (mail-il1-f228.google.com [209.85.166.228]) by mails.dpdk.org (Postfix) with ESMTP id CD94942E90 for ; Fri, 7 Feb 2025 19:19:20 +0100 (CET) Received: by mail-il1-f228.google.com with SMTP id e9e14a558f8ab-3ce87d31480so7265145ab.2 for ; Fri, 07 Feb 2025 10:19:20 -0800 (PST) DKIM-Signature: v=1; a=rsa-sha256; c=relaxed/relaxed; d=iol.unh.edu; s=unh-iol; t=1738952360; x=1739557160; darn=dpdk.org; h=references:in-reply-to:cc:to:from:subject:message-id:date:from:to :cc:subject:date:message-id:reply-to; bh=xblM+FKNf3Al+vl0BS1ELVn/q4zWvxFWY7JpNnbBUik=; b=f7eeh5OI+p8scHOxyFHQr6AH5GOYTUhb4NAX4JDXV1XfeJlOPKDfC1IFWvxpSvSeb8 G2P2v4GwFdWjrsnfqvja6RmQF6okG3uBss4F99IAok1mzbjYZhfhR58QqC8UT3mxWj2u afDYlydD48DwA7QmPZ+gBlrqfsrt4zy4TrkQ0= X-Google-DKIM-Signature: v=1; a=rsa-sha256; c=relaxed/relaxed; d=1e100.net; s=20230601; t=1738952360; x=1739557160; h=references:in-reply-to:cc:to:from:subject:message-id:date :x-gm-message-state:from:to:cc:subject:date:message-id:reply-to; bh=xblM+FKNf3Al+vl0BS1ELVn/q4zWvxFWY7JpNnbBUik=; b=tLin+q2F1qnAzTmY8I+E+NTABbYAqNUjMH+YEtEJAlXspwAAqgyTAIblpmY4NFJEGk TyFxE/jQh6ZvPoAjN3DZZBHksvLqLRbADxXa12fW4Nrw+kvtZiKqQ0WQCyjncmpiaT3e gin3PLhcOC6H515FFCMB2BQV/2hneValLUWhwkGduXCqp42kwfRcSH+JcdmoeHfew3Rf cUnei0pj3aluKCvkn3wuoPVMQhfmLh8W/i8CJe4TORSY4VOEBCo6EALso412Ug1y983J n/tuh7wpgWCTT7LJw+9AC7pa/KVcmdyI20ID04AZ7u75/2hx3t+CYJ4kcG+PoLe5MAUn GYFA== X-Gm-Message-State: AOJu0YzKX/CDn2VmFKjYt7M7ffz9q6hk/5QUiZMmdyDzJNOexB4+bJX+ CGq/zl5bb1UkLGcA4cOFB7ea2V2UrfevnQuPfo+c3l9Cx7LpIgRIKkLpncl19jHlxtZbim5/cPZ iOi4s4urdpNDPTKsy9BHpO79SnM4KmIBvHp6qF0/f X-Gm-Gg: ASbGncvQGmB0uFnSWM6N73/obQcXxhvCt1aMf9u3G0MyYOJoi+eVUPo8aWOqZTb16RU +ISC75+9ICr1wPo0uiVfvX6oa+Hvb8btp55d2Ts+33mLqY1cRHfiPti1i4DwyjrbJ3KmkOBSaxT IiQqjhO/MrG4hq7l+Uw1mmqIq10ERA4C2bgRexbirsK4VkGnXsk/6fVAtWsnttAZj0INuSb1VLi fuXPL8Ss+PhQ+1zmCif/mzVyfdWuIjnJrE1PfW8adYtKfuhtyCYI8ghoMa4XHdEkP1ZCbmcWn4y DqkfIt3ZuSVws5SRUUoNCK88xlQgwA== X-Google-Smtp-Source: AGHT+IFMwHP9XASMoeGTchrWc3c3/9BKvPSQaFMq6NL+nZnYIZQost/tjOrIYlJX330gkypjiNS6ZsfHbRXS X-Received: by 2002:a05:6e02:3103:b0:3d0:4d76:79b8 with SMTP id e9e14a558f8ab-3d13da23ae1mr37509465ab.0.1738952360126; Fri, 07 Feb 2025 10:19:20 -0800 (PST) Received: from postal.iol.unh.edu (postal.iol.unh.edu. [132.177.123.84]) by smtp-relay.gmail.com with ESMTPS id e9e14a558f8ab-3d05e8fff9asm2685095ab.26.2025.02.07.10.19.20 (version=TLS1_2 cipher=ECDHE-ECDSA-AES128-GCM-SHA256 bits=128/128); Fri, 07 Feb 2025 10:19:20 -0800 (PST) X-Relaying-Domain: iol.unh.edu Date: Fri, 07 Feb 2025 10:19:20 -0800 (PST) Message-ID: <67a64ea8.050a0220.2bd34b.eb7aSMTPIN_ADDED_MISSING@mx.google.com> Received: from [172.21.0.12] (unknown [172.18.0.240]) by postal.iol.unh.edu (Postfix) with ESMTP id AB2B06052471; Fri, 7 Feb 2025 13:18:49 -0500 (EST) Subject: |WARNING| pw149359 [PATCH] [1/1] common/sfc_efx/base: remove unreach From: dpdklab@iol.unh.edu To: Test Report Cc: dpdk-test-reports@iol.unh.edu In-Reply-To: <20241221132830.1100648-2-otilibil@eurecom.fr> References: <20241221132830.1100648-2-otilibil@eurecom.fr> Content-Type: text/plain X-BeenThere: test-report@dpdk.org X-Mailman-Version: 2.1.29 Precedence: list List-Id: automatic DPDK test reports List-Unsubscribe: , List-Archive: List-Post: List-Help: List-Subscribe: , Errors-To: test-report-bounces@dpdk.org Test-Label: iol-compile-amd64-testing Test-Status: WARNING http://dpdk.org/patch/149359 _Testing issues_ Submitter: Ariel Otilibili-Anieli Date: Saturday, December 21 2024 13:27:07 DPDK git baseline: Repo:dpdk Branch: master CommitID:94ad302b4ebba4a5b6706a1c43ea0505e5098169 149359 --> testing issues Test environment and result as below: +---------------------+--------------------+------------------+-------------------+-------------------+-------------------------+----------------------+ | Environment | dpdk_meson_compile | dpdk_compile_ovs | dpdk_compile_spdk | dpdk_msvc_compile | dpdk_llvm_clang_compile | dpdk_mingw64_compile | +=====================+====================+==================+===================+===================+=========================+======================+ | Debian Bullseye | PASS | PASS | PASS | SKIPPED | SKIPPED | SKIPPED | +---------------------+--------------------+------------------+-------------------+-------------------+-------------------------+----------------------+ | CentOS Stream 9 | PASS | PASS | PASS | SKIPPED | SKIPPED | SKIPPED | +---------------------+--------------------+------------------+-------------------+-------------------+-------------------------+----------------------+ | Ubuntu 20.04 | PASS | SKIPPED | SKIPPED | SKIPPED | SKIPPED | SKIPPED | +---------------------+--------------------+------------------+-------------------+-------------------+-------------------------+----------------------+ | Fedora 39 (Clang) | PASS | PASS | PASS | SKIPPED | SKIPPED | SKIPPED | +---------------------+--------------------+------------------+-------------------+-------------------+-------------------------+----------------------+ | Debian 12 | PASS | PASS | PASS | SKIPPED | SKIPPED | SKIPPED | +---------------------+--------------------+------------------+-------------------+-------------------+-------------------------+----------------------+ | Fedora 39 | PASS | PASS | PASS | SKIPPED | SKIPPED | SKIPPED | +---------------------+--------------------+------------------+-------------------+-------------------+-------------------------+----------------------+ | Fedora 40 | PASS | PASS | PASS | SKIPPED | SKIPPED | SKIPPED | +---------------------+--------------------+------------------+-------------------+-------------------+-------------------------+----------------------+ | Fedora 40 (Clang) | PASS | PASS | PASS | SKIPPED | SKIPPED | SKIPPED | +---------------------+--------------------+------------------+-------------------+-------------------+-------------------------+----------------------+ | RHEL9 | PASS | PASS | SKIPPED | SKIPPED | SKIPPED | SKIPPED | +---------------------+--------------------+------------------+-------------------+-------------------+-------------------------+----------------------+ | RHEL8 | PASS | PASS | SKIPPED | SKIPPED | SKIPPED | SKIPPED | +---------------------+--------------------+------------------+-------------------+-------------------+-------------------------+----------------------+ | openSUSE Leap 15 | PASS | WARN | SKIPPED | SKIPPED | SKIPPED | SKIPPED | +---------------------+--------------------+------------------+-------------------+-------------------+-------------------------+----------------------+ | Ubuntu 24.04 | PASS | PASS | PASS | SKIPPED | SKIPPED | SKIPPED | +---------------------+--------------------+------------------+-------------------+-------------------+-------------------------+----------------------+ | Ubuntu 22.04 | PASS | PASS | PASS | SKIPPED | SKIPPED | SKIPPED | +---------------------+--------------------+------------------+-------------------+-------------------+-------------------------+----------------------+ | Alpine | PASS | PASS | SKIPPED | SKIPPED | SKIPPED | SKIPPED | +---------------------+--------------------+------------------+-------------------+-------------------+-------------------------+----------------------+ | FreeBSD 13.4 | PASS | SKIPPED | SKIPPED | SKIPPED | SKIPPED | SKIPPED | +---------------------+--------------------+------------------+-------------------+-------------------+-------------------------+----------------------+ | FreeBSD 14.2 | PASS | SKIPPED | SKIPPED | SKIPPED | SKIPPED | SKIPPED | +---------------------+--------------------+------------------+-------------------+-------------------+-------------------------+----------------------+ | Windows Server 2022 | SKIPPED | SKIPPED | SKIPPED | PASS | PASS | PASS | +---------------------+--------------------+------------------+-------------------+-------------------+-------------------------+----------------------+ ==== 20 line log output for openSUSE Leap 15 (dpdk_compile_ovs): ==== --- Failed to get log output --- ==== End log output ==== Debian Bullseye Kernel: Depends on container host Compiler: gcc (Debian 10.2.1-6) 10.2.1 20210110 CentOS Stream 9 Kernel: Depends on container host Compiler: gcc 11.5.0 20240719 (Red Hat 11.5.0-2) Ubuntu 20.04 Kernel: Depends on container host Compiler: gcc (Ubuntu 9.4.0-1ubuntu1~20.04.2) 9.4.0 Fedora 39 (Clang) Kernel: Depends on container host Compiler: clang 17.0.6 (Fedora 17.0.6-2.fc39) Debian 12 Kernel: Depends on container host Compiler: gcc (Debian 12.2.0-14) 12.2.0 Fedora 39 Kernel: Depends on container host Compiler: gcc 13.3.1 20240522 (Red Hat 13.3.1-1) Fedora 40 Kernel: Depends on container host Compiler: gcc 14.2.1 20240912 (Red Hat 14.2.1-3) Fedora 40 (Clang) Kernel: Depends on container host Compiler: clang 18.1.8 (Fedora 18.1.8-1.fc40) RHEL9 Kernel: Depends on container host Compiler: gcc 11.5.0 20240719 (Red Hat 11.5.0-2) RHEL8 Kernel: Depends on container host Compiler: gcc 8.5.0 20210514 (Red Hat 8.5.0-22) openSUSE Leap 15 Kernel: Depends on container host Compiler: gcc (SUSE Linux) 7.5.0 Ubuntu 24.04 Kernel: Depends on container host Compiler: gcc (Ubuntu 13.3.0-6ubuntu2~24.04) 13.3.0 Ubuntu 22.04 Kernel: Depends on container host Compiler: gcc (Ubuntu 11.4.0-1ubuntu1~22.04) 11.4.0 Alpine Kernel: Depends on container host Compiler: gcc (Alpine 14.2.0) 14.2.0 FreeBSD 13.4 Kernel: 13.4-RELEASE-p1 Compiler: clang 18.1.6 FreeBSD 14.2 Kernel: 14.2-RELEASE Compiler: clang 18.1.6 Windows Server 2022 Kernel: 10.0.20348.2031 Compiler: clang 15.0.7, gcc 14.1.0 (MinGW), and MSVC VS 19.39.33521 To view detailed results, visit: https://lab.dpdk.org/results/dashboard/patchsets/32186/ UNH-IOL DPDK Community Lab To manage your email subscriptions, visit: https://lab.dpdk.org/results/dashboard/preferences/subscriptions/