From mboxrd@z Thu Jan 1 00:00:00 1970 Return-Path: Received: from mails.dpdk.org (mails.dpdk.org [217.70.189.124]) by inbox.dpdk.org (Postfix) with ESMTP id 5E0FC461BE for ; Fri, 7 Feb 2025 19:19:45 +0100 (CET) Received: from mails.dpdk.org (localhost [127.0.0.1]) by mails.dpdk.org (Postfix) with ESMTP id 5A6B042ED5; Fri, 7 Feb 2025 19:19:45 +0100 (CET) Received: from mail-yw1-f227.google.com (mail-yw1-f227.google.com [209.85.128.227]) by mails.dpdk.org (Postfix) with ESMTP id 89D1842E90 for ; Fri, 7 Feb 2025 19:19:44 +0100 (CET) Received: by mail-yw1-f227.google.com with SMTP id 00721157ae682-6f74b78df93so21002167b3.0 for ; Fri, 07 Feb 2025 10:19:44 -0800 (PST) DKIM-Signature: v=1; a=rsa-sha256; c=relaxed/relaxed; d=iol.unh.edu; s=unh-iol; t=1738952384; x=1739557184; darn=dpdk.org; h=cc:to:from:subject:message-id:date:from:to:cc:subject:date :message-id:reply-to; bh=DqS80tNZCsS9IJwSC2ItH96q4f1If5NFF+Vy4RtRWo4=; b=HSnB9JPB6+DtOBx0f452UTPYzw4EuvgPS1vnMvkEkYYqqvioPeqEQbUKHq3Xcld3Y8 FfLduPruz5Qzwx4zclDp5CYCc+kJv4y4rBc/bF6Z/zUewFBB9xuVCMs8t60UA8V8xKeH fFBYVY1fr7DCgxe4NfiX0Qf/yDDfT6Eo5gJa0= X-Google-DKIM-Signature: v=1; a=rsa-sha256; c=relaxed/relaxed; d=1e100.net; s=20230601; t=1738952384; x=1739557184; h=cc:to:from:subject:message-id:date:x-gm-message-state:from:to:cc :subject:date:message-id:reply-to; bh=DqS80tNZCsS9IJwSC2ItH96q4f1If5NFF+Vy4RtRWo4=; b=jR4Jh/KUHnU1nZ/6KUMHPWzGg4T2aOxDLw/mukRc6g69rzJCMKlDivKXg3H2ASir11 +537p9ETs8dJwmFPrepZHHr/9da0jpK+RWbqMJxeuLw8Hnl27RIsKWdszp6grQPhdU5p YV/LnHxonKg0foFTql/fiR+5WUqtZ3UtDcbki138jGYJJPE/vqtRzQ3YKT6WBzNM+I29 KX8rzp8WNFSmM3vSQ7OWLzub1Z6UtxazA6gRf+MyNivDYmf4+7UVjc8WT253ZeZxSOBN NCI3eL4K+U5QnHsaKIvCxGZNfI8fbamojzK9uhcyjVXLwfbTn0LYiTy1OYPAqQ36pl0/ hhaw== X-Gm-Message-State: AOJu0Yysd759WQ/YSIb4tVrrVDwoAHPzX+aJyOrU+sZ8iTfQV7AIn63q fWWfIPD7Xf34xjvVLE19lcFB0zwJMIhw/9JcYtYr00yeckhTuIa+RxcUcZ5U416TdLTU614N0s6 QIyQAwT9BNhA8mp5OaWuhte/uxFixC6WEGBWn4o4t X-Gm-Gg: ASbGncvw/VQXfNWUVYbBsCIqLR975THBmJ0y0gy1GHCdzLmq86hzTbWjXT2I4VYO8DO rRsx+Jb0uIARH4hIG6nWsoJRvtPm4Rd2VBH9Go9bz8dDyHpx0XJad8SFkRtWzcGNM/rmNo/1Gm8 qAv3/536sXlLoELJFuxvL1FRJPDKWxx9Y9by1DDPuruLG8ha4AeLBJYaIqemKn0+Yj0LSFmhYpn B7BugxAFML095XlJceZMDc0Qbwotx7cfQzkd1v2Az5C8rUiiiHonlp1e88HpmOv5BnTlJ+kaE05 XZqa/vM8S8W2sb0ZESqVi37DFsrKrg== X-Google-Smtp-Source: AGHT+IHd7BD67UlCyyhuL2C+HdFa3CMnpcXJVWRrF5Ls6OY1FfvLIqzfHBtNgRXcfRzfG4gIUvMbeC/D3p8q X-Received: by 2002:a05:690c:7092:b0:6f9:adf5:728d with SMTP id 00721157ae682-6f9b29e58b1mr39720287b3.24.1738952383953; Fri, 07 Feb 2025 10:19:43 -0800 (PST) Received: from postal.iol.unh.edu (postal.iol.unh.edu. [132.177.123.84]) by smtp-relay.gmail.com with ESMTPS id 00721157ae682-6f99ffe0f70sm477457b3.66.2025.02.07.10.19.43 (version=TLS1_2 cipher=ECDHE-ECDSA-AES128-GCM-SHA256 bits=128/128); Fri, 07 Feb 2025 10:19:43 -0800 (PST) X-Relaying-Domain: iol.unh.edu Date: Fri, 07 Feb 2025 10:19:43 -0800 (PST) Message-ID: <67a64ebf.050a0220.2f2a77.22e5SMTPIN_ADDED_MISSING@mx.google.com> Received: from [172.21.0.10] (unknown [172.18.0.240]) by postal.iol.unh.edu (Postfix) with ESMTP id 96190605247D; Fri, 7 Feb 2025 13:19:43 -0500 (EST) Subject: |WARNING| [GIT MASTER] 94ad302b4ebba4a5b6706a1c43ea0505e5098169 From: dpdklab@iol.unh.edu To: Test Report Cc: dpdk-test-reports@iol.unh.edu, Stephen Hemminger Content-Type: text/plain X-BeenThere: test-report@dpdk.org X-Mailman-Version: 2.1.29 Precedence: list List-Id: automatic DPDK test reports List-Unsubscribe: , List-Archive: List-Post: List-Help: List-Subscribe: , Errors-To: test-report-bounces@dpdk.org _Testing issues_ Branch: dpdk-next-net 94ad302b4ebba4a5b6706a1c43ea0505e5098169 --> testing issues Test environment and result as below: +---------------------+--------------------+------------------+-------------------+-------------------+-------------------------+----------------------+ | Environment | dpdk_meson_compile | dpdk_compile_ovs | dpdk_compile_spdk | dpdk_msvc_compile | dpdk_llvm_clang_compile | dpdk_mingw64_compile | +=====================+====================+==================+===================+===================+=========================+======================+ | CentOS Stream 9 | PASS | PASS | PASS | SKIPPED | SKIPPED | SKIPPED | +---------------------+--------------------+------------------+-------------------+-------------------+-------------------------+----------------------+ | Debian 12 | PASS | PASS | PASS | SKIPPED | SKIPPED | SKIPPED | +---------------------+--------------------+------------------+-------------------+-------------------+-------------------------+----------------------+ | Fedora 39 (Clang) | PASS | PASS | PASS | SKIPPED | SKIPPED | SKIPPED | +---------------------+--------------------+------------------+-------------------+-------------------+-------------------------+----------------------+ | Fedora 39 | PASS | PASS | PASS | SKIPPED | SKIPPED | SKIPPED | +---------------------+--------------------+------------------+-------------------+-------------------+-------------------------+----------------------+ | Fedora 40 | PASS | PASS | PASS | SKIPPED | SKIPPED | SKIPPED | +---------------------+--------------------+------------------+-------------------+-------------------+-------------------------+----------------------+ | openSUSE Leap 15 | PASS | WARN | SKIPPED | SKIPPED | SKIPPED | SKIPPED | +---------------------+--------------------+------------------+-------------------+-------------------+-------------------------+----------------------+ | RHEL8 | PASS | PASS | SKIPPED | SKIPPED | SKIPPED | SKIPPED | +---------------------+--------------------+------------------+-------------------+-------------------+-------------------------+----------------------+ | Ubuntu 20.04 | PASS | SKIPPED | SKIPPED | SKIPPED | SKIPPED | SKIPPED | +---------------------+--------------------+------------------+-------------------+-------------------+-------------------------+----------------------+ | Ubuntu 22.04 | PASS | PASS | PASS | SKIPPED | SKIPPED | SKIPPED | +---------------------+--------------------+------------------+-------------------+-------------------+-------------------------+----------------------+ | Ubuntu 24.04 | PASS | PASS | PASS | SKIPPED | SKIPPED | SKIPPED | +---------------------+--------------------+------------------+-------------------+-------------------+-------------------------+----------------------+ | Alpine | PASS | PASS | SKIPPED | SKIPPED | SKIPPED | SKIPPED | +---------------------+--------------------+------------------+-------------------+-------------------+-------------------------+----------------------+ | FreeBSD 13.4 | PASS | SKIPPED | SKIPPED | SKIPPED | SKIPPED | SKIPPED | +---------------------+--------------------+------------------+-------------------+-------------------+-------------------------+----------------------+ | FreeBSD 14.2 | PASS | SKIPPED | SKIPPED | SKIPPED | SKIPPED | SKIPPED | +---------------------+--------------------+------------------+-------------------+-------------------+-------------------------+----------------------+ | Fedora 40 (Clang) | PASS | PASS | PASS | SKIPPED | SKIPPED | SKIPPED | +---------------------+--------------------+------------------+-------------------+-------------------+-------------------------+----------------------+ | RHEL9 | PASS | PASS | SKIPPED | SKIPPED | SKIPPED | SKIPPED | +---------------------+--------------------+------------------+-------------------+-------------------+-------------------------+----------------------+ | Windows Server 2022 | SKIPPED | SKIPPED | SKIPPED | PASS | PASS | PASS | +---------------------+--------------------+------------------+-------------------+-------------------+-------------------------+----------------------+ ==== 20 line log output for openSUSE Leap 15 (dpdk_compile_ovs): ==== --- Failed to get log output --- ==== End log output ==== CentOS Stream 9 Kernel: Depends on container host Compiler: gcc 11.5.0 20240719 (Red Hat 11.5.0-2) Debian 12 Kernel: Depends on container host Compiler: gcc (Debian 12.2.0-14) 12.2.0 Fedora 39 (Clang) Kernel: Depends on container host Compiler: clang 17.0.6 (Fedora 17.0.6-2.fc39) Fedora 39 Kernel: Depends on container host Compiler: gcc 13.3.1 20240522 (Red Hat 13.3.1-1) Fedora 40 Kernel: Depends on container host Compiler: gcc 14.2.1 20240912 (Red Hat 14.2.1-3) openSUSE Leap 15 Kernel: Depends on container host Compiler: gcc (SUSE Linux) 7.5.0 RHEL8 Kernel: Depends on container host Compiler: gcc 8.5.0 20210514 (Red Hat 8.5.0-22) Ubuntu 20.04 Kernel: Depends on container host Compiler: gcc (Ubuntu 9.4.0-1ubuntu1~20.04.2) 9.4.0 Ubuntu 22.04 Kernel: Depends on container host Compiler: gcc (Ubuntu 11.4.0-1ubuntu1~22.04) 11.4.0 Ubuntu 24.04 Kernel: Depends on container host Compiler: gcc (Ubuntu 13.3.0-6ubuntu2~24.04) 13.3.0 Alpine Kernel: Depends on container host Compiler: gcc (Alpine 14.2.0) 14.2.0 FreeBSD 13.4 Kernel: 13.4-RELEASE-p1 Compiler: clang 18.1.6 FreeBSD 14.2 Kernel: 14.2-RELEASE Compiler: clang 18.1.6 Fedora 40 (Clang) Kernel: Depends on container host Compiler: clang 18.1.8 (Fedora 18.1.8-1.fc40) RHEL9 Kernel: Depends on container host Compiler: gcc 11.5.0 20240719 (Red Hat 11.5.0-2) Windows Server 2022 Kernel: 10.0.20348.2031 Compiler: clang 15.0.7, gcc 14.1.0 (MinGW), and MSVC VS 19.39.33521 To view detailed results, visit: https://lab.dpdk.org/results/dashboard/tarballs/32001/ UNH-IOL DPDK Community Lab To manage your email subscriptions, visit: https://lab.dpdk.org/results/dashboard/preferences/subscriptions/