From mboxrd@z Thu Jan 1 00:00:00 1970 Return-Path: Received: from mails.dpdk.org (mails.dpdk.org [217.70.189.124]) by inbox.dpdk.org (Postfix) with ESMTP id 69A8F461BE for ; Fri, 7 Feb 2025 19:19:51 +0100 (CET) Received: from mails.dpdk.org (localhost [127.0.0.1]) by mails.dpdk.org (Postfix) with ESMTP id 66E7642ED5; Fri, 7 Feb 2025 19:19:51 +0100 (CET) Received: from mail-pl1-f226.google.com (mail-pl1-f226.google.com [209.85.214.226]) by mails.dpdk.org (Postfix) with ESMTP id 814A442E90 for ; Fri, 7 Feb 2025 19:19:50 +0100 (CET) Received: by mail-pl1-f226.google.com with SMTP id d9443c01a7336-21f464b9a27so35100495ad.1 for ; Fri, 07 Feb 2025 10:19:50 -0800 (PST) DKIM-Signature: v=1; a=rsa-sha256; c=relaxed/relaxed; d=iol.unh.edu; s=unh-iol; t=1738952389; x=1739557189; darn=dpdk.org; h=references:in-reply-to:cc:to:from:subject:message-id:date:from:to :cc:subject:date:message-id:reply-to; bh=LO/sn29win272Q+WyW5xmtavpqzkv4m3a+wGbMHuaLA=; b=eUlZrIzJKoVkLNpmSnnwyz6ViYebt/GmgLvXCfFxAy6zMz93GcVx9y3trKxIumyfK8 zKRRrKiWg+GVJdYeSxRgseQJKXbEfE728vwXP2nioN1iXLKJ3YuS5qU/oiaihgWE3ggP Ng8RL3ZHnG3rtCHYcipPGJ7GnWnWsfUYz67l0= X-Google-DKIM-Signature: v=1; a=rsa-sha256; c=relaxed/relaxed; d=1e100.net; s=20230601; t=1738952389; x=1739557189; h=references:in-reply-to:cc:to:from:subject:message-id:date :x-gm-message-state:from:to:cc:subject:date:message-id:reply-to; bh=LO/sn29win272Q+WyW5xmtavpqzkv4m3a+wGbMHuaLA=; b=FJplHY1kNEbBvp5va1eI2SotGTkFHJOOhgm8velHIVaZ6HvvkOVjmHHOFuTbwPZEAf LD/mnWQxnAmd3Sn/mi1C62h3AWDMqAfKh8ZUbFnmgi01IoUWNBOTX3C2QwfWxKlLBaXD DMwqYKTnlnu8i/+NhPmeRsy/DSSVK2CTN1+j0q8nvB2EjnuBLloMo/Xl0mgoTnwp7Ky6 IlXBdpR5DkXuJek+q004RZsEyBtsPA5r0vv9l6sevkzsP7EUwN7SRfUHL8NxDykkvN6l Lrft0SqoRPIowybR7Pgj2r0MisDFHwY57DnI2H4ftGo825prSg2at2oUn8LWcv4yR8Wo j8bw== X-Gm-Message-State: AOJu0YzQUxmwuzWZXr1bz+o6LZPk7UmViTfOSCCWQuK1W2ANsgjxa8Fe ZkIIo/cDcHDbLPD1kgft6VRlumvZ0ec6foyfY+DFBc/o/LD6TnhNbFDpznDsrxhm7+KDBBtkPdO Ma70Z+GlEXnUrlGgJDLIHMqRR4iUyLaB1/X9U/CuP X-Gm-Gg: ASbGncsCH/kPC94pyQTGUjMe45Z+bWqxICyYO1qijdLBlxht+bzCOdii9qrSAEZ1EFb LY1o9DLtOSzHfXjS0pKRVNkakJhUz4etpHaOuMMNavkmaaWOndmLY+MLWSuGN8nYFL9b84wRFWX ZyAQCg9Fzjb3dIIu3HDcBRkSUx8fX++21VPRezGjok6PpKbDpmh9Aw3kTMKv/Lg1y7uYQEGe0la YIC956ZMcxjlBkeKN09hF5V3yTe65t2kT30vPOYm1WabG9mg4QXy98LJa6WvyI//EuYTeAAYDTR sVFRYrAclBvFw8cARQ+JiJazAUN2qw== X-Google-Smtp-Source: AGHT+IExYwyqqGOlsTGkjF6sbPTg+Nv8rjGswF0gPP06Ua0J379u2I7CPCxcvzmzyIHBa048DR8aHc7genfa X-Received: by 2002:a05:6a00:4615:b0:72f:9f9e:5bc8 with SMTP id d2e1a72fcca58-7305d51599bmr7635489b3a.22.1738952389642; Fri, 07 Feb 2025 10:19:49 -0800 (PST) Received: from postal.iol.unh.edu (postal.iol.unh.edu. [132.177.123.84]) by smtp-relay.gmail.com with ESMTPS id d2e1a72fcca58-73048b00bedsm182643b3a.12.2025.02.07.10.19.49 (version=TLS1_2 cipher=ECDHE-ECDSA-AES128-GCM-SHA256 bits=128/128); Fri, 07 Feb 2025 10:19:49 -0800 (PST) X-Relaying-Domain: iol.unh.edu Date: Fri, 07 Feb 2025 10:19:49 -0800 (PST) Message-ID: <67a64ec5.050a0220.1c8d2.981eSMTPIN_ADDED_MISSING@mx.google.com> Received: from [172.21.0.11] (unknown [172.18.0.240]) by postal.iol.unh.edu (Postfix) with ESMTP id D56A26052483; Fri, 7 Feb 2025 13:19:48 -0500 (EST) Subject: |WARNING| pw149329 [PATCH] net/bonding: check return value when enab From: dpdklab@iol.unh.edu To: Test Report Cc: dpdk-test-reports@iol.unh.edu In-Reply-To: <20241220070811.40124-1-sunyang.wu@jaguarmicro.com> References: <20241220070811.40124-1-sunyang.wu@jaguarmicro.com> Content-Type: text/plain X-BeenThere: test-report@dpdk.org X-Mailman-Version: 2.1.29 Precedence: list List-Id: automatic DPDK test reports List-Unsubscribe: , List-Archive: List-Post: List-Help: List-Subscribe: , Errors-To: test-report-bounces@dpdk.org Test-Label: iol-compile-amd64-testing Test-Status: WARNING http://dpdk.org/patch/149329 _Testing issues_ Submitter: Sunyang Wu Date: Friday, December 20 2024 07:08:11 DPDK git baseline: Repo:dpdk Branch: master CommitID:94ad302b4ebba4a5b6706a1c43ea0505e5098169 149329 --> testing issues Test environment and result as below: +---------------------+--------------------+------------------+-------------------+-------------------+-------------------------+----------------------+ | Environment | dpdk_meson_compile | dpdk_compile_ovs | dpdk_compile_spdk | dpdk_msvc_compile | dpdk_llvm_clang_compile | dpdk_mingw64_compile | +=====================+====================+==================+===================+===================+=========================+======================+ | CentOS Stream 9 | PASS | PASS | PASS | SKIPPED | SKIPPED | SKIPPED | +---------------------+--------------------+------------------+-------------------+-------------------+-------------------------+----------------------+ | Fedora 39 (Clang) | PASS | PASS | PASS | SKIPPED | SKIPPED | SKIPPED | +---------------------+--------------------+------------------+-------------------+-------------------+-------------------------+----------------------+ | Fedora 39 | PASS | PASS | PASS | SKIPPED | SKIPPED | SKIPPED | +---------------------+--------------------+------------------+-------------------+-------------------+-------------------------+----------------------+ | Fedora 40 | PASS | PASS | PASS | SKIPPED | SKIPPED | SKIPPED | +---------------------+--------------------+------------------+-------------------+-------------------+-------------------------+----------------------+ | openSUSE Leap 15 | PASS | WARN | SKIPPED | SKIPPED | SKIPPED | SKIPPED | +---------------------+--------------------+------------------+-------------------+-------------------+-------------------------+----------------------+ | RHEL8 | PASS | PASS | SKIPPED | SKIPPED | SKIPPED | SKIPPED | +---------------------+--------------------+------------------+-------------------+-------------------+-------------------------+----------------------+ | RHEL9 | PASS | PASS | SKIPPED | SKIPPED | SKIPPED | SKIPPED | +---------------------+--------------------+------------------+-------------------+-------------------+-------------------------+----------------------+ | Ubuntu 20.04 | PASS | SKIPPED | SKIPPED | SKIPPED | SKIPPED | SKIPPED | +---------------------+--------------------+------------------+-------------------+-------------------+-------------------------+----------------------+ | Ubuntu 22.04 | PASS | PASS | PASS | SKIPPED | SKIPPED | SKIPPED | +---------------------+--------------------+------------------+-------------------+-------------------+-------------------------+----------------------+ | Ubuntu 24.04 | PASS | PASS | PASS | SKIPPED | SKIPPED | SKIPPED | +---------------------+--------------------+------------------+-------------------+-------------------+-------------------------+----------------------+ | Alpine | PASS | PASS | SKIPPED | SKIPPED | SKIPPED | SKIPPED | +---------------------+--------------------+------------------+-------------------+-------------------+-------------------------+----------------------+ | FreeBSD 14.2 | PASS | SKIPPED | SKIPPED | SKIPPED | SKIPPED | SKIPPED | +---------------------+--------------------+------------------+-------------------+-------------------+-------------------------+----------------------+ | FreeBSD 13.4 | PASS | SKIPPED | SKIPPED | SKIPPED | SKIPPED | SKIPPED | +---------------------+--------------------+------------------+-------------------+-------------------+-------------------------+----------------------+ | Fedora 40 (Clang) | PASS | PASS | PASS | SKIPPED | SKIPPED | SKIPPED | +---------------------+--------------------+------------------+-------------------+-------------------+-------------------------+----------------------+ | Debian 12 | PASS | PASS | PASS | SKIPPED | SKIPPED | SKIPPED | +---------------------+--------------------+------------------+-------------------+-------------------+-------------------------+----------------------+ | Windows Server 2022 | SKIPPED | SKIPPED | SKIPPED | PASS | PASS | PASS | +---------------------+--------------------+------------------+-------------------+-------------------+-------------------------+----------------------+ ==== 20 line log output for openSUSE Leap 15 (dpdk_compile_ovs): ==== --- Failed to get log output --- ==== End log output ==== CentOS Stream 9 Kernel: Depends on container host Compiler: gcc 11.5.0 20240719 (Red Hat 11.5.0-2) Fedora 39 (Clang) Kernel: Depends on container host Compiler: clang 17.0.6 (Fedora 17.0.6-2.fc39) Fedora 39 Kernel: Depends on container host Compiler: gcc 13.3.1 20240522 (Red Hat 13.3.1-1) Fedora 40 Kernel: Depends on container host Compiler: gcc 14.2.1 20240912 (Red Hat 14.2.1-3) openSUSE Leap 15 Kernel: Depends on container host Compiler: gcc (SUSE Linux) 7.5.0 RHEL8 Kernel: Depends on container host Compiler: gcc 8.5.0 20210514 (Red Hat 8.5.0-22) RHEL9 Kernel: Depends on container host Compiler: gcc 11.5.0 20240719 (Red Hat 11.5.0-2) Ubuntu 20.04 Kernel: Depends on container host Compiler: gcc (Ubuntu 9.4.0-1ubuntu1~20.04.2) 9.4.0 Ubuntu 22.04 Kernel: Depends on container host Compiler: gcc (Ubuntu 11.4.0-1ubuntu1~22.04) 11.4.0 Ubuntu 24.04 Kernel: Depends on container host Compiler: gcc (Ubuntu 13.3.0-6ubuntu2~24.04) 13.3.0 Alpine Kernel: Depends on container host Compiler: gcc (Alpine 14.2.0) 14.2.0 FreeBSD 14.2 Kernel: 14.2-RELEASE Compiler: clang 18.1.6 FreeBSD 13.4 Kernel: 13.4-RELEASE-p1 Compiler: clang 18.1.6 Fedora 40 (Clang) Kernel: Depends on container host Compiler: clang 18.1.8 (Fedora 18.1.8-1.fc40) Debian 12 Kernel: Depends on container host Compiler: gcc (Debian 12.2.0-14) 12.2.0 Windows Server 2022 Kernel: 10.0.20348.2031 Compiler: clang 15.0.7, gcc 14.1.0 (MinGW), and MSVC VS 19.39.33521 To view detailed results, visit: https://lab.dpdk.org/results/dashboard/patchsets/32180/ UNH-IOL DPDK Community Lab To manage your email subscriptions, visit: https://lab.dpdk.org/results/dashboard/preferences/subscriptions/