From mboxrd@z Thu Jan 1 00:00:00 1970 Return-Path: Received: from mails.dpdk.org (mails.dpdk.org [217.70.189.124]) by inbox.dpdk.org (Postfix) with ESMTP id 953B3461BE for ; Fri, 7 Feb 2025 19:20:09 +0100 (CET) Received: from mails.dpdk.org (localhost [127.0.0.1]) by mails.dpdk.org (Postfix) with ESMTP id 9258242EE5; Fri, 7 Feb 2025 19:20:09 +0100 (CET) Received: from mail-pj1-f97.google.com (mail-pj1-f97.google.com [209.85.216.97]) by mails.dpdk.org (Postfix) with ESMTP id 5820842E90 for ; Fri, 7 Feb 2025 19:20:08 +0100 (CET) Received: by mail-pj1-f97.google.com with SMTP id 98e67ed59e1d1-2f9b9c0088fso3922859a91.0 for ; Fri, 07 Feb 2025 10:20:08 -0800 (PST) DKIM-Signature: v=1; a=rsa-sha256; c=relaxed/relaxed; d=iol.unh.edu; s=unh-iol; t=1738952407; x=1739557207; darn=dpdk.org; h=references:in-reply-to:cc:to:from:subject:message-id:date:from:to :cc:subject:date:message-id:reply-to; bh=VjEMY/CZ16x8Pa1WkSXxh4TdzeJwXDGbuyPIoigXc2c=; b=VflIG5vsOLim4m19ifidnAWjS2+GMdyBgJQrFlq4zz5rq3LxyYDan9bygkCTZB5wHh 3QVsMNtu7yCKEPNj8frtQEdsed170JnV+2LKGlDOfhQop/UVTf6QC3QZheS178nXeZTZ x1Lc4Rbe/SLhK5tCr8MTwbUYFP9vHqCY0c5u8= X-Google-DKIM-Signature: v=1; a=rsa-sha256; c=relaxed/relaxed; d=1e100.net; s=20230601; t=1738952407; x=1739557207; h=references:in-reply-to:cc:to:from:subject:message-id:date :x-gm-message-state:from:to:cc:subject:date:message-id:reply-to; bh=VjEMY/CZ16x8Pa1WkSXxh4TdzeJwXDGbuyPIoigXc2c=; b=JjP9o56JFGmR3as5mKKBO19ZEoT+UNqaXHe4p+6bBKhPvdXL40ViEqgBxsA+Tx/byA YKRrWEmYVhv36XUdIjMgbOEffOKRYycoC4fYJXjXZh1maxiCGoGcIaA6trvovKx0UxOX vY8jjZv+c9SqherReGO01HFhL19WNRYmsHBNOq/eqhzfUKnTo/o00GqMFX+tqOzdqrer EaVTUMk3+VSm5OrrpOsuDFgzedoCIuPO1+g33pPBipQSq8tmIkNfzC4FtoS5MYdc49I0 8kZ1sRvK0vYayhhQMwyGvyQpv4kpiWZalxBTBK//FjV8yW0WwCTTSnSVuGRb0u3ZYng/ HpFQ== X-Gm-Message-State: AOJu0Ywf9D2hfsMVyzMXB2FlYpLDx1gHcSTT8GvjQgc8zdNH6xa8f3WZ NPh6C0kYzd8D4vVw/UnmvWHxLQJNgfXjK9zBgbZ47sq/VcA9qxQjuQvZ5QYa5YkJwVWiQ6Tn6yC ufgCiCMg7xJ8BAz8qFZrfDAqknqQRvsydANqWNHFv X-Gm-Gg: ASbGnct1OKMnWg19jBz35pEN+DdO9t33GIJvpUbNr3NtG+NdSjRGGzE/f/8FVU8gNqN ZRI4km/AxyTKdA0wQZo3na9aM+Q3xNeVajLxpWHsjgdVhiWLv5HOis+qKbeoWxOHeYFqPuYGybC LFaYSirwSC6/2AmGQFEG/S7ZMcehABWWwZEbA7K+q6yEUAru9X6Hrn8sGuvcL3SOdFB6krZYjg4 zqAWTaFv83c0/SjYP2j8TMuCaiLXZuOqjfzy2D+80TH9L/pwhPh5hDrbvSf8njoa0b1+yRVL6fE xgEYornVhPjqbw87RgpbcEh0qhGb9g== X-Google-Smtp-Source: AGHT+IHquprPXip1+5DrV2RT0vmglMVS7Rs63wCwe59PE3cOiBpf47LXaBf+pVYJkO0mOqFB/ZNT6Kycz23o X-Received: by 2002:a17:90b:4a91:b0:2fa:176e:9705 with SMTP id 98e67ed59e1d1-2fa2483430dmr6609946a91.10.1738952407500; Fri, 07 Feb 2025 10:20:07 -0800 (PST) Received: from postal.iol.unh.edu (postal.iol.unh.edu. [132.177.123.84]) by smtp-relay.gmail.com with ESMTPS id 98e67ed59e1d1-2f9c31567c2sm112715a91.1.2025.02.07.10.20.07 (version=TLS1_2 cipher=ECDHE-ECDSA-AES128-GCM-SHA256 bits=128/128); Fri, 07 Feb 2025 10:20:07 -0800 (PST) X-Relaying-Domain: iol.unh.edu Date: Fri, 07 Feb 2025 10:20:07 -0800 (PST) Message-ID: <67a64ed7.170a0220.1e76db.4da4SMTPIN_ADDED_MISSING@mx.google.com> Received: from [172.21.0.8] (unknown [172.18.0.240]) by postal.iol.unh.edu (Postfix) with ESMTP id A98666052471; Fri, 7 Feb 2025 13:19:36 -0500 (EST) Subject: |WARNING| pw149355 [PATCH] net/vhost: improve devargs documentation From: dpdklab@iol.unh.edu To: Test Report Cc: dpdk-test-reports@iol.unh.edu In-Reply-To: <20241220145802.3851767-1-maxime.coquelin@redhat.com> References: <20241220145802.3851767-1-maxime.coquelin@redhat.com> Content-Type: text/plain X-BeenThere: test-report@dpdk.org X-Mailman-Version: 2.1.29 Precedence: list List-Id: automatic DPDK test reports List-Unsubscribe: , List-Archive: List-Post: List-Help: List-Subscribe: , Errors-To: test-report-bounces@dpdk.org Test-Label: iol-compile-amd64-testing Test-Status: WARNING http://dpdk.org/patch/149355 _Testing issues_ Submitter: Maxime Coquelin Date: Friday, December 20 2024 14:58:02 DPDK git baseline: Repo:dpdk Branch: master CommitID:07604f264417959d76aa9fcb8cb0c3665f62f0d3 149355 --> testing issues Test environment and result as below: +---------------------+--------------------+------------------+-------------------+-------------------------+-------------------+----------------------+ | Environment | dpdk_meson_compile | dpdk_compile_ovs | dpdk_compile_spdk | dpdk_llvm_clang_compile | dpdk_msvc_compile | dpdk_mingw64_compile | +=====================+====================+==================+===================+=========================+===================+======================+ | CentOS Stream 9 | PASS | PASS | PASS | SKIPPED | SKIPPED | SKIPPED | +---------------------+--------------------+------------------+-------------------+-------------------------+-------------------+----------------------+ | Debian Bullseye | PASS | PASS | PASS | SKIPPED | SKIPPED | SKIPPED | +---------------------+--------------------+------------------+-------------------+-------------------------+-------------------+----------------------+ | Debian 12 | PASS | PASS | PASS | SKIPPED | SKIPPED | SKIPPED | +---------------------+--------------------+------------------+-------------------+-------------------------+-------------------+----------------------+ | Fedora 39 (Clang) | PASS | PASS | PASS | SKIPPED | SKIPPED | SKIPPED | +---------------------+--------------------+------------------+-------------------+-------------------------+-------------------+----------------------+ | Fedora 40 (Clang) | PASS | PASS | PASS | SKIPPED | SKIPPED | SKIPPED | +---------------------+--------------------+------------------+-------------------+-------------------------+-------------------+----------------------+ | Fedora 39 | PASS | PASS | PASS | SKIPPED | SKIPPED | SKIPPED | +---------------------+--------------------+------------------+-------------------+-------------------------+-------------------+----------------------+ | Fedora 40 | PASS | PASS | PASS | SKIPPED | SKIPPED | SKIPPED | +---------------------+--------------------+------------------+-------------------+-------------------------+-------------------+----------------------+ | openSUSE Leap 15 | PASS | WARN | SKIPPED | SKIPPED | SKIPPED | SKIPPED | +---------------------+--------------------+------------------+-------------------+-------------------------+-------------------+----------------------+ | RHEL9 | PASS | PASS | SKIPPED | SKIPPED | SKIPPED | SKIPPED | +---------------------+--------------------+------------------+-------------------+-------------------------+-------------------+----------------------+ | RHEL8 | PASS | PASS | SKIPPED | SKIPPED | SKIPPED | SKIPPED | +---------------------+--------------------+------------------+-------------------+-------------------------+-------------------+----------------------+ | Ubuntu 20.04 | PASS | SKIPPED | SKIPPED | SKIPPED | SKIPPED | SKIPPED | +---------------------+--------------------+------------------+-------------------+-------------------------+-------------------+----------------------+ | Ubuntu 22.04 | PASS | PASS | PASS | SKIPPED | SKIPPED | SKIPPED | +---------------------+--------------------+------------------+-------------------+-------------------------+-------------------+----------------------+ | Ubuntu 24.04 | PASS | PASS | PASS | SKIPPED | SKIPPED | SKIPPED | +---------------------+--------------------+------------------+-------------------+-------------------------+-------------------+----------------------+ | Alpine | PASS | PASS | SKIPPED | SKIPPED | SKIPPED | SKIPPED | +---------------------+--------------------+------------------+-------------------+-------------------------+-------------------+----------------------+ | FreeBSD 13.4 | PASS | SKIPPED | SKIPPED | SKIPPED | SKIPPED | SKIPPED | +---------------------+--------------------+------------------+-------------------+-------------------------+-------------------+----------------------+ | FreeBSD 14.2 | PASS | SKIPPED | SKIPPED | SKIPPED | SKIPPED | SKIPPED | +---------------------+--------------------+------------------+-------------------+-------------------------+-------------------+----------------------+ | Windows Server 2022 | SKIPPED | SKIPPED | SKIPPED | PASS | PASS | PASS | +---------------------+--------------------+------------------+-------------------+-------------------------+-------------------+----------------------+ ==== 20 line log output for openSUSE Leap 15 (dpdk_compile_ovs): ==== --- Failed to get log output --- ==== End log output ==== CentOS Stream 9 Kernel: Depends on container host Compiler: gcc 11.5.0 20240719 (Red Hat 11.5.0-2) Debian Bullseye Kernel: Depends on container host Compiler: gcc (Debian 10.2.1-6) 10.2.1 20210110 Debian 12 Kernel: Depends on container host Compiler: gcc (Debian 12.2.0-14) 12.2.0 Fedora 39 (Clang) Kernel: Depends on container host Compiler: clang 17.0.6 (Fedora 17.0.6-2.fc39) Fedora 40 (Clang) Kernel: Depends on container host Compiler: clang 18.1.8 (Fedora 18.1.8-1.fc40) Fedora 39 Kernel: Depends on container host Compiler: gcc 13.3.1 20240522 (Red Hat 13.3.1-1) Fedora 40 Kernel: Depends on container host Compiler: gcc 14.2.1 20240912 (Red Hat 14.2.1-3) openSUSE Leap 15 Kernel: Depends on container host Compiler: gcc (SUSE Linux) 7.5.0 RHEL9 Kernel: Depends on container host Compiler: gcc 11.5.0 20240719 (Red Hat 11.5.0-2) RHEL8 Kernel: Depends on container host Compiler: gcc 8.5.0 20210514 (Red Hat 8.5.0-22) Ubuntu 20.04 Kernel: Depends on container host Compiler: gcc (Ubuntu 9.4.0-1ubuntu1~20.04.2) 9.4.0 Ubuntu 22.04 Kernel: Depends on container host Compiler: gcc (Ubuntu 11.4.0-1ubuntu1~22.04) 11.4.0 Ubuntu 24.04 Kernel: Depends on container host Compiler: gcc (Ubuntu 13.3.0-6ubuntu2~24.04) 13.3.0 Alpine Kernel: Depends on container host Compiler: gcc (Alpine 14.2.0) 14.2.0 FreeBSD 13.4 Kernel: 13.4-RELEASE-p1 Compiler: clang 18.1.6 FreeBSD 14.2 Kernel: 14.2-RELEASE Compiler: clang 18.1.6 Windows Server 2022 Kernel: 10.0.20348.2031 Compiler: clang 15.0.7, gcc 14.1.0 (MinGW), and MSVC VS 19.39.33521 To view detailed results, visit: https://lab.dpdk.org/results/dashboard/patchsets/32183/ UNH-IOL DPDK Community Lab To manage your email subscriptions, visit: https://lab.dpdk.org/results/dashboard/preferences/subscriptions/