From mboxrd@z Thu Jan  1 00:00:00 1970
Return-Path: <test-report-bounces@dpdk.org>
Received: from mails.dpdk.org (mails.dpdk.org [217.70.189.124])
	by inbox.dpdk.org (Postfix) with ESMTP id AEB96461BE
	for <public@inbox.dpdk.org>; Fri,  7 Feb 2025 19:20:14 +0100 (CET)
Received: from mails.dpdk.org (localhost [127.0.0.1])
	by mails.dpdk.org (Postfix) with ESMTP id AC89842EE5;
	Fri,  7 Feb 2025 19:20:14 +0100 (CET)
Received: from mail-io1-f97.google.com (mail-io1-f97.google.com
 [209.85.166.97]) by mails.dpdk.org (Postfix) with ESMTP id B436942E90
 for <test-report@dpdk.org>; Fri,  7 Feb 2025 19:20:10 +0100 (CET)
Received: by mail-io1-f97.google.com with SMTP id
 ca18e2360f4ac-852050432a8so70921439f.1
 for <test-report@dpdk.org>; Fri, 07 Feb 2025 10:20:10 -0800 (PST)
DKIM-Signature: v=1; a=rsa-sha256; c=relaxed/relaxed;
 d=iol.unh.edu; s=unh-iol; t=1738952410; x=1739557210; darn=dpdk.org;
 h=references:in-reply-to:cc:to:from:subject:message-id:date:from:to
 :cc:subject:date:message-id:reply-to;
 bh=pXkFDHvU/cUlocKYd1Qv8CVuenP5XYaCDBuCh0B6o+o=;
 b=gIC3SlWGLgPm+s/QGHPfqCuCXsRto0pTzM+A+9IgsmRoZg7ohFIoHT90XMn9j8CBBB
 9lqYRNo3ip0zlr8qIKgaiAJwKb0AzreDMcVl0plljeeBbBcdQhMibtZolFxDCuWmrK87
 XfHdBYzeLIQKQ+FS0WOz8Yje8nV9XdOcEpvQ8=
X-Google-DKIM-Signature: v=1; a=rsa-sha256; c=relaxed/relaxed;
 d=1e100.net; s=20230601; t=1738952410; x=1739557210;
 h=references:in-reply-to:cc:to:from:subject:message-id:date
 :x-gm-message-state:from:to:cc:subject:date:message-id:reply-to;
 bh=pXkFDHvU/cUlocKYd1Qv8CVuenP5XYaCDBuCh0B6o+o=;
 b=fFW8V31sPTmITay6jI6yqQa5RKiOlPXuj5Vqs1wfviqC+uGl0XltQ7x8jZICgJwhTn
 O+PbwikD2ZISlKxZZ+i6iO5mCU2+jhKJqpApTkKpgpHiDst6KmoeAYKaiEnG3QMeZ2wF
 KD/2cQSUPCf8TGAPxF/Mu7eTrScrMFQ6kXkf/KCxdjHAZF7d+DDasQYSRVyU5OE/jdrp
 vNUb8koCv+6aSV6geGKaCk0sgB9ac5mBrIYmGZziMjhdvlx6mbmIgcekoNckFSp1GRzW
 /84Tuon4xl7E8l4+0Pl1wfyfnW63MYt7Q03mXqxxgHFoMsQYk9FYx4IDEkOq0fr0HXKF
 x6WA==
X-Gm-Message-State: AOJu0YwvlNrbVYQOsB8XaGdEbEczEAB4vD7lyNliyFku0sQWqvmyJ5XP
 CRKYsNDSLxTcKqg1uN9YE72G2LRqX0w/GYhGwAzJpJegX+NPmLNDWVfI9rg/rxpGYlMqcGf3IpQ
 kLd3Yb5i78nx/fURf2rozrylL4rD7RUTu6P9ULtTN
X-Gm-Gg: ASbGncuU8T+ZM6Qj6wLdxvUYrQHS9+uwrquQsoCpeG4j1Lo3teRxT8T+qTEaJ3oTug8
 ge/Y8b7QGLg0yJG+d3/8xHO0jrGmxSgpQtsgriLOwQPe9R6G0HzsRUZctlNC7afi3ZqP6JFmzqU
 IoJtpIqMZXUqRS/l/A+7GDm6grBHkpyOd1Y0lxfBjAUznaVztyJik+oMeS9nE9fROXiF1ReHc2Y
 PwPyfIK4CVK65CxVDVpeEzpbJXs9+05to8TaPhZkEt4Ea4c0HZ2L38KOboyeWLBq75wvA6dtnbo
 lzO+XPWmUD61zDtOxoZYfeG3+AJGng==
X-Google-Smtp-Source: AGHT+IGq67huuurReZc7cFbz4w0iCKtrZtprbujtv+3tgnkzG8WtecuhYxpEUgFqSSsj2JZzvvQThr9dqlxk
X-Received: by 2002:a5d:8347:0:b0:82c:ec0f:a081 with SMTP id
 ca18e2360f4ac-854f3a2d2f2mr686031439f.4.1738952410069; 
 Fri, 07 Feb 2025 10:20:10 -0800 (PST)
Received: from postal.iol.unh.edu (postal.iol.unh.edu. [132.177.123.84])
 by smtp-relay.gmail.com with ESMTPS id
 8926c6da1cb9f-4eccf9d56e2sm255341173.21.2025.02.07.10.20.09
 (version=TLS1_2 cipher=ECDHE-ECDSA-AES128-GCM-SHA256 bits=128/128);
 Fri, 07 Feb 2025 10:20:10 -0800 (PST)
X-Relaying-Domain: iol.unh.edu
Date: Fri, 07 Feb 2025 10:20:10 -0800 (PST)
Message-ID: <67a64eda.050a0220.273c5b.db86SMTPIN_ADDED_MISSING@mx.google.com>
Received: from [172.21.0.7] (unknown [172.18.0.240])
 by postal.iol.unh.edu (Postfix) with ESMTP id 8C30F6052477;
 Fri,  7 Feb 2025 13:19:39 -0500 (EST)
Subject: |WARNING| pw149331-149354 [PATCH] [v4,24/24] net/_common_intel: extr
From: dpdklab@iol.unh.edu
To: Test Report <test-report@dpdk.org>
Cc: dpdk-test-reports@iol.unh.edu
In-Reply-To: <20241220143925.609044-25-bruce.richardson@intel.com>
References: <20241220143925.609044-25-bruce.richardson@intel.com>
Content-Type: text/plain
X-BeenThere: test-report@dpdk.org
X-Mailman-Version: 2.1.29
Precedence: list
List-Id: automatic DPDK test reports <test-report.dpdk.org>
List-Unsubscribe: <https://mails.dpdk.org/options/test-report>,
 <mailto:test-report-request@dpdk.org?subject=unsubscribe>
List-Archive: <http://mails.dpdk.org/archives/test-report/>
List-Post: <mailto:test-report@dpdk.org>
List-Help: <mailto:test-report-request@dpdk.org?subject=help>
List-Subscribe: <https://mails.dpdk.org/listinfo/test-report>,
 <mailto:test-report-request@dpdk.org?subject=subscribe>
Errors-To: test-report-bounces@dpdk.org

Test-Label: iol-compile-amd64-testing
Test-Status: WARNING
http://dpdk.org/patch/149354

_Testing issues_

Submitter: Bruce Richardson <bruce.richardson@intel.com>
Date: Friday, December 20 2024 14:39:21 
DPDK git baseline: Repo:dpdk
  Branch: master
  CommitID:07604f264417959d76aa9fcb8cb0c3665f62f0d3

149331-149354 --> testing issues

Test environment and result as below:

+---------------------+--------------------+------------------+-------------------+-------------------------+-------------------+----------------------+
|     Environment     | dpdk_meson_compile | dpdk_compile_ovs | dpdk_compile_spdk | dpdk_llvm_clang_compile | dpdk_msvc_compile | dpdk_mingw64_compile |
+=====================+====================+==================+===================+=========================+===================+======================+
| CentOS Stream 9     | PASS               | PASS             | PASS              | SKIPPED                 | SKIPPED           | SKIPPED              |
+---------------------+--------------------+------------------+-------------------+-------------------------+-------------------+----------------------+
| Debian 12           | PASS               | PASS             | PASS              | SKIPPED                 | SKIPPED           | SKIPPED              |
+---------------------+--------------------+------------------+-------------------+-------------------------+-------------------+----------------------+
| Debian Bullseye     | PASS               | PASS             | PASS              | SKIPPED                 | SKIPPED           | SKIPPED              |
+---------------------+--------------------+------------------+-------------------+-------------------------+-------------------+----------------------+
| openSUSE Leap 15    | PASS               | WARN             | SKIPPED           | SKIPPED                 | SKIPPED           | SKIPPED              |
+---------------------+--------------------+------------------+-------------------+-------------------------+-------------------+----------------------+
| Fedora 40 (Clang)   | PASS               | PASS             | PASS              | SKIPPED                 | SKIPPED           | SKIPPED              |
+---------------------+--------------------+------------------+-------------------+-------------------------+-------------------+----------------------+
| Fedora 40           | PASS               | PASS             | PASS              | SKIPPED                 | SKIPPED           | SKIPPED              |
+---------------------+--------------------+------------------+-------------------+-------------------------+-------------------+----------------------+
| Fedora 39 (Clang)   | PASS               | PASS             | PASS              | SKIPPED                 | SKIPPED           | SKIPPED              |
+---------------------+--------------------+------------------+-------------------+-------------------------+-------------------+----------------------+
| Fedora 39           | PASS               | PASS             | PASS              | SKIPPED                 | SKIPPED           | SKIPPED              |
+---------------------+--------------------+------------------+-------------------+-------------------------+-------------------+----------------------+
| RHEL8               | PASS               | PASS             | SKIPPED           | SKIPPED                 | SKIPPED           | SKIPPED              |
+---------------------+--------------------+------------------+-------------------+-------------------------+-------------------+----------------------+
| RHEL9               | PASS               | PASS             | SKIPPED           | SKIPPED                 | SKIPPED           | SKIPPED              |
+---------------------+--------------------+------------------+-------------------+-------------------------+-------------------+----------------------+
| Ubuntu 20.04        | PASS               | SKIPPED          | SKIPPED           | SKIPPED                 | SKIPPED           | SKIPPED              |
+---------------------+--------------------+------------------+-------------------+-------------------------+-------------------+----------------------+
| Ubuntu 22.04        | PASS               | PASS             | PASS              | SKIPPED                 | SKIPPED           | SKIPPED              |
+---------------------+--------------------+------------------+-------------------+-------------------------+-------------------+----------------------+
| Ubuntu 24.04        | PASS               | PASS             | PASS              | SKIPPED                 | SKIPPED           | SKIPPED              |
+---------------------+--------------------+------------------+-------------------+-------------------------+-------------------+----------------------+
| Alpine              | PASS               | PASS             | SKIPPED           | SKIPPED                 | SKIPPED           | SKIPPED              |
+---------------------+--------------------+------------------+-------------------+-------------------------+-------------------+----------------------+
| FreeBSD 13.4        | PASS               | SKIPPED          | SKIPPED           | SKIPPED                 | SKIPPED           | SKIPPED              |
+---------------------+--------------------+------------------+-------------------+-------------------------+-------------------+----------------------+
| FreeBSD 14.2        | PASS               | SKIPPED          | SKIPPED           | SKIPPED                 | SKIPPED           | SKIPPED              |
+---------------------+--------------------+------------------+-------------------+-------------------------+-------------------+----------------------+
| Windows Server 2022 | SKIPPED            | SKIPPED          | SKIPPED           | PASS                    | PASS              | PASS                 |
+---------------------+--------------------+------------------+-------------------+-------------------------+-------------------+----------------------+

==== 20 line log output for openSUSE Leap 15 (dpdk_compile_ovs): ====
 --- Failed to get log output --- 
==== End log output ====

CentOS Stream 9
	Kernel: Depends on container host
	Compiler: gcc 11.5.0 20240719 (Red Hat 11.5.0-2)

Debian 12
	Kernel: Depends on container host
	Compiler: gcc (Debian 12.2.0-14) 12.2.0

Debian Bullseye
	Kernel: Depends on container host
	Compiler: gcc (Debian 10.2.1-6) 10.2.1 20210110

openSUSE Leap 15
	Kernel: Depends on container host
	Compiler: gcc (SUSE Linux) 7.5.0

Fedora 40 (Clang)
	Kernel: Depends on container host
	Compiler: clang 18.1.8 (Fedora 18.1.8-1.fc40)

Fedora 40
	Kernel: Depends on container host
	Compiler: gcc 14.2.1 20240912 (Red Hat 14.2.1-3)

Fedora 39 (Clang)
	Kernel: Depends on container host
	Compiler: clang 17.0.6 (Fedora 17.0.6-2.fc39)

Fedora 39
	Kernel: Depends on container host
	Compiler: gcc 13.3.1 20240522 (Red Hat 13.3.1-1)

RHEL8
	Kernel: Depends on container host
	Compiler: gcc 8.5.0 20210514 (Red Hat 8.5.0-22)

RHEL9
	Kernel: Depends on container host
	Compiler: gcc 11.5.0 20240719 (Red Hat 11.5.0-2)

Ubuntu 20.04
	Kernel: Depends on container host
	Compiler: gcc (Ubuntu 9.4.0-1ubuntu1~20.04.2) 9.4.0

Ubuntu 22.04
	Kernel: Depends on container host
	Compiler: gcc (Ubuntu 11.4.0-1ubuntu1~22.04) 11.4.0

Ubuntu 24.04
	Kernel: Depends on container host
	Compiler: gcc (Ubuntu 13.3.0-6ubuntu2~24.04) 13.3.0

Alpine
	Kernel: Depends on container host
	Compiler: gcc (Alpine 14.2.0) 14.2.0

FreeBSD 13.4
	Kernel: 13.4-RELEASE-p1
	Compiler: clang 18.1.6

FreeBSD 14.2
	Kernel: 14.2-RELEASE
	Compiler: clang 18.1.6

Windows Server 2022
	Kernel: 10.0.20348.2031
	Compiler: clang 15.0.7, gcc 14.1.0 (MinGW), and MSVC VS 19.39.33521

To view detailed results, visit:
https://lab.dpdk.org/results/dashboard/patchsets/32182/

UNH-IOL DPDK Community Lab

To manage your email subscriptions, visit: 
https://lab.dpdk.org/results/dashboard/preferences/subscriptions/