From mboxrd@z Thu Jan 1 00:00:00 1970 Return-Path: Received: from mails.dpdk.org (mails.dpdk.org [217.70.189.124]) by inbox.dpdk.org (Postfix) with ESMTP id D4D2A461BE for ; Fri, 7 Feb 2025 19:20:19 +0100 (CET) Received: from mails.dpdk.org (localhost [127.0.0.1]) by mails.dpdk.org (Postfix) with ESMTP id CE5D042EE2; Fri, 7 Feb 2025 19:20:19 +0100 (CET) Received: from mail-pl1-f225.google.com (mail-pl1-f225.google.com [209.85.214.225]) by mails.dpdk.org (Postfix) with ESMTP id 5009B42E90 for ; Fri, 7 Feb 2025 19:20:19 +0100 (CET) Received: by mail-pl1-f225.google.com with SMTP id d9443c01a7336-21f3c119fe6so50146225ad.0 for ; Fri, 07 Feb 2025 10:20:19 -0800 (PST) DKIM-Signature: v=1; a=rsa-sha256; c=relaxed/relaxed; d=iol.unh.edu; s=unh-iol; t=1738952418; x=1739557218; darn=dpdk.org; h=references:in-reply-to:cc:to:from:subject:message-id:date:from:to :cc:subject:date:message-id:reply-to; bh=lwVIy1qnMdM1aUlv7HYCMWstTYYk/hciKGY8P8gmWlo=; b=ckdD2Uay5ryGCbtWFA9EMaDGI9Kk7xc0FmYCQ/vrkqJ5Do5M8wAKc+Pr9J1aRa3RPc 8zi4QBK/krA0qe0oSbUwz7z+rky4NWGQeKva6BZV9vgROT2/IYSnC599+AcZkyDsDchA t8cfafaO2LQS53fJQUNNNMZ339BvjDAQzMblI= X-Google-DKIM-Signature: v=1; a=rsa-sha256; c=relaxed/relaxed; d=1e100.net; s=20230601; t=1738952418; x=1739557218; h=references:in-reply-to:cc:to:from:subject:message-id:date :x-gm-message-state:from:to:cc:subject:date:message-id:reply-to; bh=lwVIy1qnMdM1aUlv7HYCMWstTYYk/hciKGY8P8gmWlo=; b=L2Izft5EGnFDfO6p0y1NWqVN6ARD+sQXorK/6Y9HM35piPlooBcXSgdwI1irHV2RuD 4R/0I10c1/HgvLw17t/7Y2kf0AvQcaVi4Ac8IOQjKK52+9xYA6SZs3BgkswSC2fz1DZU UmFDEFzQAFDnpzDNdidH6V/r+Dike2BP87P5w4xT3ul1y95ezgE7dP0fWB62XpR5jsOl bufrQxOxRuWmp6IxCibgDo8Gb3G0S2eKIeRE1ZM9gTbO+3z/L2ZqWfMGuB9fmpz0Elfl FHXmN7CStZrLIcMIBE2jMvwoBGpuGDsI7iRnyhsaeRogr2+r9If39Ea3ZXpZNDUfho1l lNkw== X-Gm-Message-State: AOJu0Yx+uHgtTE3CHcEgB+0GXxWoY7aMA7EK6ky81gfd5d/ySvkXOCTt Q3Tf/YTdhGmdhxQuas3XLrOWBe/Qaoll6eb1X7q5PVlDA3aUqgrxXBj8dZysddoYi+Q8wQ4PZ4g fytUTHB24/QucImT3BINiQxfnvYud+VZ4I20f6PP6 X-Gm-Gg: ASbGncsGXV/IQvwhf5Yh4khTzuKcYDACMDhvH68Sq5/iSLLaY1ehc18oc88hr+cVHiK IC/FYnZ8PIZpCZ1lKGO40uXWK9venk+vr3YpuOY1gPPUzQJB5tQ7sv2n49fevnIWCPNstb67nTH 06OBUwi9BhnKUY3VEie3I7SFlszPlvcDPe129BfO7rUSCuB6FfAfob8Ohix+eskPAl1d//e2pR0 umeT7O+scmYk/XQ8YaeDhGYccpPqBGyzXGKa11D0crlcx7+RhAQv1yZ8VBkooVEnTeTtrR4GrEE umk6C0RujPn7C46njTDfZnLaoX3bbg== X-Google-Smtp-Source: AGHT+IGcKYDgXCBoTkpntY+du6FdKvRGy047/jSPhE2x1w3JABQEiBV00sgCjSHLyVfQQO4lUB3EJkGWr+WJ X-Received: by 2002:a05:6a21:680d:b0:1e0:d6ef:521a with SMTP id adf61e73a8af0-1ee03a24fa7mr8555567637.1.1738952418539; Fri, 07 Feb 2025 10:20:18 -0800 (PST) Received: from postal.iol.unh.edu (postal.iol.unh.edu. [132.177.123.84]) by smtp-relay.gmail.com with ESMTPS id d2e1a72fcca58-73048b0fe31sm189623b3a.14.2025.02.07.10.20.18 (version=TLS1_2 cipher=ECDHE-ECDSA-AES128-GCM-SHA256 bits=128/128); Fri, 07 Feb 2025 10:20:18 -0800 (PST) X-Relaying-Domain: iol.unh.edu Date: Fri, 07 Feb 2025 10:20:18 -0800 (PST) Message-ID: <67a64ee2.050a0220.19a06.9cf2SMTPIN_ADDED_MISSING@mx.google.com> Received: from [172.21.0.7] (unknown [172.18.0.240]) by postal.iol.unh.edu (Postfix) with ESMTP id ADD1C6052472; Fri, 7 Feb 2025 13:20:17 -0500 (EST) Subject: |WARNING| pw149327 [PATCH] [1/1] vhost: fix missing gso_size validit From: dpdklab@iol.unh.edu To: Test Report Cc: dpdk-test-reports@iol.unh.edu In-Reply-To: <6d3c97d4be3a43a45e9435478015f1ec546b14b6.1734663422.git.wangyunjian@huawei.com> References: <6d3c97d4be3a43a45e9435478015f1ec546b14b6.1734663422.git.wangyunjian@huawei.com> Content-Type: text/plain X-BeenThere: test-report@dpdk.org X-Mailman-Version: 2.1.29 Precedence: list List-Id: automatic DPDK test reports List-Unsubscribe: , List-Archive: List-Post: List-Help: List-Subscribe: , Errors-To: test-report-bounces@dpdk.org Test-Label: iol-compile-amd64-testing Test-Status: WARNING http://dpdk.org/patch/149327 _Testing issues_ Submitter: Yunjian Wang Date: Friday, December 20 2024 03:45:09 DPDK git baseline: Repo:dpdk Branch: master CommitID:510b460e02594a70d4ce19e2d29df3ade8af36d7 149327 --> testing issues Test environment and result as below: +---------------------+--------------------+------------------+-------------------+-------------------+-------------------------+----------------------+ | Environment | dpdk_meson_compile | dpdk_compile_ovs | dpdk_compile_spdk | dpdk_msvc_compile | dpdk_llvm_clang_compile | dpdk_mingw64_compile | +=====================+====================+==================+===================+===================+=========================+======================+ | CentOS Stream 9 | PASS | PASS | PASS | SKIPPED | SKIPPED | SKIPPED | +---------------------+--------------------+------------------+-------------------+-------------------+-------------------------+----------------------+ | Fedora 39 (Clang) | PASS | PASS | PASS | SKIPPED | SKIPPED | SKIPPED | +---------------------+--------------------+------------------+-------------------+-------------------+-------------------------+----------------------+ | Fedora 40 (Clang) | PASS | PASS | PASS | SKIPPED | SKIPPED | SKIPPED | +---------------------+--------------------+------------------+-------------------+-------------------+-------------------------+----------------------+ | Fedora 39 | PASS | PASS | PASS | SKIPPED | SKIPPED | SKIPPED | +---------------------+--------------------+------------------+-------------------+-------------------+-------------------------+----------------------+ | RHEL8 | PASS | PASS | SKIPPED | SKIPPED | SKIPPED | SKIPPED | +---------------------+--------------------+------------------+-------------------+-------------------+-------------------------+----------------------+ | RHEL9 | PASS | PASS | SKIPPED | SKIPPED | SKIPPED | SKIPPED | +---------------------+--------------------+------------------+-------------------+-------------------+-------------------------+----------------------+ | openSUSE Leap 15 | PASS | WARN | SKIPPED | SKIPPED | SKIPPED | SKIPPED | +---------------------+--------------------+------------------+-------------------+-------------------+-------------------------+----------------------+ | Ubuntu 20.04 | PASS | SKIPPED | SKIPPED | SKIPPED | SKIPPED | SKIPPED | +---------------------+--------------------+------------------+-------------------+-------------------+-------------------------+----------------------+ | Ubuntu 22.04 | PASS | PASS | PASS | SKIPPED | SKIPPED | SKIPPED | +---------------------+--------------------+------------------+-------------------+-------------------+-------------------------+----------------------+ | Alpine | PASS | PASS | SKIPPED | SKIPPED | SKIPPED | SKIPPED | +---------------------+--------------------+------------------+-------------------+-------------------+-------------------------+----------------------+ | Ubuntu 24.04 | PASS | PASS | PASS | SKIPPED | SKIPPED | SKIPPED | +---------------------+--------------------+------------------+-------------------+-------------------+-------------------------+----------------------+ | FreeBSD 13.4 | PASS | SKIPPED | SKIPPED | SKIPPED | SKIPPED | SKIPPED | +---------------------+--------------------+------------------+-------------------+-------------------+-------------------------+----------------------+ | FreeBSD 14.2 | PASS | SKIPPED | SKIPPED | SKIPPED | SKIPPED | SKIPPED | +---------------------+--------------------+------------------+-------------------+-------------------+-------------------------+----------------------+ | Fedora 40 | PASS | PASS | PASS | SKIPPED | SKIPPED | SKIPPED | +---------------------+--------------------+------------------+-------------------+-------------------+-------------------------+----------------------+ | Windows Server 2022 | SKIPPED | SKIPPED | SKIPPED | PASS | PASS | PASS | +---------------------+--------------------+------------------+-------------------+-------------------+-------------------------+----------------------+ ==== 20 line log output for openSUSE Leap 15 (dpdk_compile_ovs): ==== --- Failed to get log output --- ==== End log output ==== CentOS Stream 9 Kernel: Depends on container host Compiler: gcc 11.5.0 20240719 (Red Hat 11.5.0-2) Fedora 39 (Clang) Kernel: Depends on container host Compiler: clang 17.0.6 (Fedora 17.0.6-2.fc39) Fedora 40 (Clang) Kernel: Depends on container host Compiler: clang 18.1.8 (Fedora 18.1.8-1.fc40) Fedora 39 Kernel: Depends on container host Compiler: gcc 13.3.1 20240522 (Red Hat 13.3.1-1) RHEL8 Kernel: Depends on container host Compiler: gcc 8.5.0 20210514 (Red Hat 8.5.0-22) RHEL9 Kernel: Depends on container host Compiler: gcc 11.5.0 20240719 (Red Hat 11.5.0-2) openSUSE Leap 15 Kernel: Depends on container host Compiler: gcc (SUSE Linux) 7.5.0 Ubuntu 20.04 Kernel: Depends on container host Compiler: gcc (Ubuntu 9.4.0-1ubuntu1~20.04.2) 9.4.0 Ubuntu 22.04 Kernel: Depends on container host Compiler: gcc (Ubuntu 11.4.0-1ubuntu1~22.04) 11.4.0 Alpine Kernel: Depends on container host Compiler: gcc (Alpine 14.2.0) 14.2.0 Ubuntu 24.04 Kernel: Depends on container host Compiler: gcc (Ubuntu 13.3.0-6ubuntu2~24.04) 13.3.0 FreeBSD 13.4 Kernel: 13.4-RELEASE-p1 Compiler: clang 18.1.6 FreeBSD 14.2 Kernel: 14.2-RELEASE Compiler: clang 18.1.6 Fedora 40 Kernel: Depends on container host Compiler: gcc 14.2.1 20240912 (Red Hat 14.2.1-3) Windows Server 2022 Kernel: 10.0.20348.2031 Compiler: clang 15.0.7, gcc 14.1.0 (MinGW), and MSVC VS 19.39.33521 To view detailed results, visit: https://lab.dpdk.org/results/dashboard/patchsets/32178/ UNH-IOL DPDK Community Lab To manage your email subscriptions, visit: https://lab.dpdk.org/results/dashboard/preferences/subscriptions/