From mboxrd@z Thu Jan 1 00:00:00 1970 Return-Path: Received: from mails.dpdk.org (mails.dpdk.org [217.70.189.124]) by inbox.dpdk.org (Postfix) with ESMTP id E8C8F461BE for ; Fri, 7 Feb 2025 19:20:23 +0100 (CET) Received: from mails.dpdk.org (localhost [127.0.0.1]) by mails.dpdk.org (Postfix) with ESMTP id E231542ED5; Fri, 7 Feb 2025 19:20:23 +0100 (CET) Received: from mail-qk1-f228.google.com (mail-qk1-f228.google.com [209.85.222.228]) by mails.dpdk.org (Postfix) with ESMTP id 57BC442E90 for ; Fri, 7 Feb 2025 19:20:20 +0100 (CET) Received: by mail-qk1-f228.google.com with SMTP id af79cd13be357-7bcf32a6582so214651685a.1 for ; Fri, 07 Feb 2025 10:20:20 -0800 (PST) DKIM-Signature: v=1; a=rsa-sha256; c=relaxed/relaxed; d=iol.unh.edu; s=unh-iol; t=1738952419; x=1739557219; darn=dpdk.org; h=references:in-reply-to:cc:to:from:subject:message-id:date:from:to :cc:subject:date:message-id:reply-to; bh=tekA5x0AAwyuiFKpPARQe9IezMNp2IYPw9nEIOiHfJI=; b=jkyEVLBGS5qiFaYvvrhGodDOXNLowrj5ERO8w9J6wfj9vAwrgPRf+geiz+7QlC08E+ S6LqdvzQAB/3oCzXd+CzaB10xwbKYt3vXER7dNtYtFuSV56vR5/QhIQUb8FKcVzTPoGu +9f2vT4nrj/CsdHy7SzBKZLUDu9OPKvI7QRDQ= X-Google-DKIM-Signature: v=1; a=rsa-sha256; c=relaxed/relaxed; d=1e100.net; s=20230601; t=1738952419; x=1739557219; h=references:in-reply-to:cc:to:from:subject:message-id:date :x-gm-message-state:from:to:cc:subject:date:message-id:reply-to; bh=tekA5x0AAwyuiFKpPARQe9IezMNp2IYPw9nEIOiHfJI=; b=umfBb2ivzUXdO10fS0wB8Hj1Ab2s877ucYmj6VoXzH+Lfs1ik6BV2IfKwTMzqCwAuA WVkf/BFuNRA2nMgkvvKHrYg47MGiskqSUyHCyuY5GzfCQ8Z3K0DEfVb1wNoaraez7ECM NwWErAL8Dc9UVVxgqucWaJOXTKRWMi7xfU9tooFE307sAVzflhIq39ll9B/gaIGMP5HR dgzq8g1F5wQxdQUWNnaEuSjxn103TJe8nqvfv0rJKS5/9SoLr2uLWZVhi2HSmUeh0/v2 nSIFIEZVBtbVPCjl5n6wTa77EpkKeli4n3rUy+RcMW4gUNOnAX8H5SP27YiNq5zB3Xr3 GfJQ== X-Gm-Message-State: AOJu0YzxRZbxmRInlT1hkhAtKuWLjJlYHdETr79CyHK8JC4/VuOGFN37 Bq518N7zqEdZrpYWamMYsg5IQYbFwGyAYrszsZUrAU9BYk9c10xi2VNCA08GckIDoHZp+ao+Ji7 DxxsBtgVRYBLElVhsf2zCe2uOeOpenC5zSypnegLi X-Gm-Gg: ASbGnctjWzdbYJ7qMuNqd9s9CFaOKNm90Sb1hAfWwMFs6zKEU6s+9QmcvagDt/1axS5 64+U0Ya+9I5Zyy3WjrW4+Ca1kAAvobtrvM9FJJtAm9lkpekvd+UetcpYSykrF3Wsk+5cpJkEgm2 TyTTBWzgr4Ky0PsiBCsK95bvYOCVPDAbLMPT9ARX6ejQmSyRtRHNLsBSYY6K+kXj4npfqSKSjUA b9fJdOH+PN6m33fJqNlKmSPfXG/wxMZ9C/ZFMdhgV3Fh0UiCc+IX+YMOM4VMtWc4iFoKCt2vUV0 QcC2H5tjWfHgRl9HMCmnuabRCumirg== X-Google-Smtp-Source: AGHT+IGAxi5ur4sIqWfJ/x85d32ottO2ugW6wYegGk7TbPhr4dsMG9FVrv/EJ07HO6e/TSbtufD++W7p6OsO X-Received: by 2002:a05:6214:2a48:b0:6e4:2c59:57d with SMTP id 6a1803df08f44-6e44562cbabmr65079446d6.16.1738952419689; Fri, 07 Feb 2025 10:20:19 -0800 (PST) Received: from postal.iol.unh.edu (postal.iol.unh.edu. [132.177.123.84]) by smtp-relay.gmail.com with ESMTPS id 6a1803df08f44-6e43d406357sm2105016d6.65.2025.02.07.10.20.19 (version=TLS1_2 cipher=ECDHE-ECDSA-AES128-GCM-SHA256 bits=128/128); Fri, 07 Feb 2025 10:20:19 -0800 (PST) X-Relaying-Domain: iol.unh.edu Date: Fri, 07 Feb 2025 10:20:19 -0800 (PST) Message-ID: <67a64ee3.0c0a0220.21e52.ae95SMTPIN_ADDED_MISSING@mx.google.com> Received: from [172.21.0.10] (unknown [172.18.0.240]) by postal.iol.unh.edu (Postfix) with ESMTP id 689506052472; Fri, 7 Feb 2025 13:20:19 -0500 (EST) Subject: |WARNING| pw149326 [PATCH] net/virtio: check return value when calli From: dpdklab@iol.unh.edu To: Test Report Cc: dpdk-test-reports@iol.unh.edu In-Reply-To: <20241220015326.36760-1-sunyang.wu@jaguarmicro.com> References: <20241220015326.36760-1-sunyang.wu@jaguarmicro.com> Content-Type: text/plain X-BeenThere: test-report@dpdk.org X-Mailman-Version: 2.1.29 Precedence: list List-Id: automatic DPDK test reports List-Unsubscribe: , List-Archive: List-Post: List-Help: List-Subscribe: , Errors-To: test-report-bounces@dpdk.org Test-Label: iol-compile-amd64-testing Test-Status: WARNING http://dpdk.org/patch/149326 _Testing issues_ Submitter: Sunyang Wu Date: Friday, December 20 2024 01:53:26 DPDK git baseline: Repo:dpdk Branch: master CommitID:510b460e02594a70d4ce19e2d29df3ade8af36d7 149326 --> testing issues Test environment and result as below: +---------------------+--------------------+------------------+-------------------+-------------------------+-------------------+----------------------+ | Environment | dpdk_meson_compile | dpdk_compile_ovs | dpdk_compile_spdk | dpdk_llvm_clang_compile | dpdk_msvc_compile | dpdk_mingw64_compile | +=====================+====================+==================+===================+=========================+===================+======================+ | Debian 12 | PASS | PASS | PASS | SKIPPED | SKIPPED | SKIPPED | +---------------------+--------------------+------------------+-------------------+-------------------------+-------------------+----------------------+ | CentOS Stream 9 | PASS | PASS | PASS | SKIPPED | SKIPPED | SKIPPED | +---------------------+--------------------+------------------+-------------------+-------------------------+-------------------+----------------------+ | Fedora 40 | PASS | PASS | PASS | SKIPPED | SKIPPED | SKIPPED | +---------------------+--------------------+------------------+-------------------+-------------------------+-------------------+----------------------+ | Fedora 39 (Clang) | PASS | PASS | PASS | SKIPPED | SKIPPED | SKIPPED | +---------------------+--------------------+------------------+-------------------+-------------------------+-------------------+----------------------+ | Fedora 39 | PASS | PASS | PASS | SKIPPED | SKIPPED | SKIPPED | +---------------------+--------------------+------------------+-------------------+-------------------------+-------------------+----------------------+ | openSUSE Leap 15 | PASS | WARN | SKIPPED | SKIPPED | SKIPPED | SKIPPED | +---------------------+--------------------+------------------+-------------------+-------------------------+-------------------+----------------------+ | Fedora 40 (Clang) | PASS | PASS | PASS | SKIPPED | SKIPPED | SKIPPED | +---------------------+--------------------+------------------+-------------------+-------------------------+-------------------+----------------------+ | RHEL9 | PASS | PASS | SKIPPED | SKIPPED | SKIPPED | SKIPPED | +---------------------+--------------------+------------------+-------------------+-------------------------+-------------------+----------------------+ | Ubuntu 22.04 | PASS | PASS | PASS | SKIPPED | SKIPPED | SKIPPED | +---------------------+--------------------+------------------+-------------------+-------------------------+-------------------+----------------------+ | RHEL8 | PASS | PASS | SKIPPED | SKIPPED | SKIPPED | SKIPPED | +---------------------+--------------------+------------------+-------------------+-------------------------+-------------------+----------------------+ | Ubuntu 20.04 | PASS | SKIPPED | SKIPPED | SKIPPED | SKIPPED | SKIPPED | +---------------------+--------------------+------------------+-------------------+-------------------------+-------------------+----------------------+ | Ubuntu 24.04 | PASS | PASS | PASS | SKIPPED | SKIPPED | SKIPPED | +---------------------+--------------------+------------------+-------------------+-------------------------+-------------------+----------------------+ | Alpine | PASS | PASS | SKIPPED | SKIPPED | SKIPPED | SKIPPED | +---------------------+--------------------+------------------+-------------------+-------------------------+-------------------+----------------------+ | FreeBSD 13.4 | PASS | SKIPPED | SKIPPED | SKIPPED | SKIPPED | SKIPPED | +---------------------+--------------------+------------------+-------------------+-------------------------+-------------------+----------------------+ | FreeBSD 14.2 | PASS | SKIPPED | SKIPPED | SKIPPED | SKIPPED | SKIPPED | +---------------------+--------------------+------------------+-------------------+-------------------------+-------------------+----------------------+ | Windows Server 2022 | SKIPPED | SKIPPED | SKIPPED | PASS | PASS | PASS | +---------------------+--------------------+------------------+-------------------+-------------------------+-------------------+----------------------+ ==== 20 line log output for openSUSE Leap 15 (dpdk_compile_ovs): ==== --- Failed to get log output --- ==== End log output ==== Debian 12 Kernel: Depends on container host Compiler: gcc (Debian 12.2.0-14) 12.2.0 CentOS Stream 9 Kernel: Depends on container host Compiler: gcc 11.5.0 20240719 (Red Hat 11.5.0-2) Fedora 40 Kernel: Depends on container host Compiler: gcc 14.2.1 20240912 (Red Hat 14.2.1-3) Fedora 39 (Clang) Kernel: Depends on container host Compiler: clang 17.0.6 (Fedora 17.0.6-2.fc39) Fedora 39 Kernel: Depends on container host Compiler: gcc 13.3.1 20240522 (Red Hat 13.3.1-1) openSUSE Leap 15 Kernel: Depends on container host Compiler: gcc (SUSE Linux) 7.5.0 Fedora 40 (Clang) Kernel: Depends on container host Compiler: clang 18.1.8 (Fedora 18.1.8-1.fc40) RHEL9 Kernel: Depends on container host Compiler: gcc 11.5.0 20240719 (Red Hat 11.5.0-2) Ubuntu 22.04 Kernel: Depends on container host Compiler: gcc (Ubuntu 11.4.0-1ubuntu1~22.04) 11.4.0 RHEL8 Kernel: Depends on container host Compiler: gcc 8.5.0 20210514 (Red Hat 8.5.0-22) Ubuntu 20.04 Kernel: Depends on container host Compiler: gcc (Ubuntu 9.4.0-1ubuntu1~20.04.2) 9.4.0 Ubuntu 24.04 Kernel: Depends on container host Compiler: gcc (Ubuntu 13.3.0-6ubuntu2~24.04) 13.3.0 Alpine Kernel: Depends on container host Compiler: gcc (Alpine 14.2.0) 14.2.0 FreeBSD 13.4 Kernel: 13.4-RELEASE-p1 Compiler: clang 18.1.6 FreeBSD 14.2 Kernel: 14.2-RELEASE Compiler: clang 18.1.6 Windows Server 2022 Kernel: 10.0.20348.2031 Compiler: clang 15.0.7, gcc 14.1.0 (MinGW), and MSVC VS 19.39.33521 To view detailed results, visit: https://lab.dpdk.org/results/dashboard/patchsets/32177/ UNH-IOL DPDK Community Lab To manage your email subscriptions, visit: https://lab.dpdk.org/results/dashboard/preferences/subscriptions/