From mboxrd@z Thu Jan 1 00:00:00 1970 Return-Path: Received: from mails.dpdk.org (mails.dpdk.org [217.70.189.124]) by inbox.dpdk.org (Postfix) with ESMTP id 04509461BE for ; Fri, 7 Feb 2025 19:20:35 +0100 (CET) Received: from mails.dpdk.org (localhost [127.0.0.1]) by mails.dpdk.org (Postfix) with ESMTP id 013C642ED5; Fri, 7 Feb 2025 19:20:35 +0100 (CET) Received: from mail-oa1-f100.google.com (mail-oa1-f100.google.com [209.85.160.100]) by mails.dpdk.org (Postfix) with ESMTP id 5134B42E90 for ; Fri, 7 Feb 2025 19:20:34 +0100 (CET) Received: by mail-oa1-f100.google.com with SMTP id 586e51a60fabf-2a9ef75a20dso1890186fac.2 for ; Fri, 07 Feb 2025 10:20:34 -0800 (PST) DKIM-Signature: v=1; a=rsa-sha256; c=relaxed/relaxed; d=iol.unh.edu; s=unh-iol; t=1738952433; x=1739557233; darn=dpdk.org; h=references:in-reply-to:cc:to:from:subject:message-id:date:from:to :cc:subject:date:message-id:reply-to; bh=nYRUcM1K2jnVO5rMb+YGCTXkXINka8X2PfWhMSX3mhs=; b=P5GTbXybueJr1NlUsfL5KGzu4s8y1CquysMXDo7fcklYJv7uifJRuPzMMpOKpoqt7w /V3/LsDFm9ZDvR6geCsnFfzMkLoA1mt7oyEvS4XLl8NHO8JA0JC2fYbcqnwRVl6wZ8xF rq4kf5r+GsOQR5yB7y4gSYm0tJiCgwpmouBDc= X-Google-DKIM-Signature: v=1; a=rsa-sha256; c=relaxed/relaxed; d=1e100.net; s=20230601; t=1738952433; x=1739557233; h=references:in-reply-to:cc:to:from:subject:message-id:date :x-gm-message-state:from:to:cc:subject:date:message-id:reply-to; bh=nYRUcM1K2jnVO5rMb+YGCTXkXINka8X2PfWhMSX3mhs=; b=Tdng6DE6csTBBerRUXaK21B2Gpjw4FpqIrDkgYxYG5P3ofzDR+Fs35nFE041SHQj7I dO91jrJ2JiJ8s0pVGZrzNCSrGBSHY+B3eR/wJQEgx4ZCpGOCJY8bLCoQXjlxZ1ePyW2P 5Zj1s/hnFraOkpBWsc5iftExOXdAmEsIE9DkO5nbhA9T1WVIf0Y/j3b7Jr+KuPRLH/gh CuPzRLZrRQZry7oHq6jAFx6YLmXixrAwRr1KMqeLdNVeDnDr5q64xco2rZDJvr4rTayF PNm9SEmpcgzcdzQ4Q4i3RBL3LcQxxnGQM7rOw/NG1fNVV9ukpIRbVXFRKVjKaTOMtoCe hmLg== X-Gm-Message-State: AOJu0Yzzp5SSnK4Iw+UiSCf3j+nrjhFIAhREik3CXj9TCXM4Kndpg0Sp 0SANm4XG/8hB6+mZao1wjYOiTIeRXigPWTBPxdW51unujVrYtjS76cXOoVBJ7WOXLNn72k6uaRT Z3wr0QScmCnv1edQRPt9VinawaZ2UaMpbuGB4dS/n X-Gm-Gg: ASbGncu+4LBqk32c6t3kO9MxNcuiFemLdRbdYgS/cnSlUklfUkHbIUUAX/KUxPhSr6Y 6Dp5DQyA4S3pLzQwUDvUPBR6L3Yz5NJmx3Hv01TM8ooEpL3H8BR8A6IyoUOKVJNacP1K1TQfJUq wmXOWSfs5kcTV/g8KabSZ+4T3zcM6pTuyOjC3RgkWUQIuz3dC8/qqQUOXutJsC2i0E7TnwioXAd whMU7A/uQ8GARMY3906PCh4Tsj3xQ1Z/ej5unjFIlkadmqeeDSZ2qsVQVhQot15exMcJ7fJqtf+ B0PLOuWOvDh+c6oTOtDGQpKfspfILA== X-Google-Smtp-Source: AGHT+IHExnVhz2AT2D9ME+435Pb/aMidQdPhVz6bl314ETcqfSJjeXM8oFDVfVwBmqpmqdGosNt4u1hWqooD X-Received: by 2002:a05:6870:e8b:b0:296:b568:7901 with SMTP id 586e51a60fabf-2b83ec2d9f5mr2706319fac.16.1738952433498; Fri, 07 Feb 2025 10:20:33 -0800 (PST) Received: from postal.iol.unh.edu (postal.iol.unh.edu. [132.177.123.84]) by smtp-relay.gmail.com with ESMTPS id 586e51a60fabf-2b825e3c224sm210206fac.1.2025.02.07.10.20.33 (version=TLS1_2 cipher=ECDHE-ECDSA-AES128-GCM-SHA256 bits=128/128); Fri, 07 Feb 2025 10:20:33 -0800 (PST) X-Relaying-Domain: iol.unh.edu Date: Fri, 07 Feb 2025 10:20:33 -0800 (PST) Message-ID: <67a64ef1.050a0220.6e5d7.bba8SMTPIN_ADDED_MISSING@mx.google.com> Received: from [172.21.0.13] (unknown [172.18.0.240]) by postal.iol.unh.edu (Postfix) with ESMTP id 007D56052477; Fri, 7 Feb 2025 13:20:33 -0500 (EST) Subject: |WARNING| pw149325 [PATCH] pdump: clear statistics when enabled From: dpdklab@iol.unh.edu To: Test Report Cc: dpdk-test-reports@iol.unh.edu In-Reply-To: <20241219235853.854132-1-stephen@networkplumber.org> References: <20241219235853.854132-1-stephen@networkplumber.org> Content-Type: text/plain X-BeenThere: test-report@dpdk.org X-Mailman-Version: 2.1.29 Precedence: list List-Id: automatic DPDK test reports List-Unsubscribe: , List-Archive: List-Post: List-Help: List-Subscribe: , Errors-To: test-report-bounces@dpdk.org Test-Label: iol-compile-amd64-testing Test-Status: WARNING http://dpdk.org/patch/149325 _Testing issues_ Submitter: Stephen Hemminger Date: Thursday, December 19 2024 23:58:53 DPDK git baseline: Repo:dpdk Branch: master CommitID:07604f264417959d76aa9fcb8cb0c3665f62f0d3 149325 --> testing issues Test environment and result as below: +---------------------+--------------------+------------------+-------------------+-------------------------+-------------------+----------------------+ | Environment | dpdk_meson_compile | dpdk_compile_ovs | dpdk_compile_spdk | dpdk_llvm_clang_compile | dpdk_msvc_compile | dpdk_mingw64_compile | +=====================+====================+==================+===================+=========================+===================+======================+ | CentOS Stream 9 | PASS | PASS | PASS | SKIPPED | SKIPPED | SKIPPED | +---------------------+--------------------+------------------+-------------------+-------------------------+-------------------+----------------------+ | Debian 12 | PASS | PASS | PASS | SKIPPED | SKIPPED | SKIPPED | +---------------------+--------------------+------------------+-------------------+-------------------------+-------------------+----------------------+ | Fedora 40 (Clang) | PASS | PASS | PASS | SKIPPED | SKIPPED | SKIPPED | +---------------------+--------------------+------------------+-------------------+-------------------------+-------------------+----------------------+ | openSUSE Leap 15 | PASS | WARN | SKIPPED | SKIPPED | SKIPPED | SKIPPED | +---------------------+--------------------+------------------+-------------------+-------------------------+-------------------+----------------------+ | Fedora 39 (Clang) | PASS | PASS | PASS | SKIPPED | SKIPPED | SKIPPED | +---------------------+--------------------+------------------+-------------------+-------------------------+-------------------+----------------------+ | Fedora 39 | PASS | PASS | PASS | SKIPPED | SKIPPED | SKIPPED | +---------------------+--------------------+------------------+-------------------+-------------------------+-------------------+----------------------+ | RHEL8 | PASS | PASS | SKIPPED | SKIPPED | SKIPPED | SKIPPED | +---------------------+--------------------+------------------+-------------------+-------------------------+-------------------+----------------------+ | Ubuntu 20.04 | PASS | SKIPPED | SKIPPED | SKIPPED | SKIPPED | SKIPPED | +---------------------+--------------------+------------------+-------------------+-------------------------+-------------------+----------------------+ | Ubuntu 22.04 | PASS | PASS | PASS | SKIPPED | SKIPPED | SKIPPED | +---------------------+--------------------+------------------+-------------------+-------------------------+-------------------+----------------------+ | FreeBSD 13.4 | PASS | SKIPPED | SKIPPED | SKIPPED | SKIPPED | SKIPPED | +---------------------+--------------------+------------------+-------------------+-------------------------+-------------------+----------------------+ | FreeBSD 14.2 | PASS | SKIPPED | SKIPPED | SKIPPED | SKIPPED | SKIPPED | +---------------------+--------------------+------------------+-------------------+-------------------------+-------------------+----------------------+ | Fedora 40 | PASS | PASS | PASS | SKIPPED | SKIPPED | SKIPPED | +---------------------+--------------------+------------------+-------------------+-------------------------+-------------------+----------------------+ | Ubuntu 24.04 | PASS | PASS | PASS | SKIPPED | SKIPPED | SKIPPED | +---------------------+--------------------+------------------+-------------------+-------------------------+-------------------+----------------------+ | RHEL9 | PASS | PASS | SKIPPED | SKIPPED | SKIPPED | SKIPPED | +---------------------+--------------------+------------------+-------------------+-------------------------+-------------------+----------------------+ | Alpine | PASS | PASS | SKIPPED | SKIPPED | SKIPPED | SKIPPED | +---------------------+--------------------+------------------+-------------------+-------------------------+-------------------+----------------------+ | Windows Server 2022 | SKIPPED | SKIPPED | SKIPPED | PASS | PASS | PASS | +---------------------+--------------------+------------------+-------------------+-------------------------+-------------------+----------------------+ ==== 20 line log output for openSUSE Leap 15 (dpdk_compile_ovs): ==== --- Failed to get log output --- ==== End log output ==== CentOS Stream 9 Kernel: Depends on container host Compiler: gcc 11.5.0 20240719 (Red Hat 11.5.0-2) Debian 12 Kernel: Depends on container host Compiler: gcc (Debian 12.2.0-14) 12.2.0 Fedora 40 (Clang) Kernel: Depends on container host Compiler: clang 18.1.8 (Fedora 18.1.8-1.fc40) openSUSE Leap 15 Kernel: Depends on container host Compiler: gcc (SUSE Linux) 7.5.0 Fedora 39 (Clang) Kernel: Depends on container host Compiler: clang 17.0.6 (Fedora 17.0.6-2.fc39) Fedora 39 Kernel: Depends on container host Compiler: gcc 13.3.1 20240522 (Red Hat 13.3.1-1) RHEL8 Kernel: Depends on container host Compiler: gcc 8.5.0 20210514 (Red Hat 8.5.0-22) Ubuntu 20.04 Kernel: Depends on container host Compiler: gcc (Ubuntu 9.4.0-1ubuntu1~20.04.2) 9.4.0 Ubuntu 22.04 Kernel: Depends on container host Compiler: gcc (Ubuntu 11.4.0-1ubuntu1~22.04) 11.4.0 FreeBSD 13.4 Kernel: 13.4-RELEASE-p1 Compiler: clang 18.1.6 FreeBSD 14.2 Kernel: 14.2-RELEASE Compiler: clang 18.1.6 Fedora 40 Kernel: Depends on container host Compiler: gcc 14.2.1 20240912 (Red Hat 14.2.1-3) Ubuntu 24.04 Kernel: Depends on container host Compiler: gcc (Ubuntu 13.3.0-6ubuntu2~24.04) 13.3.0 RHEL9 Kernel: Depends on container host Compiler: gcc 11.5.0 20240719 (Red Hat 11.5.0-2) Alpine Kernel: Depends on container host Compiler: gcc (Alpine 14.2.0) 14.2.0 Windows Server 2022 Kernel: 10.0.20348.2031 Compiler: clang 15.0.7, gcc 14.1.0 (MinGW), and MSVC VS 19.39.33521 To view detailed results, visit: https://lab.dpdk.org/results/dashboard/patchsets/32176/ UNH-IOL DPDK Community Lab To manage your email subscriptions, visit: https://lab.dpdk.org/results/dashboard/preferences/subscriptions/