From mboxrd@z Thu Jan 1 00:00:00 1970 Return-Path: Received: from mails.dpdk.org (mails.dpdk.org [217.70.189.124]) by inbox.dpdk.org (Postfix) with ESMTP id 0DA02461BE for ; Fri, 7 Feb 2025 19:20:37 +0100 (CET) Received: from mails.dpdk.org (localhost [127.0.0.1]) by mails.dpdk.org (Postfix) with ESMTP id 0B72442ED5; Fri, 7 Feb 2025 19:20:37 +0100 (CET) Received: from mail-vs1-f97.google.com (mail-vs1-f97.google.com [209.85.217.97]) by mails.dpdk.org (Postfix) with ESMTP id E50A642E90 for ; Fri, 7 Feb 2025 19:20:35 +0100 (CET) Received: by mail-vs1-f97.google.com with SMTP id ada2fe7eead31-4b2c0a7ef74so1453975137.2 for ; Fri, 07 Feb 2025 10:20:35 -0800 (PST) DKIM-Signature: v=1; a=rsa-sha256; c=relaxed/relaxed; d=iol.unh.edu; s=unh-iol; t=1738952435; x=1739557235; darn=dpdk.org; h=references:in-reply-to:cc:to:from:subject:message-id:date:from:to :cc:subject:date:message-id:reply-to; bh=q9uPm44s6YgXi4pwGSDqSvjLUZ6N4ZZ3RRTqpDMuTp8=; b=NE0RL4+FTYMSwnqyi9GColRWLSuEcBacOzBZ2j8X1O2w+lZ6yzj6sbSlvH2a6nKrBz jVWbxJMRYM6uxmheRSwJxKHP5sFBNRJtdf1pE0QOjVEYKuCvIG8E+EHSiSJT6EVFEWgj ZN5Ib2Fq2Mld0cpwuMyvrI31u6DmbTwan7euU= X-Google-DKIM-Signature: v=1; a=rsa-sha256; c=relaxed/relaxed; d=1e100.net; s=20230601; t=1738952435; x=1739557235; h=references:in-reply-to:cc:to:from:subject:message-id:date :x-gm-message-state:from:to:cc:subject:date:message-id:reply-to; bh=q9uPm44s6YgXi4pwGSDqSvjLUZ6N4ZZ3RRTqpDMuTp8=; b=W7h083l6ZCKL7zNYkwU/Y0VCESEf9hUn2qFc2cldT28unOpZEns3AKsZBa4vO01jqx tMsZIJQ9aM5Lje3s+ky+G0Sg4bcpamoiH48c8i2pVsIeovavV37rqgPcHykENAFhuo2l TNG5Z/Tt5q7O8z3QGSbA7roGpJ57Eb6vONfWIOkYfcbpD2DgUD7utori/YtHfdWAofsw 0n+l2s1aBrOW7dpXrt11638D4IGiTx7oHyoF2lFLQAsjE6ia3oGxGSzCWTt5xJll9cQJ VS87CuosTV/g2oYXL3LWQr0JfyFxPGNI+Vqco4iHUpR7Z3cbOU0po46evVJbcmy4icD5 esNg== X-Gm-Message-State: AOJu0YxZYQWkcCBVI/yKuQBdhkKQoZRs8yVip6kKaYYksc8bpE4pd4QA pEfUnw8NyMBNljrURznGwstbnM+CG89Apa3gq2x9Zsy6SFP8XQpabkdD9sKSa7145OrF5HOcurq 7IT/GXfi2Xs0eiSNXTfFsNxS33mR81dXGkY7R1FA7 X-Gm-Gg: ASbGnctdsxOK73YRisE/P+TqDmtO6B2JwkLagNZO9ssY6wrJ6iV7sqUTCZigmzlC25D mz0KLiGd/q88aXuh8R/gEJOsZTKi5gMNRlOpKtbQwB/v5WGDVXUr60vAbrsDyfuThIIc2/nOx3h hpraII9eh024yP2qQP72LIkJgribgupHN3nEfytWhzzXDmGlPURlLMUeOA10FkOv0wdHTXiwtHx 9OS33ho3/fy5ue+GEgFahiBSfL1+AFd1MUeYcUD2/unQVeDO7DMiHYt67NSnR2AwtObew0GLZ2H h7kSDnHWp/xvwPGlIBciVjXJtV/V8g== X-Google-Smtp-Source: AGHT+IEdTTraa6y1oePFMb8xET+9aN5ozfu60RstX8Or00ImUNAnR5aP2YCUpJ8hUv725hiShFAqzPEkgKGY X-Received: by 2002:a05:6102:3046:b0:4af:de39:8daa with SMTP id ada2fe7eead31-4ba85d80398mr4324760137.4.1738952435303; Fri, 07 Feb 2025 10:20:35 -0800 (PST) Received: from postal.iol.unh.edu (postal.iol.unh.edu. [132.177.123.84]) by smtp-relay.gmail.com with ESMTPS id a1e0cc1a2514c-866f965ec1fsm22890241.9.2025.02.07.10.20.35 (version=TLS1_2 cipher=ECDHE-ECDSA-AES128-GCM-SHA256 bits=128/128); Fri, 07 Feb 2025 10:20:35 -0800 (PST) X-Relaying-Domain: iol.unh.edu Date: Fri, 07 Feb 2025 10:20:35 -0800 (PST) Message-ID: <67a64ef3.050a0220.37943a.0ed7SMTPIN_ADDED_MISSING@mx.google.com> Received: from [172.21.0.14] (unknown [172.18.0.240]) by postal.iol.unh.edu (Postfix) with ESMTP id EF0FD6052477; Fri, 7 Feb 2025 13:20:34 -0500 (EST) Subject: |WARNING| pw149319 [PATCH] cryptodev: allow use of global variables From: dpdklab@iol.unh.edu To: Test Report Cc: dpdk-test-reports@iol.unh.edu In-Reply-To: <20241219163523.164992-1-mattias.ronnblom@ericsson.com> References: <20241219163523.164992-1-mattias.ronnblom@ericsson.com> Content-Type: text/plain X-BeenThere: test-report@dpdk.org X-Mailman-Version: 2.1.29 Precedence: list List-Id: automatic DPDK test reports List-Unsubscribe: , List-Archive: List-Post: List-Help: List-Subscribe: , Errors-To: test-report-bounces@dpdk.org Test-Label: iol-compile-amd64-testing Test-Status: WARNING http://dpdk.org/patch/149319 _Testing issues_ Submitter: Mattias Ronnblom Date: Thursday, December 19 2024 16:35:23 DPDK git baseline: Repo:dpdk Branch: master CommitID:7df61db6c387703a36306c1aea92225921e2eeb2 149319 --> testing issues Test environment and result as below: +---------------------+--------------------+------------------+-------------------+-------------------------+-------------------+----------------------+ | Environment | dpdk_meson_compile | dpdk_compile_ovs | dpdk_compile_spdk | dpdk_llvm_clang_compile | dpdk_msvc_compile | dpdk_mingw64_compile | +=====================+====================+==================+===================+=========================+===================+======================+ | CentOS Stream 9 | PASS | PASS | PASS | SKIPPED | SKIPPED | SKIPPED | +---------------------+--------------------+------------------+-------------------+-------------------------+-------------------+----------------------+ | Fedora 39 (Clang) | PASS | PASS | PASS | SKIPPED | SKIPPED | SKIPPED | +---------------------+--------------------+------------------+-------------------+-------------------------+-------------------+----------------------+ | Debian 12 | PASS | PASS | PASS | SKIPPED | SKIPPED | SKIPPED | +---------------------+--------------------+------------------+-------------------+-------------------------+-------------------+----------------------+ | Fedora 39 | PASS | PASS | PASS | SKIPPED | SKIPPED | SKIPPED | +---------------------+--------------------+------------------+-------------------+-------------------------+-------------------+----------------------+ | Fedora 40 (Clang) | PASS | PASS | PASS | SKIPPED | SKIPPED | SKIPPED | +---------------------+--------------------+------------------+-------------------+-------------------------+-------------------+----------------------+ | openSUSE Leap 15 | PASS | WARN | SKIPPED | SKIPPED | SKIPPED | SKIPPED | +---------------------+--------------------+------------------+-------------------+-------------------------+-------------------+----------------------+ | RHEL8 | PASS | PASS | SKIPPED | SKIPPED | SKIPPED | SKIPPED | +---------------------+--------------------+------------------+-------------------+-------------------------+-------------------+----------------------+ | Ubuntu 20.04 | PASS | SKIPPED | SKIPPED | SKIPPED | SKIPPED | SKIPPED | +---------------------+--------------------+------------------+-------------------+-------------------------+-------------------+----------------------+ | RHEL9 | PASS | PASS | SKIPPED | SKIPPED | SKIPPED | SKIPPED | +---------------------+--------------------+------------------+-------------------+-------------------------+-------------------+----------------------+ | Ubuntu 22.04 | PASS | PASS | PASS | SKIPPED | SKIPPED | SKIPPED | +---------------------+--------------------+------------------+-------------------+-------------------------+-------------------+----------------------+ | Ubuntu 24.04 | PASS | PASS | PASS | SKIPPED | SKIPPED | SKIPPED | +---------------------+--------------------+------------------+-------------------+-------------------------+-------------------+----------------------+ | Alpine | PASS | PASS | SKIPPED | SKIPPED | SKIPPED | SKIPPED | +---------------------+--------------------+------------------+-------------------+-------------------------+-------------------+----------------------+ | FreeBSD 13.4 | PASS | SKIPPED | SKIPPED | SKIPPED | SKIPPED | SKIPPED | +---------------------+--------------------+------------------+-------------------+-------------------------+-------------------+----------------------+ | Fedora 40 | PASS | PASS | PASS | SKIPPED | SKIPPED | SKIPPED | +---------------------+--------------------+------------------+-------------------+-------------------------+-------------------+----------------------+ | FreeBSD 14.2 | PASS | SKIPPED | SKIPPED | SKIPPED | SKIPPED | SKIPPED | +---------------------+--------------------+------------------+-------------------+-------------------------+-------------------+----------------------+ | Windows Server 2022 | SKIPPED | SKIPPED | SKIPPED | PASS | PASS | PASS | +---------------------+--------------------+------------------+-------------------+-------------------------+-------------------+----------------------+ ==== 20 line log output for openSUSE Leap 15 (dpdk_compile_ovs): ==== --- Failed to get log output --- ==== End log output ==== CentOS Stream 9 Kernel: Depends on container host Compiler: gcc 11.5.0 20240719 (Red Hat 11.5.0-2) Fedora 39 (Clang) Kernel: Depends on container host Compiler: clang 17.0.6 (Fedora 17.0.6-2.fc39) Debian 12 Kernel: Depends on container host Compiler: gcc (Debian 12.2.0-14) 12.2.0 Fedora 39 Kernel: Depends on container host Compiler: gcc 13.3.1 20240522 (Red Hat 13.3.1-1) Fedora 40 (Clang) Kernel: Depends on container host Compiler: clang 18.1.8 (Fedora 18.1.8-1.fc40) openSUSE Leap 15 Kernel: Depends on container host Compiler: gcc (SUSE Linux) 7.5.0 RHEL8 Kernel: Depends on container host Compiler: gcc 8.5.0 20210514 (Red Hat 8.5.0-22) Ubuntu 20.04 Kernel: Depends on container host Compiler: gcc (Ubuntu 9.4.0-1ubuntu1~20.04.2) 9.4.0 RHEL9 Kernel: Depends on container host Compiler: gcc 11.5.0 20240719 (Red Hat 11.5.0-2) Ubuntu 22.04 Kernel: Depends on container host Compiler: gcc (Ubuntu 11.4.0-1ubuntu1~22.04) 11.4.0 Ubuntu 24.04 Kernel: Depends on container host Compiler: gcc (Ubuntu 13.3.0-6ubuntu2~24.04) 13.3.0 Alpine Kernel: Depends on container host Compiler: gcc (Alpine 14.2.0) 14.2.0 FreeBSD 13.4 Kernel: 13.4-RELEASE-p1 Compiler: clang 18.1.6 Fedora 40 Kernel: Depends on container host Compiler: gcc 14.2.1 20240912 (Red Hat 14.2.1-3) FreeBSD 14.2 Kernel: 14.2-RELEASE Compiler: clang 18.1.6 Windows Server 2022 Kernel: 10.0.20348.2031 Compiler: clang 15.0.7, gcc 14.1.0 (MinGW), and MSVC VS 19.39.33521 To view detailed results, visit: https://lab.dpdk.org/results/dashboard/patchsets/32174/ UNH-IOL DPDK Community Lab To manage your email subscriptions, visit: https://lab.dpdk.org/results/dashboard/preferences/subscriptions/