From mboxrd@z Thu Jan 1 00:00:00 1970 Return-Path: Received: from mails.dpdk.org (mails.dpdk.org [217.70.189.124]) by inbox.dpdk.org (Postfix) with ESMTP id 37FE4461BE for ; Fri, 7 Feb 2025 19:20:50 +0100 (CET) Received: from mails.dpdk.org (localhost [127.0.0.1]) by mails.dpdk.org (Postfix) with ESMTP id 34DF342ED5; Fri, 7 Feb 2025 19:20:50 +0100 (CET) Received: from mail-qk1-f228.google.com (mail-qk1-f228.google.com [209.85.222.228]) by mails.dpdk.org (Postfix) with ESMTP id 6D8E542E90 for ; Fri, 7 Feb 2025 19:20:47 +0100 (CET) Received: by mail-qk1-f228.google.com with SMTP id af79cd13be357-7b6c3629816so123158185a.1 for ; Fri, 07 Feb 2025 10:20:47 -0800 (PST) DKIM-Signature: v=1; a=rsa-sha256; c=relaxed/relaxed; d=iol.unh.edu; s=unh-iol; t=1738952447; x=1739557247; darn=dpdk.org; h=references:in-reply-to:cc:to:from:subject:message-id:date:from:to :cc:subject:date:message-id:reply-to; bh=5KuofioPv/cPFkIuDZJNRVoecHsLqRtR85RHRjWH0BM=; b=XR1+zWBX12SpHxf8L9KAdUgSW1wfCsPq3l8FEvBBQL/l6GLslrgwuH99Sgdc/QlaVo VwoVa5gOFGXEbf6yI9cs0uEZb1eI6TgL3J2kOfvMVgoupe6XEyuNdOuesbhHAyG63GOH 9QoPLR7mGHNufJzeraa5svyOAdskA4ImbURkQ= X-Google-DKIM-Signature: v=1; a=rsa-sha256; c=relaxed/relaxed; d=1e100.net; s=20230601; t=1738952447; x=1739557247; h=references:in-reply-to:cc:to:from:subject:message-id:date :x-gm-message-state:from:to:cc:subject:date:message-id:reply-to; bh=5KuofioPv/cPFkIuDZJNRVoecHsLqRtR85RHRjWH0BM=; b=nhoQKINoaQlJVhZGRTDUoa6F0Bxyp2DqGciYHBTQ2EyNuelcthOjVdLF0FCTp8DYtD 9LhV9XRUf3ZnN8XiNnUtcfA1tOJG+RP5Zi9oEXJYMMt7r2y4b6lNw7TqZs37UlZt8QsS 4nesF11dOi5GAZYC2+bkV+4mGxBSUpZuRDlsjhFyu4xLN213tbs5+/M2zTLFjcQ5UC5h HbDHO8WmqcL9IBOJoYRq4RG7g/roJohLfIx1mwZDD+4v+hf5W6SYXQdJkLIVB3UtKjP2 hkoncrwnN3WxQpoAfbd32fqcwnakiUL7jPgUQlQbvpa7+Hr0fDrnesAU6LBF281BPGsr hRRw== X-Gm-Message-State: AOJu0YxGp92s17rD0tblqJZJ9Ou0irTzqynygdFwbRxr9sm/OSaAMuQM 5OSClFJgNrLquTxrEejGtzD41dNy+a1AjZR5CXtcQ7fooVDlVJ1spzNi2eJVNEwxvx1O76+PwT4 tB+ordHSac+v91p6hDEJ5pSEc5aQCgBI3/JaV3sN4 X-Gm-Gg: ASbGncvXLgwPPfwqS8gZw0FjUPFYkjFrQFbA7mzoVpYMPg6q8A7eEtGSBhngyOjPxkY WuKyAmKmj2juoYf2258tDi676X5QZ66srP2P/DEtbF3eF/I7JraD2RpQMGyOSbADkndekSEcUZK /03+ON/m/E+zgzxKWTK+NMsps8ivhH0vhAsXSjjzTJl0u+BdXUeAJ+aEg3bKn6rF2o+khG496Z/ k7HqXMxQTOyK4IAFB0W2f4ITg7vM2bbo/A8mdUVDRbx6KBB/kb9z5A8xqKKic59LtS5x6jU52tw vu1YllCtWJnTRAQl15ssqFa11VVt1w== X-Google-Smtp-Source: AGHT+IFS04qqNshrwNWi+P0ubnOrsimUKZDFekj868WgFUNva+xn3WVI+aGF6tRlHSmXbtHEZssYDMU9g3Cf X-Received: by 2002:a05:620a:4083:b0:7b6:dddb:b88 with SMTP id af79cd13be357-7c047c2c7c3mr627033085a.38.1738952446829; Fri, 07 Feb 2025 10:20:46 -0800 (PST) Received: from postal.iol.unh.edu (postal.iol.unh.edu. [132.177.123.84]) by smtp-relay.gmail.com with ESMTPS id af79cd13be357-7c041e5db30sm27929385a.3.2025.02.07.10.20.46 (version=TLS1_2 cipher=ECDHE-ECDSA-AES128-GCM-SHA256 bits=128/128); Fri, 07 Feb 2025 10:20:46 -0800 (PST) X-Relaying-Domain: iol.unh.edu Date: Fri, 07 Feb 2025 10:20:46 -0800 (PST) Message-ID: <67a64efe.050a0220.308f6e.e88bSMTPIN_ADDED_MISSING@mx.google.com> Received: from [172.21.0.6] (unknown [172.18.0.240]) by postal.iol.unh.edu (Postfix) with ESMTP id 7B8626052471; Fri, 7 Feb 2025 13:20:16 -0500 (EST) Subject: |WARNING| pw149328 [PATCH] [v2,1/1] vhost: fix a double fetch when d From: dpdklab@iol.unh.edu To: Test Report Cc: dpdk-test-reports@iol.unh.edu In-Reply-To: <09058cfb25d7583f67d74f09cd36673f1b10f5ec.1734661755.git.wangyunjian@huawei.com> References: <09058cfb25d7583f67d74f09cd36673f1b10f5ec.1734661755.git.wangyunjian@huawei.com> Content-Type: text/plain X-BeenThere: test-report@dpdk.org X-Mailman-Version: 2.1.29 Precedence: list List-Id: automatic DPDK test reports List-Unsubscribe: , List-Archive: List-Post: List-Help: List-Subscribe: , Errors-To: test-report-bounces@dpdk.org Test-Label: iol-compile-amd64-testing Test-Status: WARNING http://dpdk.org/patch/149328 _Testing issues_ Submitter: Yunjian Wang Date: Friday, December 20 2024 03:49:55 DPDK git baseline: Repo:dpdk Branch: master CommitID:510b460e02594a70d4ce19e2d29df3ade8af36d7 149328 --> testing issues Test environment and result as below: +---------------------+--------------------+------------------+-------------------+-------------------------+-------------------+----------------------+ | Environment | dpdk_meson_compile | dpdk_compile_ovs | dpdk_compile_spdk | dpdk_llvm_clang_compile | dpdk_msvc_compile | dpdk_mingw64_compile | +=====================+====================+==================+===================+=========================+===================+======================+ | CentOS Stream 9 | PASS | PASS | PASS | SKIPPED | SKIPPED | SKIPPED | +---------------------+--------------------+------------------+-------------------+-------------------------+-------------------+----------------------+ | Fedora 39 (Clang) | PASS | PASS | PASS | SKIPPED | SKIPPED | SKIPPED | +---------------------+--------------------+------------------+-------------------+-------------------------+-------------------+----------------------+ | Fedora 39 | PASS | PASS | PASS | SKIPPED | SKIPPED | SKIPPED | +---------------------+--------------------+------------------+-------------------+-------------------------+-------------------+----------------------+ | Fedora 40 (Clang) | PASS | PASS | PASS | SKIPPED | SKIPPED | SKIPPED | +---------------------+--------------------+------------------+-------------------+-------------------------+-------------------+----------------------+ | Fedora 40 | PASS | PASS | PASS | SKIPPED | SKIPPED | SKIPPED | +---------------------+--------------------+------------------+-------------------+-------------------------+-------------------+----------------------+ | openSUSE Leap 15 | PASS | WARN | SKIPPED | SKIPPED | SKIPPED | SKIPPED | +---------------------+--------------------+------------------+-------------------+-------------------------+-------------------+----------------------+ | RHEL9 | PASS | PASS | SKIPPED | SKIPPED | SKIPPED | SKIPPED | +---------------------+--------------------+------------------+-------------------+-------------------------+-------------------+----------------------+ | Ubuntu 20.04 | PASS | SKIPPED | SKIPPED | SKIPPED | SKIPPED | SKIPPED | +---------------------+--------------------+------------------+-------------------+-------------------------+-------------------+----------------------+ | Ubuntu 22.04 | PASS | PASS | PASS | SKIPPED | SKIPPED | SKIPPED | +---------------------+--------------------+------------------+-------------------+-------------------------+-------------------+----------------------+ | Ubuntu 24.04 | PASS | PASS | PASS | SKIPPED | SKIPPED | SKIPPED | +---------------------+--------------------+------------------+-------------------+-------------------------+-------------------+----------------------+ | Alpine | PASS | PASS | SKIPPED | SKIPPED | SKIPPED | SKIPPED | +---------------------+--------------------+------------------+-------------------+-------------------------+-------------------+----------------------+ | FreeBSD 13.4 | PASS | SKIPPED | SKIPPED | SKIPPED | SKIPPED | SKIPPED | +---------------------+--------------------+------------------+-------------------+-------------------------+-------------------+----------------------+ | FreeBSD 14.2 | PASS | SKIPPED | SKIPPED | SKIPPED | SKIPPED | SKIPPED | +---------------------+--------------------+------------------+-------------------+-------------------------+-------------------+----------------------+ | RHEL8 | PASS | PASS | SKIPPED | SKIPPED | SKIPPED | SKIPPED | +---------------------+--------------------+------------------+-------------------+-------------------------+-------------------+----------------------+ | Debian 12 | PASS | PASS | PASS | SKIPPED | SKIPPED | SKIPPED | +---------------------+--------------------+------------------+-------------------+-------------------------+-------------------+----------------------+ | Windows Server 2022 | SKIPPED | SKIPPED | SKIPPED | PASS | PASS | PASS | +---------------------+--------------------+------------------+-------------------+-------------------------+-------------------+----------------------+ ==== 20 line log output for openSUSE Leap 15 (dpdk_compile_ovs): ==== --- Failed to get log output --- ==== End log output ==== CentOS Stream 9 Kernel: Depends on container host Compiler: gcc 11.5.0 20240719 (Red Hat 11.5.0-2) Fedora 39 (Clang) Kernel: Depends on container host Compiler: clang 17.0.6 (Fedora 17.0.6-2.fc39) Fedora 39 Kernel: Depends on container host Compiler: gcc 13.3.1 20240522 (Red Hat 13.3.1-1) Fedora 40 (Clang) Kernel: Depends on container host Compiler: clang 18.1.8 (Fedora 18.1.8-1.fc40) Fedora 40 Kernel: Depends on container host Compiler: gcc 14.2.1 20240912 (Red Hat 14.2.1-3) openSUSE Leap 15 Kernel: Depends on container host Compiler: gcc (SUSE Linux) 7.5.0 RHEL9 Kernel: Depends on container host Compiler: gcc 11.5.0 20240719 (Red Hat 11.5.0-2) Ubuntu 20.04 Kernel: Depends on container host Compiler: gcc (Ubuntu 9.4.0-1ubuntu1~20.04.2) 9.4.0 Ubuntu 22.04 Kernel: Depends on container host Compiler: gcc (Ubuntu 11.4.0-1ubuntu1~22.04) 11.4.0 Ubuntu 24.04 Kernel: Depends on container host Compiler: gcc (Ubuntu 13.3.0-6ubuntu2~24.04) 13.3.0 Alpine Kernel: Depends on container host Compiler: gcc (Alpine 14.2.0) 14.2.0 FreeBSD 13.4 Kernel: 13.4-RELEASE-p1 Compiler: clang 18.1.6 FreeBSD 14.2 Kernel: 14.2-RELEASE Compiler: clang 18.1.6 RHEL8 Kernel: Depends on container host Compiler: gcc 8.5.0 20210514 (Red Hat 8.5.0-22) Debian 12 Kernel: Depends on container host Compiler: gcc (Debian 12.2.0-14) 12.2.0 Windows Server 2022 Kernel: 10.0.20348.2031 Compiler: clang 15.0.7, gcc 14.1.0 (MinGW), and MSVC VS 19.39.33521 To view detailed results, visit: https://lab.dpdk.org/results/dashboard/patchsets/32179/ UNH-IOL DPDK Community Lab To manage your email subscriptions, visit: https://lab.dpdk.org/results/dashboard/preferences/subscriptions/