From mboxrd@z Thu Jan 1 00:00:00 1970 Return-Path: Received: from mails.dpdk.org (mails.dpdk.org [217.70.189.124]) by inbox.dpdk.org (Postfix) with ESMTP id 49EB2461BE for ; Fri, 7 Feb 2025 19:20:56 +0100 (CET) Received: from mails.dpdk.org (localhost [127.0.0.1]) by mails.dpdk.org (Postfix) with ESMTP id 478FB42ED5; Fri, 7 Feb 2025 19:20:56 +0100 (CET) Received: from mail-yb1-f228.google.com (mail-yb1-f228.google.com [209.85.219.228]) by mails.dpdk.org (Postfix) with ESMTP id E941D42E90 for ; Fri, 7 Feb 2025 19:20:54 +0100 (CET) Received: by mail-yb1-f228.google.com with SMTP id 3f1490d57ef6-e5b16621c28so1913676276.2 for ; Fri, 07 Feb 2025 10:20:54 -0800 (PST) DKIM-Signature: v=1; a=rsa-sha256; c=relaxed/relaxed; d=iol.unh.edu; s=unh-iol; t=1738952454; x=1739557254; darn=dpdk.org; h=cc:to:from:subject:message-id:date:from:to:cc:subject:date :message-id:reply-to; bh=RgRBkW14qR6U29fXlZ+8kEfOwrrxU3ZXW9EUVXZ1hO8=; b=JfDKPGmWEli8pIEBNNZ/7UIOK6WKDSKVB5pMrMtkXWdnKSDlzfCfCmuQeiIjqAtML4 DDwzPZU4m6y4arziC5H5Qf2atFcek8McVS3/0eKaQPI65qmdtavY+YXJjpYwnk/4CIN0 Z7VTOyKr0LxjoNq6OxD0N3ivzqSwGN8M6TMHU= X-Google-DKIM-Signature: v=1; a=rsa-sha256; c=relaxed/relaxed; d=1e100.net; s=20230601; t=1738952454; x=1739557254; h=cc:to:from:subject:message-id:date:x-gm-message-state:from:to:cc :subject:date:message-id:reply-to; bh=RgRBkW14qR6U29fXlZ+8kEfOwrrxU3ZXW9EUVXZ1hO8=; b=aa6+ETm3CylIwTUOH9RUgs2M8G5cnoyiIJLv320TeDIEs+wOnYt8X5yKWxBEbh36qd 3UYdIljrIXI+pveUpdF6cjz+/0ZeDzvGvz0WUQTkko27mqzP+Qeth046ad5zLfv84iZo /Z/Bjo3Q1EfKqXhKMagD98/HMqVYa4k3+mXYhQjJuik7VTpUpvCpIGSOwdcx6jS8W7XS F4qy4JDEeOvth3T5pFWAxpRfzx4oShsnNPz0llc+nKCgprHSSDODzJIFm45JSBdOVfsw 57bxOsm24qgeD/aIyLcqKIqEJT29SdCU1OJiKggqQZ/EBGfOFbjS1jVs+2wmgXKY5Ggz 32CA== X-Gm-Message-State: AOJu0YxjaRb66p7fS9NUGUaOiVn7ILADFBuFywYV6r7T5H3wr3B4PmRX hFkVrLcvxkgAEPXW9BKkZgFeioUvdXbUQeus6kWVzB4p553LHWynzWI6yToxSO5PXKxZIKzViu4 IN5rJWg7Kx7dTWsUhQgbYm6IRC9DpiM9zKq20GQj0 X-Gm-Gg: ASbGnctRwhDuq866osK/8Z6Jr6kIstzYH8tB60AB4xV7lgqe435WCJARadSYdUDP0mL iVVM2ajLzPvfgW5o8/PxVYM3aErHQzSeH34m3F1WYxOYFk5wTlQbwXz3AvgoBai5NjQF+UOMtCy OSA6HKMqUpCrArTRqRsWgV6jFcZ4rqtIuNNfpLAhMNxpO9K5uiHax2mN9UtQISOOTrM5bSApQHs 9jHpt1F4G6Pdp/GuOeefCxVcoqHTdf7DoNothYVQxN8aIO9Tge6am3OrKOyGq2h+7h4GnuwbxfN OPLclV1hnYIrAqLqlRvM8IbXdG7TWw== X-Google-Smtp-Source: AGHT+IFNNfqgErrshHqa9sjn43gt/B5pIsPS1IuojVcO4gnpGmFlWwuPtUVW62obvFLZygn0mpkSDiXdQjz8 X-Received: by 2002:a05:6902:110b:b0:e5a:e7eb:2808 with SMTP id 3f1490d57ef6-e5b4619f49fmr3901688276.15.1738952454335; Fri, 07 Feb 2025 10:20:54 -0800 (PST) Received: from postal.iol.unh.edu (postal.iol.unh.edu. [132.177.123.84]) by smtp-relay.gmail.com with ESMTPS id 3f1490d57ef6-e5b3a4509f5sm221070276.28.2025.02.07.10.20.54 (version=TLS1_2 cipher=ECDHE-ECDSA-AES128-GCM-SHA256 bits=128/128); Fri, 07 Feb 2025 10:20:54 -0800 (PST) X-Relaying-Domain: iol.unh.edu Date: Fri, 07 Feb 2025 10:20:54 -0800 (PST) Message-ID: <67a64f06.250a0220.13f4a4.bcdfSMTPIN_ADDED_MISSING@mx.google.com> Received: from [172.21.0.11] (unknown [172.18.0.240]) by postal.iol.unh.edu (Postfix) with ESMTP id EEC6E6052472; Fri, 7 Feb 2025 13:20:23 -0500 (EST) Subject: |WARNING| [GIT MASTER] 07604f264417959d76aa9fcb8cb0c3665f62f0d3 From: dpdklab@iol.unh.edu To: Test Report Cc: dpdk-test-reports@iol.unh.edu Content-Type: text/plain X-BeenThere: test-report@dpdk.org X-Mailman-Version: 2.1.29 Precedence: list List-Id: automatic DPDK test reports List-Unsubscribe: , List-Archive: List-Post: List-Help: List-Subscribe: , Errors-To: test-report-bounces@dpdk.org _Testing issues_ Branch: dpdk 07604f264417959d76aa9fcb8cb0c3665f62f0d3 --> testing issues Test environment and result as below: +---------------------+--------------------+------------------+-------------------+-------------------+-------------------------+----------------------+ | Environment | dpdk_meson_compile | dpdk_compile_ovs | dpdk_compile_spdk | dpdk_msvc_compile | dpdk_llvm_clang_compile | dpdk_mingw64_compile | +=====================+====================+==================+===================+===================+=========================+======================+ | CentOS Stream 9 | PASS | PASS | PASS | SKIPPED | SKIPPED | SKIPPED | +---------------------+--------------------+------------------+-------------------+-------------------+-------------------------+----------------------+ | Fedora 39 (Clang) | PASS | PASS | PASS | SKIPPED | SKIPPED | SKIPPED | +---------------------+--------------------+------------------+-------------------+-------------------+-------------------------+----------------------+ | Debian 12 | PASS | PASS | PASS | SKIPPED | SKIPPED | SKIPPED | +---------------------+--------------------+------------------+-------------------+-------------------+-------------------------+----------------------+ | Fedora 40 | PASS | PASS | PASS | SKIPPED | SKIPPED | SKIPPED | +---------------------+--------------------+------------------+-------------------+-------------------+-------------------------+----------------------+ | Fedora 40 (Clang) | PASS | PASS | PASS | SKIPPED | SKIPPED | SKIPPED | +---------------------+--------------------+------------------+-------------------+-------------------+-------------------------+----------------------+ | openSUSE Leap 15 | PASS | WARN | SKIPPED | SKIPPED | SKIPPED | SKIPPED | +---------------------+--------------------+------------------+-------------------+-------------------+-------------------------+----------------------+ | RHEL8 | PASS | PASS | SKIPPED | SKIPPED | SKIPPED | SKIPPED | +---------------------+--------------------+------------------+-------------------+-------------------+-------------------------+----------------------+ | RHEL9 | PASS | PASS | SKIPPED | SKIPPED | SKIPPED | SKIPPED | +---------------------+--------------------+------------------+-------------------+-------------------+-------------------------+----------------------+ | Ubuntu 20.04 | PASS | SKIPPED | SKIPPED | SKIPPED | SKIPPED | SKIPPED | +---------------------+--------------------+------------------+-------------------+-------------------+-------------------------+----------------------+ | Ubuntu 24.04 | PASS | PASS | PASS | SKIPPED | SKIPPED | SKIPPED | +---------------------+--------------------+------------------+-------------------+-------------------+-------------------------+----------------------+ | Arch Linux | PASS | PASS | SKIPPED | SKIPPED | SKIPPED | SKIPPED | +---------------------+--------------------+------------------+-------------------+-------------------+-------------------------+----------------------+ | FreeBSD 13.4 | PASS | SKIPPED | SKIPPED | SKIPPED | SKIPPED | SKIPPED | +---------------------+--------------------+------------------+-------------------+-------------------+-------------------------+----------------------+ | FreeBSD 14.2 | PASS | SKIPPED | SKIPPED | SKIPPED | SKIPPED | SKIPPED | +---------------------+--------------------+------------------+-------------------+-------------------+-------------------------+----------------------+ | Fedora 39 | PASS | PASS | PASS | SKIPPED | SKIPPED | SKIPPED | +---------------------+--------------------+------------------+-------------------+-------------------+-------------------------+----------------------+ | Alpine | PASS | PASS | SKIPPED | SKIPPED | SKIPPED | SKIPPED | +---------------------+--------------------+------------------+-------------------+-------------------+-------------------------+----------------------+ | Ubuntu 22.04 | PASS | PASS | PASS | SKIPPED | SKIPPED | SKIPPED | +---------------------+--------------------+------------------+-------------------+-------------------+-------------------------+----------------------+ | Windows Server 2022 | SKIPPED | SKIPPED | SKIPPED | PASS | PASS | PASS | +---------------------+--------------------+------------------+-------------------+-------------------+-------------------------+----------------------+ ==== 20 line log output for openSUSE Leap 15 (dpdk_compile_ovs): ==== --- Failed to get log output --- ==== End log output ==== CentOS Stream 9 Kernel: Depends on container host Compiler: gcc 11.5.0 20240719 (Red Hat 11.5.0-2) Fedora 39 (Clang) Kernel: Depends on container host Compiler: clang 17.0.6 (Fedora 17.0.6-2.fc39) Debian 12 Kernel: Depends on container host Compiler: gcc (Debian 12.2.0-14) 12.2.0 Fedora 40 Kernel: Depends on container host Compiler: gcc 14.2.1 20240912 (Red Hat 14.2.1-3) Fedora 40 (Clang) Kernel: Depends on container host Compiler: clang 18.1.8 (Fedora 18.1.8-1.fc40) openSUSE Leap 15 Kernel: Depends on container host Compiler: gcc (SUSE Linux) 7.5.0 RHEL8 Kernel: Depends on container host Compiler: gcc 8.5.0 20210514 (Red Hat 8.5.0-22) RHEL9 Kernel: Depends on container host Compiler: gcc 11.5.0 20240719 (Red Hat 11.5.0-2) Ubuntu 20.04 Kernel: Depends on container host Compiler: gcc (Ubuntu 9.4.0-1ubuntu1~20.04.2) 9.4.0 Ubuntu 24.04 Kernel: Depends on container host Compiler: gcc (Ubuntu 13.3.0-6ubuntu2~24.04) 13.3.0 Arch Linux Kernel: Depends on container host Compiler: gcc 14.2.1 20240910 FreeBSD 13.4 Kernel: 13.4-RELEASE-p1 Compiler: clang 18.1.6 FreeBSD 14.2 Kernel: 14.2-RELEASE Compiler: clang 18.1.6 Fedora 39 Kernel: Depends on container host Compiler: gcc 13.3.1 20240522 (Red Hat 13.3.1-1) Alpine Kernel: Depends on container host Compiler: gcc (Alpine 14.2.0) 14.2.0 Ubuntu 22.04 Kernel: Depends on container host Compiler: gcc (Ubuntu 11.4.0-1ubuntu1~22.04) 11.4.0 Windows Server 2022 Kernel: 10.0.20348.2031 Compiler: clang 15.0.7, gcc 14.1.0 (MinGW), and MSVC VS 19.39.33521 To view detailed results, visit: https://lab.dpdk.org/results/dashboard/tarballs/31994/ UNH-IOL DPDK Community Lab To manage your email subscriptions, visit: https://lab.dpdk.org/results/dashboard/preferences/subscriptions/