From mboxrd@z Thu Jan 1 00:00:00 1970 Return-Path: Received: from mails.dpdk.org (mails.dpdk.org [217.70.189.124]) by inbox.dpdk.org (Postfix) with ESMTP id 59E8E461BE for ; Fri, 7 Feb 2025 19:21:03 +0100 (CET) Received: from mails.dpdk.org (localhost [127.0.0.1]) by mails.dpdk.org (Postfix) with ESMTP id 54FC642ED5; Fri, 7 Feb 2025 19:21:03 +0100 (CET) Received: from mail-io1-f99.google.com (mail-io1-f99.google.com [209.85.166.99]) by mails.dpdk.org (Postfix) with ESMTP id 840EF42E90 for ; Fri, 7 Feb 2025 19:21:02 +0100 (CET) Received: by mail-io1-f99.google.com with SMTP id ca18e2360f4ac-84a1ce51187so73403239f.1 for ; Fri, 07 Feb 2025 10:21:02 -0800 (PST) DKIM-Signature: v=1; a=rsa-sha256; c=relaxed/relaxed; d=iol.unh.edu; s=unh-iol; t=1738952462; x=1739557262; darn=dpdk.org; h=references:in-reply-to:cc:to:from:subject:message-id:date:from:to :cc:subject:date:message-id:reply-to; bh=pltzYQHpj7OnRwSgfFmXOOvkmNOI2B1l8yCppVR+npU=; b=J+HRP42GetYzFNsqU3F/Mm7nucl9SAfUV2CwHxYxLOdi/jFSNU5rr7OgSF7H1OhPKU 2orXpgA43nQWuf5I9xUKBm2tPnY2fPp2nez6qrWlB8mN/D9nufD9ohD6F8/GEmepdkwf izGLCeUiqDIb+0sGftE0klAZtj4rDhMJv5OgM= X-Google-DKIM-Signature: v=1; a=rsa-sha256; c=relaxed/relaxed; d=1e100.net; s=20230601; t=1738952462; x=1739557262; h=references:in-reply-to:cc:to:from:subject:message-id:date :x-gm-message-state:from:to:cc:subject:date:message-id:reply-to; bh=pltzYQHpj7OnRwSgfFmXOOvkmNOI2B1l8yCppVR+npU=; b=hjUSlnKk2QMt6SD31XqHfe2Gx1HWDhAYaSE40nPvTukLXKWu4ucDszLvFvwcBdedDW 9mL0LRvWnhKZ5dC4fuRDPhTZZ83ea2eENSzvAl0YA9y3G2V84zYPzpVFEUUXdhI5PmBL K+FiIjuCm2iSv8gds3MljnmrY4jR01ER2O52MWXHqrYot3azOFaubq1JebIAOnTj9VsN n7ZrIMEisdtKipvTFrH9xB/LZdu+pLvibdWPrOK89+5bF8SMynO0PSLt5GjDnT/SSFxz hS0njCp9RGyn90JFi8Ycju7qxSB9+DN7Wom8Hwn4IoyOh5eyidG4eLyFNMKxyEvym5TW p9Vg== X-Gm-Message-State: AOJu0YwIY0ccBimOgwXdndGL0lAJ8gAzQqxzZuTaNfpf/QpCUslUhwR0 9tB4Vo7i/8k6ueUNq6D2EZNQJKiGCkrFCo8zwHIPu2RgVFEDSSXlVnalfw9Z6/RQe2kNIr4r0W8 KaO+qA2+zeZLVNUyJ+SjvjYx+uDxnO9WBIynLa0KR X-Gm-Gg: ASbGncuIUAkN7Ab8dCUdVxIMDf3XCL/vgEU0R53oJ78kn+6+mn8cCTvEMzPwBgpTlK2 3/VhBxURu6tjVtcpWJWer3N06ADb1leCQorOFPsEA75Wtc3C8zTUksSwnsK2610EpJoD8ykrmzW ADjSyoCj27DJZfJwkZBwkCn0djj6U+zBCcLbc6P8fQos7AHxq+02Xliys4aR2nd1OWApWf+88cA og4biXJmsuHQVIpMvcpH5yMNK3FMENgw8vAwI39C3qyBJSY5ap+vQsc7SUVdj++6FQFbZChEDcW QipZ0VJGzqivfdE85Bd8/j00yvX+ug== X-Google-Smtp-Source: AGHT+IGjJqpZG3mMoO8x57vjEc5Ou3/PrvjMhugHUKD85zl9fFGJgkmJp4/CxwiZoof6zkOZ4TOJMsdZgmYl X-Received: by 2002:a05:6602:4008:b0:83d:ff89:218c with SMTP id ca18e2360f4ac-854fd8aeefemr505193939f.7.1738952461942; Fri, 07 Feb 2025 10:21:01 -0800 (PST) Received: from postal.iol.unh.edu (postal.iol.unh.edu. [132.177.123.84]) by smtp-relay.gmail.com with ESMTPS id ca18e2360f4ac-854f6778b28sm24471739f.31.2025.02.07.10.21.01 (version=TLS1_2 cipher=ECDHE-ECDSA-AES128-GCM-SHA256 bits=128/128); Fri, 07 Feb 2025 10:21:01 -0800 (PST) X-Relaying-Domain: iol.unh.edu Date: Fri, 07 Feb 2025 10:21:01 -0800 (PST) Message-ID: <67a64f0d.050a0220.2a8228.c806SMTPIN_ADDED_MISSING@mx.google.com> Received: from [172.21.0.6] (unknown [172.18.0.240]) by postal.iol.unh.edu (Postfix) with ESMTP id 77C686052471; Fri, 7 Feb 2025 13:21:01 -0500 (EST) Subject: |WARNING| pw149318 [PATCH] [v2] net/mlx5/hws: fix fragmented ptype m From: dpdklab@iol.unh.edu To: Test Report Cc: dpdk-test-reports@iol.unh.edu In-Reply-To: <20241219160553.897489-1-akozyrev@nvidia.com> References: <20241219160553.897489-1-akozyrev@nvidia.com> Content-Type: text/plain X-BeenThere: test-report@dpdk.org X-Mailman-Version: 2.1.29 Precedence: list List-Id: automatic DPDK test reports List-Unsubscribe: , List-Archive: List-Post: List-Help: List-Subscribe: , Errors-To: test-report-bounces@dpdk.org Test-Label: iol-compile-amd64-testing Test-Status: WARNING http://dpdk.org/patch/149318 _Testing issues_ Submitter: Alexander Kozyrev Date: Thursday, December 19 2024 16:05:49 DPDK git baseline: Repo:dpdk Branch: master CommitID:1b3bf1128d9bda5595861814792f74b8f57160c8 149318 --> testing issues Test environment and result as below: +---------------------+--------------------+------------------+-------------------+-------------------+-------------------------+----------------------+ | Environment | dpdk_meson_compile | dpdk_compile_ovs | dpdk_compile_spdk | dpdk_msvc_compile | dpdk_llvm_clang_compile | dpdk_mingw64_compile | +=====================+====================+==================+===================+===================+=========================+======================+ | CentOS Stream 9 | PASS | PASS | PASS | SKIPPED | SKIPPED | SKIPPED | +---------------------+--------------------+------------------+-------------------+-------------------+-------------------------+----------------------+ | Debian 12 | PASS | PASS | PASS | SKIPPED | SKIPPED | SKIPPED | +---------------------+--------------------+------------------+-------------------+-------------------+-------------------------+----------------------+ | Fedora 39 (Clang) | PASS | PASS | PASS | SKIPPED | SKIPPED | SKIPPED | +---------------------+--------------------+------------------+-------------------+-------------------+-------------------------+----------------------+ | Fedora 39 | PASS | PASS | PASS | SKIPPED | SKIPPED | SKIPPED | +---------------------+--------------------+------------------+-------------------+-------------------+-------------------------+----------------------+ | Fedora 40 | PASS | PASS | PASS | SKIPPED | SKIPPED | SKIPPED | +---------------------+--------------------+------------------+-------------------+-------------------+-------------------------+----------------------+ | Fedora 40 (Clang) | PASS | PASS | PASS | SKIPPED | SKIPPED | SKIPPED | +---------------------+--------------------+------------------+-------------------+-------------------+-------------------------+----------------------+ | Ubuntu 20.04 | PASS | SKIPPED | SKIPPED | SKIPPED | SKIPPED | SKIPPED | +---------------------+--------------------+------------------+-------------------+-------------------+-------------------------+----------------------+ | RHEL8 | PASS | PASS | SKIPPED | SKIPPED | SKIPPED | SKIPPED | +---------------------+--------------------+------------------+-------------------+-------------------+-------------------------+----------------------+ | openSUSE Leap 15 | PASS | WARN | SKIPPED | SKIPPED | SKIPPED | SKIPPED | +---------------------+--------------------+------------------+-------------------+-------------------+-------------------------+----------------------+ | RHEL9 | PASS | PASS | SKIPPED | SKIPPED | SKIPPED | SKIPPED | +---------------------+--------------------+------------------+-------------------+-------------------+-------------------------+----------------------+ | Ubuntu 22.04 | PASS | PASS | PASS | SKIPPED | SKIPPED | SKIPPED | +---------------------+--------------------+------------------+-------------------+-------------------+-------------------------+----------------------+ | Ubuntu 24.04 | PASS | PASS | PASS | SKIPPED | SKIPPED | SKIPPED | +---------------------+--------------------+------------------+-------------------+-------------------+-------------------------+----------------------+ | Alpine | PASS | PASS | SKIPPED | SKIPPED | SKIPPED | SKIPPED | +---------------------+--------------------+------------------+-------------------+-------------------+-------------------------+----------------------+ | FreeBSD 14.2 | PASS | SKIPPED | SKIPPED | SKIPPED | SKIPPED | SKIPPED | +---------------------+--------------------+------------------+-------------------+-------------------+-------------------------+----------------------+ | FreeBSD 13.4 | PASS | SKIPPED | SKIPPED | SKIPPED | SKIPPED | SKIPPED | +---------------------+--------------------+------------------+-------------------+-------------------+-------------------------+----------------------+ | Windows Server 2022 | SKIPPED | SKIPPED | SKIPPED | PASS | PASS | PASS | +---------------------+--------------------+------------------+-------------------+-------------------+-------------------------+----------------------+ ==== 20 line log output for openSUSE Leap 15 (dpdk_compile_ovs): ==== --- Failed to get log output --- ==== End log output ==== CentOS Stream 9 Kernel: Depends on container host Compiler: gcc 11.5.0 20240719 (Red Hat 11.5.0-2) Debian 12 Kernel: Depends on container host Compiler: gcc (Debian 12.2.0-14) 12.2.0 Fedora 39 (Clang) Kernel: Depends on container host Compiler: clang 17.0.6 (Fedora 17.0.6-2.fc39) Fedora 39 Kernel: Depends on container host Compiler: gcc 13.3.1 20240522 (Red Hat 13.3.1-1) Fedora 40 Kernel: Depends on container host Compiler: gcc 14.2.1 20240912 (Red Hat 14.2.1-3) Fedora 40 (Clang) Kernel: Depends on container host Compiler: clang 18.1.8 (Fedora 18.1.8-1.fc40) Ubuntu 20.04 Kernel: Depends on container host Compiler: gcc (Ubuntu 9.4.0-1ubuntu1~20.04.2) 9.4.0 RHEL8 Kernel: Depends on container host Compiler: gcc 8.5.0 20210514 (Red Hat 8.5.0-22) openSUSE Leap 15 Kernel: Depends on container host Compiler: gcc (SUSE Linux) 7.5.0 RHEL9 Kernel: Depends on container host Compiler: gcc 11.5.0 20240719 (Red Hat 11.5.0-2) Ubuntu 22.04 Kernel: Depends on container host Compiler: gcc (Ubuntu 11.4.0-1ubuntu1~22.04) 11.4.0 Ubuntu 24.04 Kernel: Depends on container host Compiler: gcc (Ubuntu 13.3.0-6ubuntu2~24.04) 13.3.0 Alpine Kernel: Depends on container host Compiler: gcc (Alpine 14.2.0) 14.2.0 FreeBSD 14.2 Kernel: 14.2-RELEASE Compiler: clang 18.1.6 FreeBSD 13.4 Kernel: 13.4-RELEASE-p1 Compiler: clang 18.1.6 Windows Server 2022 Kernel: 10.0.20348.2031 Compiler: clang 15.0.7, gcc 14.1.0 (MinGW), and MSVC VS 19.39.33521 To view detailed results, visit: https://lab.dpdk.org/results/dashboard/patchsets/32173/ UNH-IOL DPDK Community Lab To manage your email subscriptions, visit: https://lab.dpdk.org/results/dashboard/preferences/subscriptions/