From mboxrd@z Thu Jan 1 00:00:00 1970 Return-Path: Received: from mails.dpdk.org (mails.dpdk.org [217.70.189.124]) by inbox.dpdk.org (Postfix) with ESMTP id 7F5BE461BE for ; Fri, 7 Feb 2025 19:21:47 +0100 (CET) Received: from mails.dpdk.org (localhost [127.0.0.1]) by mails.dpdk.org (Postfix) with ESMTP id 7A2AA42ED5; Fri, 7 Feb 2025 19:21:47 +0100 (CET) Received: from mail-pj1-f98.google.com (mail-pj1-f98.google.com [209.85.216.98]) by mails.dpdk.org (Postfix) with ESMTP id 9CF6542E90 for ; Fri, 7 Feb 2025 19:21:46 +0100 (CET) Received: by mail-pj1-f98.google.com with SMTP id 98e67ed59e1d1-2f9b91dff71so3859024a91.2 for ; Fri, 07 Feb 2025 10:21:46 -0800 (PST) DKIM-Signature: v=1; a=rsa-sha256; c=relaxed/relaxed; d=iol.unh.edu; s=unh-iol; t=1738952505; x=1739557305; darn=dpdk.org; h=references:in-reply-to:cc:to:from:subject:message-id:date:from:to :cc:subject:date:message-id:reply-to; bh=kmpMhvkphK44O9v3gFtFLoh+g78xLlzfaZuul2zTT7o=; b=YsEMCK9aQupGPSlzuX/092nkS6Hqvj4OMuSWVIzQYDORmRprRiQJc12iyIfsODtMBn IMWL+mvp0SncKvX/6MEO391pZhMpSNqFK8MBd4qJtBah0QtFlendsZNwoBDZkEE2uInQ oBldNgBqplIRmBd0Z2+pOHNQl6Pg98xX3cEJA= X-Google-DKIM-Signature: v=1; a=rsa-sha256; c=relaxed/relaxed; d=1e100.net; s=20230601; t=1738952505; x=1739557305; h=references:in-reply-to:cc:to:from:subject:message-id:date :x-gm-message-state:from:to:cc:subject:date:message-id:reply-to; bh=kmpMhvkphK44O9v3gFtFLoh+g78xLlzfaZuul2zTT7o=; b=JLUBJPOqDfepHVr8zgg8ZE8udmS2K71JF72mW7eTR0+vb2hDoyJ/ZuqBDKLBTyFUwg PSLBKwrDisGcKGPhn3Lmol79CFrcYofO2BM1ufelemqb6P8sX2+tt0dg2Q9knSNMCbJ4 Ce5dUJ7UgzVJX+amJslOsnij7rLNAtvPRxAjH3jTT4vY9UsAv/kfMbqLdyoF4z9GPUEA 38gtVrUS1XZM63rb7pK1qg1wkS56YxXjIVQPpNVUp8a92zJNZ3h0n6ov5wJLYpkP2eMb KCG/Qsc2DNOJoILEAs2r29dgODSDugoQuXwcARfi4LumTCiIr4/ssp+lEM4MUj/RHIoD LVkg== X-Gm-Message-State: AOJu0YxwuL7KED7iwi8veal8Eic4z1tQrAd0bUT9FX+eGDu8A2+P6yNe WiLR915r+qzrJ521P798bRIRWsUlNK4To1qpGbUmeMJZOITI4c4BAfI8w0tzvMjYv2SUrfhBx8m XGN7LqQmTWZnaqRvBb5LcK3vFe/31bQr1giNxbXo/ X-Gm-Gg: ASbGncsnDidH0MYXTFtMgmmvrMuCm3wGK7FpdUOafcFTuQoWtFUDK6RDsM7reS8Kdl/ LFNUx0TBOYSRd7BkvSWZaOQdN9voM4DBJhgWWHyRoYL+4No5KcHIyrhA66PRDexBqaQ5u5XtK2T H8fbp1DLyPP5809st4Ddl+h2fUyBH6CrYcooPptf/OlNWTWo7tYwo1K/V8CQpnVMtBKlW5SGsx2 NxXozBkhfcWnY5zKMgpOF3DgzkkreGK9XzHMF9QE8f2xhGXQjLyJqVPA4/DwQg6xb+NpzZmHGiq 55N0I8/SUjAJy7Jeb/YkHnurByjpRA== X-Google-Smtp-Source: AGHT+IHTj7BvMZGS9bMCc9kzLWWa5WHZsbER6s9PEFgsH7BtvjdBny4hP6tfYZusZFeVQIjmwsEQSLDd2x1k X-Received: by 2002:a17:90b:3143:b0:2ee:c918:cd60 with SMTP id 98e67ed59e1d1-2fa241776f8mr6327838a91.20.1738952505575; Fri, 07 Feb 2025 10:21:45 -0800 (PST) Received: from postal.iol.unh.edu (postal.iol.unh.edu. [132.177.123.84]) by smtp-relay.gmail.com with ESMTPS id 98e67ed59e1d1-2f9e1e43ffesm486119a91.13.2025.02.07.10.21.45 (version=TLS1_2 cipher=ECDHE-ECDSA-AES128-GCM-SHA256 bits=128/128); Fri, 07 Feb 2025 10:21:45 -0800 (PST) X-Relaying-Domain: iol.unh.edu Date: Fri, 07 Feb 2025 10:21:45 -0800 (PST) Message-ID: <67a64f39.170a0220.194f68.83bbSMTPIN_ADDED_MISSING@mx.google.com> Received: from [172.21.0.6] (unknown [172.18.0.240]) by postal.iol.unh.edu (Postfix) with ESMTP id 0764D6052471; Fri, 7 Feb 2025 13:21:45 -0500 (EST) Subject: |WARNING| pw149311 [PATCH] [RFC] eventdev: adapter API to configure From: dpdklab@iol.unh.edu To: Test Report Cc: dpdk-test-reports@iol.unh.edu In-Reply-To: <20241219073147.1719079-1-sthotton@marvell.com> References: <20241219073147.1719079-1-sthotton@marvell.com> Content-Type: text/plain X-BeenThere: test-report@dpdk.org X-Mailman-Version: 2.1.29 Precedence: list List-Id: automatic DPDK test reports List-Unsubscribe: , List-Archive: List-Post: List-Help: List-Subscribe: , Errors-To: test-report-bounces@dpdk.org Test-Label: iol-compile-amd64-testing Test-Status: WARNING http://dpdk.org/patch/149311 _Testing issues_ Submitter: Shijith Thotton Date: Thursday, December 19 2024 07:31:46 DPDK git baseline: Repo:dpdk Branch: master CommitID:1b3bf1128d9bda5595861814792f74b8f57160c8 149311 --> testing issues Test environment and result as below: +---------------------+--------------------+------------------+-------------------+-------------------+-------------------------+----------------------+ | Environment | dpdk_meson_compile | dpdk_compile_ovs | dpdk_compile_spdk | dpdk_msvc_compile | dpdk_llvm_clang_compile | dpdk_mingw64_compile | +=====================+====================+==================+===================+===================+=========================+======================+ | CentOS Stream 9 | PASS | PASS | PASS | SKIPPED | SKIPPED | SKIPPED | +---------------------+--------------------+------------------+-------------------+-------------------+-------------------------+----------------------+ | Fedora 40 (Clang) | PASS | PASS | PASS | SKIPPED | SKIPPED | SKIPPED | +---------------------+--------------------+------------------+-------------------+-------------------+-------------------------+----------------------+ | Fedora 39 | PASS | PASS | PASS | SKIPPED | SKIPPED | SKIPPED | +---------------------+--------------------+------------------+-------------------+-------------------+-------------------------+----------------------+ | Fedora 40 | PASS | PASS | PASS | SKIPPED | SKIPPED | SKIPPED | +---------------------+--------------------+------------------+-------------------+-------------------+-------------------------+----------------------+ | openSUSE Leap 15 | PASS | WARN | SKIPPED | SKIPPED | SKIPPED | SKIPPED | +---------------------+--------------------+------------------+-------------------+-------------------+-------------------------+----------------------+ | RHEL8 | PASS | PASS | SKIPPED | SKIPPED | SKIPPED | SKIPPED | +---------------------+--------------------+------------------+-------------------+-------------------+-------------------------+----------------------+ | Ubuntu 22.04 | PASS | PASS | PASS | SKIPPED | SKIPPED | SKIPPED | +---------------------+--------------------+------------------+-------------------+-------------------+-------------------------+----------------------+ | RHEL9 | PASS | PASS | SKIPPED | SKIPPED | SKIPPED | SKIPPED | +---------------------+--------------------+------------------+-------------------+-------------------+-------------------------+----------------------+ | Ubuntu 20.04 | PASS | SKIPPED | SKIPPED | SKIPPED | SKIPPED | SKIPPED | +---------------------+--------------------+------------------+-------------------+-------------------+-------------------------+----------------------+ | FreeBSD 14.2 | PASS | SKIPPED | SKIPPED | SKIPPED | SKIPPED | SKIPPED | +---------------------+--------------------+------------------+-------------------+-------------------+-------------------------+----------------------+ | Fedora 39 (Clang) | PASS | PASS | PASS | SKIPPED | SKIPPED | SKIPPED | +---------------------+--------------------+------------------+-------------------+-------------------+-------------------------+----------------------+ | Debian 12 | PASS | PASS | PASS | SKIPPED | SKIPPED | SKIPPED | +---------------------+--------------------+------------------+-------------------+-------------------+-------------------------+----------------------+ | Ubuntu 24.04 | PASS | PASS | PASS | SKIPPED | SKIPPED | SKIPPED | +---------------------+--------------------+------------------+-------------------+-------------------+-------------------------+----------------------+ | FreeBSD 13.4 | PASS | SKIPPED | SKIPPED | SKIPPED | SKIPPED | SKIPPED | +---------------------+--------------------+------------------+-------------------+-------------------+-------------------------+----------------------+ | Alpine | PASS | PASS | SKIPPED | SKIPPED | SKIPPED | SKIPPED | +---------------------+--------------------+------------------+-------------------+-------------------+-------------------------+----------------------+ | Windows Server 2022 | SKIPPED | SKIPPED | SKIPPED | PASS | PASS | PASS | +---------------------+--------------------+------------------+-------------------+-------------------+-------------------------+----------------------+ ==== 20 line log output for openSUSE Leap 15 (dpdk_compile_ovs): ==== --- Failed to get log output --- ==== End log output ==== CentOS Stream 9 Kernel: Depends on container host Compiler: gcc 11.5.0 20240719 (Red Hat 11.5.0-2) Fedora 40 (Clang) Kernel: Depends on container host Compiler: clang 18.1.8 (Fedora 18.1.8-1.fc40) Fedora 39 Kernel: Depends on container host Compiler: gcc 13.3.1 20240522 (Red Hat 13.3.1-1) Fedora 40 Kernel: Depends on container host Compiler: gcc 14.2.1 20240912 (Red Hat 14.2.1-3) openSUSE Leap 15 Kernel: Depends on container host Compiler: gcc (SUSE Linux) 7.5.0 RHEL8 Kernel: Depends on container host Compiler: gcc 8.5.0 20210514 (Red Hat 8.5.0-22) Ubuntu 22.04 Kernel: Depends on container host Compiler: gcc (Ubuntu 11.4.0-1ubuntu1~22.04) 11.4.0 RHEL9 Kernel: Depends on container host Compiler: gcc 11.5.0 20240719 (Red Hat 11.5.0-2) Ubuntu 20.04 Kernel: Depends on container host Compiler: gcc (Ubuntu 9.4.0-1ubuntu1~20.04.2) 9.4.0 FreeBSD 14.2 Kernel: 14.2-RELEASE Compiler: clang 18.1.6 Fedora 39 (Clang) Kernel: Depends on container host Compiler: clang 17.0.6 (Fedora 17.0.6-2.fc39) Debian 12 Kernel: Depends on container host Compiler: gcc (Debian 12.2.0-14) 12.2.0 Ubuntu 24.04 Kernel: Depends on container host Compiler: gcc (Ubuntu 13.3.0-6ubuntu2~24.04) 13.3.0 FreeBSD 13.4 Kernel: 13.4-RELEASE-p1 Compiler: clang 18.1.6 Alpine Kernel: Depends on container host Compiler: gcc (Alpine 14.2.0) 14.2.0 Windows Server 2022 Kernel: 10.0.20348.2031 Compiler: clang 15.0.7, gcc 14.1.0 (MinGW), and MSVC VS 19.39.33521 To view detailed results, visit: https://lab.dpdk.org/results/dashboard/patchsets/32166/ UNH-IOL DPDK Community Lab To manage your email subscriptions, visit: https://lab.dpdk.org/results/dashboard/preferences/subscriptions/