From mboxrd@z Thu Jan 1 00:00:00 1970 Return-Path: Received: from mails.dpdk.org (mails.dpdk.org [217.70.189.124]) by inbox.dpdk.org (Postfix) with ESMTP id 93731461BE for ; Fri, 7 Feb 2025 19:21:58 +0100 (CET) Received: from mails.dpdk.org (localhost [127.0.0.1]) by mails.dpdk.org (Postfix) with ESMTP id 8F55442ED5; Fri, 7 Feb 2025 19:21:58 +0100 (CET) Received: from mail-pl1-f227.google.com (mail-pl1-f227.google.com [209.85.214.227]) by mails.dpdk.org (Postfix) with ESMTP id C31AB42E90 for ; Fri, 7 Feb 2025 19:21:57 +0100 (CET) Received: by mail-pl1-f227.google.com with SMTP id d9443c01a7336-2166651f752so54338575ad.3 for ; Fri, 07 Feb 2025 10:21:57 -0800 (PST) DKIM-Signature: v=1; a=rsa-sha256; c=relaxed/relaxed; d=iol.unh.edu; s=unh-iol; t=1738952517; x=1739557317; darn=dpdk.org; h=references:in-reply-to:cc:to:from:subject:message-id:date:from:to :cc:subject:date:message-id:reply-to; bh=19DDVrScFNCjSdf3OIkcLyjyDnS0fTEAGktpDFqovbA=; b=cbh8qHw6W4RGoZYsl9NYsWEDMgBo1mvLVU4L8m1XB/9IvRPl0j62RTMA+JA+5eyx7r vArZB4FTzXtGtVITn+vw7eHkar0/bLz2Ymg63dUBWkdCQ0FmE8W8AKwCEltUfvXfEFix ydsQ2t+fR6iK9oTm79FLru7aCsdv/lCvCINI0= X-Google-DKIM-Signature: v=1; a=rsa-sha256; c=relaxed/relaxed; d=1e100.net; s=20230601; t=1738952517; x=1739557317; h=references:in-reply-to:cc:to:from:subject:message-id:date :x-gm-message-state:from:to:cc:subject:date:message-id:reply-to; bh=19DDVrScFNCjSdf3OIkcLyjyDnS0fTEAGktpDFqovbA=; b=aWwWN6pZQ65J7lb43IWZVNg1qP2qDN/wwLNYfpv0Ou05crKRPwnGKeoz6HUxh3RlEu +QZGLNXy7RdDy+pKYfDYiLmdV0qhdnCQ9j4FMA0ulJR9c9NTomkfvB2XdZAEbyR8ImcF sgxyVc7etIFcjYJEoK5asGaYrYVFX9j4E1A6QzNZMJwf4ftAU2Q3CyCXbE+ck5O1p/fL ZXGBhdVQQk+LnJIzl6SAb5tQM2IIMCAsjjdqegmh55rfs3vcETfR9YVLWAbpQJCW9O8b p8YxTbkyl4IddKslUk9YN8Gfe8GUvJaWxES+1SRbzxvCKeLWx0FfVyFwTkcRKMSvjjW3 7wkg== X-Gm-Message-State: AOJu0YzGYg0WlgQFMFK2PhffKEZQL/7uj+25ucLjqeGFtkG+eBsdDa5S I44zNWuYR8d7VcTZ16l+0W54YZXcZsJLIhoKH1VYmYE6XOvm0l+VH+CXLKSh4HAZuM5qYEh+/Bm e6YofjzgtIG3znO/oc89kMwWCN9QzD8pV8ddkLOeE X-Gm-Gg: ASbGncs9eZyrzMCoVVxh0/87hnFgEI8l/S3njXqp8qjDNUVx0L8ETPAcrA+b5x+FgkZ TnBXbuEGaEbG2WOSTaKzMrH70Vk+QIAXt36uD7jwnl8osaePBSQwfLjGPKdYGdI7jMJXBoV6ZC9 5y0p1iLXaSJ2vJATfKThIQoneQaZlY9Kd9MKPNs2Juz0kuCGSsU3piewHFHbvdOr2OVrEyNaXZZ RufcoXcP7yHtP+z0mgjHzW/lmteTDZZE8XzfIvqlnNLHU9TA2jZ0P9ycwgsugxiL4TkuTHVRHyG YgWBgD6tjIJyPXcCiy0j9YKLv0Pntg== X-Google-Smtp-Source: AGHT+IGkzXjYIA5XCNIv5lXEd4+SURt+PYsHwXo8HyzTT2nDvCu+IYuHkrgIEQTlnHoxFSvfe3e3WWOnsfPL X-Received: by 2002:a05:6a21:501:b0:1eb:3482:9d27 with SMTP id adf61e73a8af0-1ee03b43e03mr9554102637.32.1738952516941; Fri, 07 Feb 2025 10:21:56 -0800 (PST) Received: from postal.iol.unh.edu (postal.iol.unh.edu. [132.177.123.84]) by smtp-relay.gmail.com with ESMTPS id 41be03b00d2f7-ad51af47284sm105277a12.24.2025.02.07.10.21.56 (version=TLS1_2 cipher=ECDHE-ECDSA-AES128-GCM-SHA256 bits=128/128); Fri, 07 Feb 2025 10:21:56 -0800 (PST) X-Relaying-Domain: iol.unh.edu Date: Fri, 07 Feb 2025 10:21:56 -0800 (PST) Message-ID: <67a64f44.050a0220.11bd0e.5486SMTPIN_ADDED_MISSING@mx.google.com> Received: from [172.21.0.10] (unknown [172.18.0.240]) by postal.iol.unh.edu (Postfix) with ESMTP id 1BB25605247D; Fri, 7 Feb 2025 13:21:56 -0500 (EST) Subject: |WARNING| pw149308 [PATCH] net/gve: Allocate qpl pages using malloc From: dpdklab@iol.unh.edu To: Test Report Cc: dpdk-test-reports@iol.unh.edu In-Reply-To: <20241218234635.2009033-1-joshwash@google.com> References: <20241218234635.2009033-1-joshwash@google.com> Content-Type: text/plain X-BeenThere: test-report@dpdk.org X-Mailman-Version: 2.1.29 Precedence: list List-Id: automatic DPDK test reports List-Unsubscribe: , List-Archive: List-Post: List-Help: List-Subscribe: , Errors-To: test-report-bounces@dpdk.org Test-Label: iol-compile-amd64-testing Test-Status: WARNING http://dpdk.org/patch/149308 _Testing issues_ Submitter: Joshua Washington Date: Wednesday, December 18 2024 23:46:35 DPDK git baseline: Repo:dpdk Branch: master CommitID:78d0246a2e2fb14cba220d507192d12d2ce896ac 149308 --> testing issues Test environment and result as below: +---------------------+--------------------+------------------+-------------------+-------------------+-------------------------+----------------------+ | Environment | dpdk_meson_compile | dpdk_compile_ovs | dpdk_compile_spdk | dpdk_msvc_compile | dpdk_llvm_clang_compile | dpdk_mingw64_compile | +=====================+====================+==================+===================+===================+=========================+======================+ | CentOS Stream 9 | PASS | PASS | PASS | SKIPPED | SKIPPED | SKIPPED | +---------------------+--------------------+------------------+-------------------+-------------------+-------------------------+----------------------+ | Debian 12 | PASS | PASS | PASS | SKIPPED | SKIPPED | SKIPPED | +---------------------+--------------------+------------------+-------------------+-------------------+-------------------------+----------------------+ | Fedora 39 | PASS | PASS | PASS | SKIPPED | SKIPPED | SKIPPED | +---------------------+--------------------+------------------+-------------------+-------------------+-------------------------+----------------------+ | Fedora 40 (Clang) | PASS | PASS | PASS | SKIPPED | SKIPPED | SKIPPED | +---------------------+--------------------+------------------+-------------------+-------------------+-------------------------+----------------------+ | RHEL8 | PASS | PASS | SKIPPED | SKIPPED | SKIPPED | SKIPPED | +---------------------+--------------------+------------------+-------------------+-------------------+-------------------------+----------------------+ | Fedora 40 | PASS | PASS | PASS | SKIPPED | SKIPPED | SKIPPED | +---------------------+--------------------+------------------+-------------------+-------------------+-------------------------+----------------------+ | openSUSE Leap 15 | PASS | WARN | SKIPPED | SKIPPED | SKIPPED | SKIPPED | +---------------------+--------------------+------------------+-------------------+-------------------+-------------------------+----------------------+ | RHEL9 | PASS | PASS | SKIPPED | SKIPPED | SKIPPED | SKIPPED | +---------------------+--------------------+------------------+-------------------+-------------------+-------------------------+----------------------+ | Ubuntu 20.04 | PASS | SKIPPED | SKIPPED | SKIPPED | SKIPPED | SKIPPED | +---------------------+--------------------+------------------+-------------------+-------------------+-------------------------+----------------------+ | Ubuntu 22.04 | PASS | PASS | PASS | SKIPPED | SKIPPED | SKIPPED | +---------------------+--------------------+------------------+-------------------+-------------------+-------------------------+----------------------+ | Ubuntu 24.04 | PASS | PASS | PASS | SKIPPED | SKIPPED | SKIPPED | +---------------------+--------------------+------------------+-------------------+-------------------+-------------------------+----------------------+ | FreeBSD 13.4 | PASS | SKIPPED | SKIPPED | SKIPPED | SKIPPED | SKIPPED | +---------------------+--------------------+------------------+-------------------+-------------------+-------------------------+----------------------+ | FreeBSD 14.2 | PASS | SKIPPED | SKIPPED | SKIPPED | SKIPPED | SKIPPED | +---------------------+--------------------+------------------+-------------------+-------------------+-------------------------+----------------------+ | Fedora 39 (Clang) | PASS | PASS | PASS | SKIPPED | SKIPPED | SKIPPED | +---------------------+--------------------+------------------+-------------------+-------------------+-------------------------+----------------------+ | Alpine | PASS | PASS | SKIPPED | SKIPPED | SKIPPED | SKIPPED | +---------------------+--------------------+------------------+-------------------+-------------------+-------------------------+----------------------+ | Windows Server 2022 | SKIPPED | SKIPPED | SKIPPED | PASS | PASS | PASS | +---------------------+--------------------+------------------+-------------------+-------------------+-------------------------+----------------------+ ==== 20 line log output for openSUSE Leap 15 (dpdk_compile_ovs): ==== --- Failed to get log output --- ==== End log output ==== CentOS Stream 9 Kernel: Depends on container host Compiler: gcc 11.5.0 20240719 (Red Hat 11.5.0-2) Debian 12 Kernel: Depends on container host Compiler: gcc (Debian 12.2.0-14) 12.2.0 Fedora 39 Kernel: Depends on container host Compiler: gcc 13.3.1 20240522 (Red Hat 13.3.1-1) Fedora 40 (Clang) Kernel: Depends on container host Compiler: clang 18.1.8 (Fedora 18.1.8-1.fc40) RHEL8 Kernel: Depends on container host Compiler: gcc 8.5.0 20210514 (Red Hat 8.5.0-22) Fedora 40 Kernel: Depends on container host Compiler: gcc 14.2.1 20240912 (Red Hat 14.2.1-3) openSUSE Leap 15 Kernel: Depends on container host Compiler: gcc (SUSE Linux) 7.5.0 RHEL9 Kernel: Depends on container host Compiler: gcc 11.5.0 20240719 (Red Hat 11.5.0-2) Ubuntu 20.04 Kernel: Depends on container host Compiler: gcc (Ubuntu 9.4.0-1ubuntu1~20.04.2) 9.4.0 Ubuntu 22.04 Kernel: Depends on container host Compiler: gcc (Ubuntu 11.4.0-1ubuntu1~22.04) 11.4.0 Ubuntu 24.04 Kernel: Depends on container host Compiler: gcc (Ubuntu 13.3.0-6ubuntu2~24.04) 13.3.0 FreeBSD 13.4 Kernel: 13.4-RELEASE-p1 Compiler: clang 18.1.6 FreeBSD 14.2 Kernel: 14.2-RELEASE Compiler: clang 18.1.6 Fedora 39 (Clang) Kernel: Depends on container host Compiler: clang 17.0.6 (Fedora 17.0.6-2.fc39) Alpine Kernel: Depends on container host Compiler: gcc (Alpine 14.2.0) 14.2.0 Windows Server 2022 Kernel: 10.0.20348.2031 Compiler: clang 15.0.7, gcc 14.1.0 (MinGW), and MSVC VS 19.39.33521 To view detailed results, visit: https://lab.dpdk.org/results/dashboard/patchsets/32163/ UNH-IOL DPDK Community Lab To manage your email subscriptions, visit: https://lab.dpdk.org/results/dashboard/preferences/subscriptions/