From mboxrd@z Thu Jan 1 00:00:00 1970 Return-Path: Received: from mails.dpdk.org (mails.dpdk.org [217.70.189.124]) by inbox.dpdk.org (Postfix) with ESMTP id A4F9E461BE for ; Fri, 7 Feb 2025 19:22:00 +0100 (CET) Received: from mails.dpdk.org (localhost [127.0.0.1]) by mails.dpdk.org (Postfix) with ESMTP id A028542ED5; Fri, 7 Feb 2025 19:22:00 +0100 (CET) Received: from mail-il1-f228.google.com (mail-il1-f228.google.com [209.85.166.228]) by mails.dpdk.org (Postfix) with ESMTP id DE91E42EE1 for ; Fri, 7 Feb 2025 19:21:58 +0100 (CET) Received: by mail-il1-f228.google.com with SMTP id e9e14a558f8ab-3d04e7f284aso7984085ab.0 for ; Fri, 07 Feb 2025 10:21:58 -0800 (PST) DKIM-Signature: v=1; a=rsa-sha256; c=relaxed/relaxed; d=iol.unh.edu; s=unh-iol; t=1738952518; x=1739557318; darn=dpdk.org; h=references:in-reply-to:cc:to:from:subject:message-id:date:from:to :cc:subject:date:message-id:reply-to; bh=SogMsRom+/bmP2/qP7P7Sn2SoKATFNzWZtcWzkyahMY=; b=aDYTdPOKK81YmpMGNx2wbPW2jZ5YPpNPnDhPRfkPv5fOj3Mki7mJw3C2RrPjPotZjW OGO9tT49ZQvqnZfphnHZx2UIGUbTSQ1isl1qA25LsfCfYxaWP+k3ndgnQAIshOtaRG8f HZ2nl36BWwPte5Pp/GmfPyuAz0xIwoEiwd/D8= X-Google-DKIM-Signature: v=1; a=rsa-sha256; c=relaxed/relaxed; d=1e100.net; s=20230601; t=1738952518; x=1739557318; h=references:in-reply-to:cc:to:from:subject:message-id:date :x-gm-message-state:from:to:cc:subject:date:message-id:reply-to; bh=SogMsRom+/bmP2/qP7P7Sn2SoKATFNzWZtcWzkyahMY=; b=gEJ8PqonnKwGLay1FYbaDyd7li0jKbCMlcjtyOxfCnmOatlgrw6i9DyByC/u/bZ6ja ytBCXBCzNJ+/HMv+P/faBnvqwGMrLbxfCFREt7ZveQrj+GhSn8vTxT3VS3vmKsXDtCRU ScfqP2w+0/xbUE06zIudtCXrDMZMx2op9kiK85IF3m6gEwaiJOn0yCN9kjh6Jgi8nybW 6Q0HDCcUF1YGkRXyqAYkX7+sA2m9VHFcQ1vvf683F3742+oEAs7Q8Z9BKtEMSOSBoS/R ls4CvZa2/pxDG/M5EcoPIvKgJAkinKOzrd8cc4flQIxmIqoiq0FE1b2Am8pIKuZ+SUXg Kd9A== X-Gm-Message-State: AOJu0Yx/FgvKQarK6toMTZT/iY6XeqqUnsu5qSoWRlcW2gvJaM/u823S x/O9f/pytwjclHYgEBWP+gD/u6nA8vJnxy8G2YrrgmXbe2Mj5y8M7EGqvRotxoU1pq4UAtQNb+H dx8AlTgNf604AfTxDCLyQ/swxdFvgDv9dQ8MJkPaa X-Gm-Gg: ASbGncsemzNzvrp9/KBxSQGJpAPwjKUsY1mBavuYp72vEB9wl1/tplbplxfYO5/XOQV lrLDUSkhEbTHg6hU3A/CS2qG7l049q2cxQC3NEhuD4VaPcfaprSIgGje8QtESyZvdSeBYb4k7xf naedORVq3UTAU3tq4E+5HuhthVSr/pw6zcfwXnvK+c4owFlP19cqmpTl3uIzofFe1PiU8F8e0xZ SgZW95vLeQsY4SFVO+SOgIA4JFSmcPLhhOtha3GJNLB/FoF4pVHgihIiXVn5tnuN8mopGleqOIq g2fhymnqF/DHfPYnEnjfDdG6l3o56g== X-Google-Smtp-Source: AGHT+IHaeLCj65mxxpAMN+4dyMfwbW6ZL8DbvaT5OlZ3ZuD6S0Bfs3Iu5+72WMOFol0gA2ekV/Scml1LxE9t X-Received: by 2002:a05:6e02:3703:b0:3cf:cbac:3ba6 with SMTP id e9e14a558f8ab-3d13dcfca2dmr42154655ab.5.1738952518183; Fri, 07 Feb 2025 10:21:58 -0800 (PST) Received: from postal.iol.unh.edu (postal.iol.unh.edu. [132.177.123.84]) by smtp-relay.gmail.com with ESMTPS id e9e14a558f8ab-3d05e91b08dsm2544915ab.38.2025.02.07.10.21.58 (version=TLS1_2 cipher=ECDHE-ECDSA-AES128-GCM-SHA256 bits=128/128); Fri, 07 Feb 2025 10:21:58 -0800 (PST) X-Relaying-Domain: iol.unh.edu Date: Fri, 07 Feb 2025 10:21:58 -0800 (PST) Message-ID: <67a64f46.050a0220.2f171e.d6f4SMTPIN_ADDED_MISSING@mx.google.com> Received: from [172.21.0.8] (unknown [172.18.0.240]) by postal.iol.unh.edu (Postfix) with ESMTP id AEE12605247D; Fri, 7 Feb 2025 13:21:57 -0500 (EST) Subject: |WARNING| pw149312 [PATCH] [RFC] eventdev: adapter API to configure From: dpdklab@iol.unh.edu To: Test Report Cc: dpdk-test-reports@iol.unh.edu In-Reply-To: <20241219073405.1724200-1-sthotton@marvell.com> References: <20241219073405.1724200-1-sthotton@marvell.com> Content-Type: text/plain X-BeenThere: test-report@dpdk.org X-Mailman-Version: 2.1.29 Precedence: list List-Id: automatic DPDK test reports List-Unsubscribe: , List-Archive: List-Post: List-Help: List-Subscribe: , Errors-To: test-report-bounces@dpdk.org Test-Label: iol-compile-amd64-testing Test-Status: WARNING http://dpdk.org/patch/149312 _Testing issues_ Submitter: Shijith Thotton Date: Thursday, December 19 2024 07:34:04 DPDK git baseline: Repo:dpdk Branch: master CommitID:1b3bf1128d9bda5595861814792f74b8f57160c8 149312 --> testing issues Test environment and result as below: +---------------------+--------------------+------------------+-------------------+-------------------+-------------------------+----------------------+ | Environment | dpdk_meson_compile | dpdk_compile_ovs | dpdk_compile_spdk | dpdk_msvc_compile | dpdk_llvm_clang_compile | dpdk_mingw64_compile | +=====================+====================+==================+===================+===================+=========================+======================+ | CentOS Stream 9 | PASS | PASS | PASS | SKIPPED | SKIPPED | SKIPPED | +---------------------+--------------------+------------------+-------------------+-------------------+-------------------------+----------------------+ | Debian 12 | PASS | PASS | PASS | SKIPPED | SKIPPED | SKIPPED | +---------------------+--------------------+------------------+-------------------+-------------------+-------------------------+----------------------+ | Fedora 39 (Clang) | PASS | PASS | PASS | SKIPPED | SKIPPED | SKIPPED | +---------------------+--------------------+------------------+-------------------+-------------------+-------------------------+----------------------+ | Fedora 40 (Clang) | PASS | PASS | PASS | SKIPPED | SKIPPED | SKIPPED | +---------------------+--------------------+------------------+-------------------+-------------------+-------------------------+----------------------+ | Fedora 39 | PASS | PASS | PASS | SKIPPED | SKIPPED | SKIPPED | +---------------------+--------------------+------------------+-------------------+-------------------+-------------------------+----------------------+ | Fedora 40 | PASS | PASS | PASS | SKIPPED | SKIPPED | SKIPPED | +---------------------+--------------------+------------------+-------------------+-------------------+-------------------------+----------------------+ | RHEL8 | PASS | PASS | SKIPPED | SKIPPED | SKIPPED | SKIPPED | +---------------------+--------------------+------------------+-------------------+-------------------+-------------------------+----------------------+ | openSUSE Leap 15 | PASS | WARN | SKIPPED | SKIPPED | SKIPPED | SKIPPED | +---------------------+--------------------+------------------+-------------------+-------------------+-------------------------+----------------------+ | RHEL9 | PASS | PASS | SKIPPED | SKIPPED | SKIPPED | SKIPPED | +---------------------+--------------------+------------------+-------------------+-------------------+-------------------------+----------------------+ | Ubuntu 22.04 | PASS | PASS | PASS | SKIPPED | SKIPPED | SKIPPED | +---------------------+--------------------+------------------+-------------------+-------------------+-------------------------+----------------------+ | Ubuntu 24.04 | PASS | PASS | PASS | SKIPPED | SKIPPED | SKIPPED | +---------------------+--------------------+------------------+-------------------+-------------------+-------------------------+----------------------+ | Alpine | PASS | PASS | SKIPPED | SKIPPED | SKIPPED | SKIPPED | +---------------------+--------------------+------------------+-------------------+-------------------+-------------------------+----------------------+ | FreeBSD 13.4 | PASS | SKIPPED | SKIPPED | SKIPPED | SKIPPED | SKIPPED | +---------------------+--------------------+------------------+-------------------+-------------------+-------------------------+----------------------+ | FreeBSD 14.2 | PASS | SKIPPED | SKIPPED | SKIPPED | SKIPPED | SKIPPED | +---------------------+--------------------+------------------+-------------------+-------------------+-------------------------+----------------------+ | Ubuntu 20.04 | PASS | SKIPPED | SKIPPED | SKIPPED | SKIPPED | SKIPPED | +---------------------+--------------------+------------------+-------------------+-------------------+-------------------------+----------------------+ | Windows Server 2022 | SKIPPED | SKIPPED | SKIPPED | PASS | PASS | PASS | +---------------------+--------------------+------------------+-------------------+-------------------+-------------------------+----------------------+ ==== 20 line log output for openSUSE Leap 15 (dpdk_compile_ovs): ==== --- Failed to get log output --- ==== End log output ==== CentOS Stream 9 Kernel: Depends on container host Compiler: gcc 11.5.0 20240719 (Red Hat 11.5.0-2) Debian 12 Kernel: Depends on container host Compiler: gcc (Debian 12.2.0-14) 12.2.0 Fedora 39 (Clang) Kernel: Depends on container host Compiler: clang 17.0.6 (Fedora 17.0.6-2.fc39) Fedora 40 (Clang) Kernel: Depends on container host Compiler: clang 18.1.8 (Fedora 18.1.8-1.fc40) Fedora 39 Kernel: Depends on container host Compiler: gcc 13.3.1 20240522 (Red Hat 13.3.1-1) Fedora 40 Kernel: Depends on container host Compiler: gcc 14.2.1 20240912 (Red Hat 14.2.1-3) RHEL8 Kernel: Depends on container host Compiler: gcc 8.5.0 20210514 (Red Hat 8.5.0-22) openSUSE Leap 15 Kernel: Depends on container host Compiler: gcc (SUSE Linux) 7.5.0 RHEL9 Kernel: Depends on container host Compiler: gcc 11.5.0 20240719 (Red Hat 11.5.0-2) Ubuntu 22.04 Kernel: Depends on container host Compiler: gcc (Ubuntu 11.4.0-1ubuntu1~22.04) 11.4.0 Ubuntu 24.04 Kernel: Depends on container host Compiler: gcc (Ubuntu 13.3.0-6ubuntu2~24.04) 13.3.0 Alpine Kernel: Depends on container host Compiler: gcc (Alpine 14.2.0) 14.2.0 FreeBSD 13.4 Kernel: 13.4-RELEASE-p1 Compiler: clang 18.1.6 FreeBSD 14.2 Kernel: 14.2-RELEASE Compiler: clang 18.1.6 Ubuntu 20.04 Kernel: Depends on container host Compiler: gcc (Ubuntu 9.4.0-1ubuntu1~20.04.2) 9.4.0 Windows Server 2022 Kernel: 10.0.20348.2031 Compiler: clang 15.0.7, gcc 14.1.0 (MinGW), and MSVC VS 19.39.33521 To view detailed results, visit: https://lab.dpdk.org/results/dashboard/patchsets/32167/ UNH-IOL DPDK Community Lab To manage your email subscriptions, visit: https://lab.dpdk.org/results/dashboard/preferences/subscriptions/