From mboxrd@z Thu Jan 1 00:00:00 1970 Return-Path: Received: from mails.dpdk.org (mails.dpdk.org [217.70.189.124]) by inbox.dpdk.org (Postfix) with ESMTP id BA269461BE for ; Fri, 7 Feb 2025 19:22:19 +0100 (CET) Received: from mails.dpdk.org (localhost [127.0.0.1]) by mails.dpdk.org (Postfix) with ESMTP id B1A2642ED5; Fri, 7 Feb 2025 19:22:19 +0100 (CET) Received: from mail-pl1-f226.google.com (mail-pl1-f226.google.com [209.85.214.226]) by mails.dpdk.org (Postfix) with ESMTP id BC5B542E90 for ; Fri, 7 Feb 2025 19:22:18 +0100 (CET) Received: by mail-pl1-f226.google.com with SMTP id d9443c01a7336-2165448243fso59973565ad.1 for ; Fri, 07 Feb 2025 10:22:18 -0800 (PST) DKIM-Signature: v=1; a=rsa-sha256; c=relaxed/relaxed; d=iol.unh.edu; s=unh-iol; t=1738952538; x=1739557338; darn=dpdk.org; h=references:in-reply-to:cc:to:from:subject:message-id:date:from:to :cc:subject:date:message-id:reply-to; bh=Ok4dcOeYw2nj1Rgt3e+ybuf3D4eoe0AblraVJ0XgeE0=; b=h69Mrm8a2VCdART1bLViphTzQZTB7Kx/HdhtC6BPfkoZzyA74/w0J51DAhCVtL/470 sxfii8o+3S3+XDoE2sAtvbT1mttl8R/TfrkC+a19pDhZsPjBqjVy9VYp7aLxkFKXJR+4 W9wc56UU9J4rCvFvCXreN+AgrCERPtKsgpWsA= X-Google-DKIM-Signature: v=1; a=rsa-sha256; c=relaxed/relaxed; d=1e100.net; s=20230601; t=1738952538; x=1739557338; h=references:in-reply-to:cc:to:from:subject:message-id:date :x-gm-message-state:from:to:cc:subject:date:message-id:reply-to; bh=Ok4dcOeYw2nj1Rgt3e+ybuf3D4eoe0AblraVJ0XgeE0=; b=Pp0GtcqP3JqVTnI5uQ4C8rzyp8VMNgIOal77ji63YPNxqbY6JRiSJmB1VbOArBz807 nbBWmn4Zby9DgMTe1oDRuwt4iqRQmunUmeZJFJhaRTSzx8fHF0uK0C7+2Knss5QkzA3n MkIGifz3DluWmi4lZYwl7vyBmzMdx50gC3jBqN9A5YMzFE8Dn6P3B026eSjI64TBpEa1 KNfA86JHSdrQvqdqkOtk4QM/FXXG2Ik4saeod5GC3u4fwTMBSpCNcTKs3KjUrqnqPfIv XroWw6CBxZBRHQf2IBemVZ3zaEYrzD36FO5ZMk10u8hhEW6E6eKtZ2XVQrRTuSc5wGBQ 8K4Q== X-Gm-Message-State: AOJu0YzfhICTPkaGxeLXk05O+vna4o8OKcLlFnZTBjLYVBgMyCP1Z6d0 Qq+Bjd2GLkDZOTpPCB3mTsd283Mu71hzcmldcw3piC5y+iOxN0ma353ezQTWvv58dSX6OZQtkT7 bUyzcPmtTLoPnOdoDevAidxbhTqM1a19pJqV1V8wA X-Gm-Gg: ASbGncsjbFNnOkSPl2LplOyrYxhvBH6SZ+m4sDvTvPQMxzJUqJUU7NuTH/+5yNd9Jco /GNlVUAChV8AA0HLLS4bIa7wXBW43g0E9o3XJ3ELapP/vrQaXHFjfIuzxyIq4oDfiTaQHpCtX4j 0gVC1yS6JGY0tBVB6eyKyD/nAN/PubIloboFxWMh1v89VT6Cov02GiGlmWCLFt2jxbO4mM7BKiV JHXmIO1qydfd1asDiYHA7CRqijSakpDL46po+ECactkyB4ns0Y97JR8902iWDKSUs5EVto5nSKu OS27nlFU1nWLo1XfQnJtHQhZ0Yv+Cw== X-Google-Smtp-Source: AGHT+IEwfn+MF2FEeDEiXwIjWHzEjOP/BAMnMsw4S4uqBwJ5CokAoNmSj9z8iXExzF01Of7AjJtO8EgQMn4Y X-Received: by 2002:a17:903:32cb:b0:21d:dfae:300c with SMTP id d9443c01a7336-21f4e6a064dmr73301815ad.3.1738952538012; Fri, 07 Feb 2025 10:22:18 -0800 (PST) Received: from postal.iol.unh.edu (postal.iol.unh.edu. [132.177.123.84]) by smtp-relay.gmail.com with ESMTPS id d9443c01a7336-21f6025ce41sm464525ad.88.2025.02.07.10.22.17 (version=TLS1_2 cipher=ECDHE-ECDSA-AES128-GCM-SHA256 bits=128/128); Fri, 07 Feb 2025 10:22:18 -0800 (PST) X-Relaying-Domain: iol.unh.edu Date: Fri, 07 Feb 2025 10:22:18 -0800 (PST) Message-ID: <67a64f59.170a0220.265319.21f8SMTPIN_ADDED_MISSING@mx.google.com> Received: from [172.21.0.9] (unknown [172.18.0.240]) by postal.iol.unh.edu (Postfix) with ESMTP id 71F616052471; Fri, 7 Feb 2025 13:21:47 -0500 (EST) Subject: |WARNING| pw149315 [PATCH] [v2] cryptodev: fix C++ include From: dpdklab@iol.unh.edu To: Test Report Cc: dpdk-test-reports@iol.unh.edu In-Reply-To: <20241219133139.420001-1-thomas@monjalon.net> References: <20241219133139.420001-1-thomas@monjalon.net> Content-Type: text/plain X-BeenThere: test-report@dpdk.org X-Mailman-Version: 2.1.29 Precedence: list List-Id: automatic DPDK test reports List-Unsubscribe: , List-Archive: List-Post: List-Help: List-Subscribe: , Errors-To: test-report-bounces@dpdk.org Test-Label: iol-compile-amd64-testing Test-Status: WARNING http://dpdk.org/patch/149315 _Testing issues_ Submitter: Thomas Monjalon Date: Thursday, December 19 2024 13:30:50 DPDK git baseline: Repo:dpdk Branch: master CommitID:7df61db6c387703a36306c1aea92225921e2eeb2 149315 --> testing issues Test environment and result as below: +---------------------+--------------------+------------------+-------------------+-------------------------+-------------------+----------------------+ | Environment | dpdk_meson_compile | dpdk_compile_ovs | dpdk_compile_spdk | dpdk_llvm_clang_compile | dpdk_msvc_compile | dpdk_mingw64_compile | +=====================+====================+==================+===================+=========================+===================+======================+ | CentOS Stream 9 | PASS | PASS | PASS | SKIPPED | SKIPPED | SKIPPED | +---------------------+--------------------+------------------+-------------------+-------------------------+-------------------+----------------------+ | Debian 12 | PASS | PASS | PASS | SKIPPED | SKIPPED | SKIPPED | +---------------------+--------------------+------------------+-------------------+-------------------------+-------------------+----------------------+ | Fedora 39 (Clang) | PASS | PASS | PASS | SKIPPED | SKIPPED | SKIPPED | +---------------------+--------------------+------------------+-------------------+-------------------------+-------------------+----------------------+ | openSUSE Leap 15 | PASS | WARN | SKIPPED | SKIPPED | SKIPPED | SKIPPED | +---------------------+--------------------+------------------+-------------------+-------------------------+-------------------+----------------------+ | Fedora 40 (Clang) | PASS | PASS | PASS | SKIPPED | SKIPPED | SKIPPED | +---------------------+--------------------+------------------+-------------------+-------------------------+-------------------+----------------------+ | RHEL9 | PASS | PASS | SKIPPED | SKIPPED | SKIPPED | SKIPPED | +---------------------+--------------------+------------------+-------------------+-------------------------+-------------------+----------------------+ | RHEL8 | PASS | PASS | SKIPPED | SKIPPED | SKIPPED | SKIPPED | +---------------------+--------------------+------------------+-------------------+-------------------------+-------------------+----------------------+ | Ubuntu 20.04 | PASS | SKIPPED | SKIPPED | SKIPPED | SKIPPED | SKIPPED | +---------------------+--------------------+------------------+-------------------+-------------------------+-------------------+----------------------+ | Ubuntu 22.04 | PASS | PASS | PASS | SKIPPED | SKIPPED | SKIPPED | +---------------------+--------------------+------------------+-------------------+-------------------------+-------------------+----------------------+ | Ubuntu 24.04 | PASS | PASS | PASS | SKIPPED | SKIPPED | SKIPPED | +---------------------+--------------------+------------------+-------------------+-------------------------+-------------------+----------------------+ | Alpine | PASS | PASS | SKIPPED | SKIPPED | SKIPPED | SKIPPED | +---------------------+--------------------+------------------+-------------------+-------------------------+-------------------+----------------------+ | FreeBSD 13.4 | PASS | SKIPPED | SKIPPED | SKIPPED | SKIPPED | SKIPPED | +---------------------+--------------------+------------------+-------------------+-------------------------+-------------------+----------------------+ | FreeBSD 14.2 | PASS | SKIPPED | SKIPPED | SKIPPED | SKIPPED | SKIPPED | +---------------------+--------------------+------------------+-------------------+-------------------------+-------------------+----------------------+ | Fedora 39 | PASS | PASS | PASS | SKIPPED | SKIPPED | SKIPPED | +---------------------+--------------------+------------------+-------------------+-------------------------+-------------------+----------------------+ | Fedora 40 | PASS | PASS | PASS | SKIPPED | SKIPPED | SKIPPED | +---------------------+--------------------+------------------+-------------------+-------------------------+-------------------+----------------------+ | Windows Server 2022 | SKIPPED | SKIPPED | SKIPPED | PASS | PASS | PASS | +---------------------+--------------------+------------------+-------------------+-------------------------+-------------------+----------------------+ ==== 20 line log output for openSUSE Leap 15 (dpdk_compile_ovs): ==== --- Failed to get log output --- ==== End log output ==== CentOS Stream 9 Kernel: Depends on container host Compiler: gcc 11.5.0 20240719 (Red Hat 11.5.0-2) Debian 12 Kernel: Depends on container host Compiler: gcc (Debian 12.2.0-14) 12.2.0 Fedora 39 (Clang) Kernel: Depends on container host Compiler: clang 17.0.6 (Fedora 17.0.6-2.fc39) openSUSE Leap 15 Kernel: Depends on container host Compiler: gcc (SUSE Linux) 7.5.0 Fedora 40 (Clang) Kernel: Depends on container host Compiler: clang 18.1.8 (Fedora 18.1.8-1.fc40) RHEL9 Kernel: Depends on container host Compiler: gcc 11.5.0 20240719 (Red Hat 11.5.0-2) RHEL8 Kernel: Depends on container host Compiler: gcc 8.5.0 20210514 (Red Hat 8.5.0-22) Ubuntu 20.04 Kernel: Depends on container host Compiler: gcc (Ubuntu 9.4.0-1ubuntu1~20.04.2) 9.4.0 Ubuntu 22.04 Kernel: Depends on container host Compiler: gcc (Ubuntu 11.4.0-1ubuntu1~22.04) 11.4.0 Ubuntu 24.04 Kernel: Depends on container host Compiler: gcc (Ubuntu 13.3.0-6ubuntu2~24.04) 13.3.0 Alpine Kernel: Depends on container host Compiler: gcc (Alpine 14.2.0) 14.2.0 FreeBSD 13.4 Kernel: 13.4-RELEASE-p1 Compiler: clang 18.1.6 FreeBSD 14.2 Kernel: 14.2-RELEASE Compiler: clang 18.1.6 Fedora 39 Kernel: Depends on container host Compiler: gcc 13.3.1 20240522 (Red Hat 13.3.1-1) Fedora 40 Kernel: Depends on container host Compiler: gcc 14.2.1 20240912 (Red Hat 14.2.1-3) Windows Server 2022 Kernel: 10.0.20348.2031 Compiler: clang 15.0.7, gcc 14.1.0 (MinGW), and MSVC VS 19.39.33521 To view detailed results, visit: https://lab.dpdk.org/results/dashboard/patchsets/32170/ UNH-IOL DPDK Community Lab To manage your email subscriptions, visit: https://lab.dpdk.org/results/dashboard/preferences/subscriptions/