From mboxrd@z Thu Jan 1 00:00:00 1970 Return-Path: Received: from mails.dpdk.org (mails.dpdk.org [217.70.189.124]) by inbox.dpdk.org (Postfix) with ESMTP id CE386461BE for ; Fri, 7 Feb 2025 19:22:22 +0100 (CET) Received: from mails.dpdk.org (localhost [127.0.0.1]) by mails.dpdk.org (Postfix) with ESMTP id C49C142EE0; Fri, 7 Feb 2025 19:22:22 +0100 (CET) Received: from mail-io1-f99.google.com (mail-io1-f99.google.com [209.85.166.99]) by mails.dpdk.org (Postfix) with ESMTP id 3508F42E90 for ; Fri, 7 Feb 2025 19:22:21 +0100 (CET) Received: by mail-io1-f99.google.com with SMTP id ca18e2360f4ac-84ceaf2667aso158226239f.3 for ; Fri, 07 Feb 2025 10:22:21 -0800 (PST) DKIM-Signature: v=1; a=rsa-sha256; c=relaxed/relaxed; d=iol.unh.edu; s=unh-iol; t=1738952540; x=1739557340; darn=dpdk.org; h=references:in-reply-to:cc:to:from:subject:message-id:date:from:to :cc:subject:date:message-id:reply-to; bh=Mmrz/E50UKOHsvvTA7aDhr8GyM7ZsS+2zOTpTN4gieU=; b=G28ZVYBpBPIPAHph9YngafYi8ndvn+NMGdSZmC53bn+WKQ9ERWnta+RESSxhgmPJaM eDW5dB5FyOt5IiNMf9lFsf5Q+PAEKBCs7nDxnMIpkt91S+GvceDI40/b8grriUFOr6Zi hfHAw4oG2vMAywM3I2oMw+2bWOFwSM6PH75EM= X-Google-DKIM-Signature: v=1; a=rsa-sha256; c=relaxed/relaxed; d=1e100.net; s=20230601; t=1738952540; x=1739557340; h=references:in-reply-to:cc:to:from:subject:message-id:date :x-gm-message-state:from:to:cc:subject:date:message-id:reply-to; bh=Mmrz/E50UKOHsvvTA7aDhr8GyM7ZsS+2zOTpTN4gieU=; b=VNauckk7+Fjjxmk0JPG73UBCwQxFT/3CVvKHPVVidoP1I4rlCKjfJq3IWk2EsjPq0h DxxmEWET6qpyZDMOUGCxmKPJAfetCCOyOYqNnPlNrb7NE8xFxAT80aP07vUeyP3+KmyL sfr8HLsIqxZnK3bIPKTutvnjfECzTjzWJyqiFXLfxBeZh1iBy7C/oo6/HFGQnLluuxzz Zp+u6UUPsw2iKhDc7MyX7XnWfHQW9O+e7fERVSkcnavYkLwtH2jXXGUCA5hFMvyxd2g7 Kg8E7D+Uhn+L5eaUXvsUSnJ/i1XAtvJK4qgCo9MyGfq2WNXMqcLbgAZ9VAgnVS0aWdb2 NxAQ== X-Gm-Message-State: AOJu0Yy+vA+4dY94KBTKpDW0FxYgeSQiK7r7NEauU7bjMhp6Mdr1zZuP yvSqdmr1IUvZ635b0LhSb6GvrrsXJR2utuI/QkTlgZCJO6LSFI8E+IdpRLSURJg8GOGvUg4v9fW I4W3oiTogfu8hMUcsRVP5qjx8mDz9LPPC9vNxKoSM X-Gm-Gg: ASbGncu9S/oGV23i6lHofxN7OGJtBiycwQUhzTzSneJMFMf10VJ1X/dOcAM9TpZ8GM0 IRVgz/O6nO7VyxDaEvc5LwMr0TWAGgp3auSxhpWq4HiigQGBUVQj+fqdApwBKFmbFEaeBSMXdbS Hp5kSc7z7xuGvi7GoC4eLWCycQ8BliilVUDRBYfg6RZq4PUVKfI5ZMfBcJ44mw64vu6x8EGa7tU rYRtGllhv4L7GweXeEKcDbaYHLvQ4szWjBfT9MaLN2PsqNwFgrL5QBhrSnSPvy3HGx6JzML026k yedaTgkbb9WyfBpX9GZDu1qwW9yHdw== X-Google-Smtp-Source: AGHT+IEGbrJ2HrF9ag7RrYuJDQBq2kmg/bNNruNuoXZUUNSaglHFc+mOiYs6cRznkiXDCNzYYVd3UG92SX7b X-Received: by 2002:a05:6602:3895:b0:841:984b:47d2 with SMTP id ca18e2360f4ac-854fd9187c3mr530350039f.14.1738952540502; Fri, 07 Feb 2025 10:22:20 -0800 (PST) Received: from postal.iol.unh.edu (postal.iol.unh.edu. [132.177.123.84]) by smtp-relay.gmail.com with ESMTPS id 8926c6da1cb9f-4eccf9d58d7sm255560173.28.2025.02.07.10.22.20 (version=TLS1_2 cipher=ECDHE-ECDSA-AES128-GCM-SHA256 bits=128/128); Fri, 07 Feb 2025 10:22:20 -0800 (PST) X-Relaying-Domain: iol.unh.edu Date: Fri, 07 Feb 2025 10:22:20 -0800 (PST) Message-ID: <67a64f5c.050a0220.30834b.d29eSMTPIN_ADDED_MISSING@mx.google.com> Received: from [172.21.0.5] (unknown [172.18.0.240]) by postal.iol.unh.edu (Postfix) with ESMTP id 099DD6052472; Fri, 7 Feb 2025 13:21:50 -0500 (EST) Subject: |WARNING| pw149313 [PATCH] power: use hugepage memory for queue list From: dpdklab@iol.unh.edu To: Test Report Cc: dpdk-test-reports@iol.unh.edu In-Reply-To: <20241219075319.8874-1-lihuisong@huawei.com> References: <20241219075319.8874-1-lihuisong@huawei.com> Content-Type: text/plain X-BeenThere: test-report@dpdk.org X-Mailman-Version: 2.1.29 Precedence: list List-Id: automatic DPDK test reports List-Unsubscribe: , List-Archive: List-Post: List-Help: List-Subscribe: , Errors-To: test-report-bounces@dpdk.org Test-Label: iol-compile-amd64-testing Test-Status: WARNING http://dpdk.org/patch/149313 _Testing issues_ Submitter: Huisong Li Date: Thursday, December 19 2024 07:53:19 DPDK git baseline: Repo:dpdk Branch: master CommitID:07604f264417959d76aa9fcb8cb0c3665f62f0d3 149313 --> testing issues Test environment and result as below: +---------------------+--------------------+------------------+-------------------+-------------------------+-------------------+----------------------+ | Environment | dpdk_meson_compile | dpdk_compile_ovs | dpdk_compile_spdk | dpdk_llvm_clang_compile | dpdk_msvc_compile | dpdk_mingw64_compile | +=====================+====================+==================+===================+=========================+===================+======================+ | CentOS Stream 9 | PASS | PASS | PASS | SKIPPED | SKIPPED | SKIPPED | +---------------------+--------------------+------------------+-------------------+-------------------------+-------------------+----------------------+ | Fedora 39 (Clang) | PASS | PASS | PASS | SKIPPED | SKIPPED | SKIPPED | +---------------------+--------------------+------------------+-------------------+-------------------------+-------------------+----------------------+ | Debian 12 | PASS | PASS | PASS | SKIPPED | SKIPPED | SKIPPED | +---------------------+--------------------+------------------+-------------------+-------------------------+-------------------+----------------------+ | Fedora 39 | PASS | PASS | PASS | SKIPPED | SKIPPED | SKIPPED | +---------------------+--------------------+------------------+-------------------+-------------------------+-------------------+----------------------+ | Fedora 40 (Clang) | PASS | PASS | PASS | SKIPPED | SKIPPED | SKIPPED | +---------------------+--------------------+------------------+-------------------+-------------------------+-------------------+----------------------+ | Fedora 40 | PASS | PASS | PASS | SKIPPED | SKIPPED | SKIPPED | +---------------------+--------------------+------------------+-------------------+-------------------------+-------------------+----------------------+ | openSUSE Leap 15 | PASS | WARN | SKIPPED | SKIPPED | SKIPPED | SKIPPED | +---------------------+--------------------+------------------+-------------------+-------------------------+-------------------+----------------------+ | RHEL8 | PASS | PASS | SKIPPED | SKIPPED | SKIPPED | SKIPPED | +---------------------+--------------------+------------------+-------------------+-------------------------+-------------------+----------------------+ | RHEL9 | PASS | PASS | SKIPPED | SKIPPED | SKIPPED | SKIPPED | +---------------------+--------------------+------------------+-------------------+-------------------------+-------------------+----------------------+ | Ubuntu 20.04 | PASS | SKIPPED | SKIPPED | SKIPPED | SKIPPED | SKIPPED | +---------------------+--------------------+------------------+-------------------+-------------------------+-------------------+----------------------+ | Ubuntu 22.04 | PASS | PASS | PASS | SKIPPED | SKIPPED | SKIPPED | +---------------------+--------------------+------------------+-------------------+-------------------------+-------------------+----------------------+ | Ubuntu 24.04 | PASS | PASS | PASS | SKIPPED | SKIPPED | SKIPPED | +---------------------+--------------------+------------------+-------------------+-------------------------+-------------------+----------------------+ | Alpine | PASS | PASS | SKIPPED | SKIPPED | SKIPPED | SKIPPED | +---------------------+--------------------+------------------+-------------------+-------------------------+-------------------+----------------------+ | FreeBSD 13.4 | PASS | SKIPPED | SKIPPED | SKIPPED | SKIPPED | SKIPPED | +---------------------+--------------------+------------------+-------------------+-------------------------+-------------------+----------------------+ | FreeBSD 14.2 | PASS | SKIPPED | SKIPPED | SKIPPED | SKIPPED | SKIPPED | +---------------------+--------------------+------------------+-------------------+-------------------------+-------------------+----------------------+ | Windows Server 2022 | SKIPPED | SKIPPED | SKIPPED | PASS | PASS | PASS | +---------------------+--------------------+------------------+-------------------+-------------------------+-------------------+----------------------+ ==== 20 line log output for openSUSE Leap 15 (dpdk_compile_ovs): ==== --- Failed to get log output --- ==== End log output ==== CentOS Stream 9 Kernel: Depends on container host Compiler: gcc 11.5.0 20240719 (Red Hat 11.5.0-2) Fedora 39 (Clang) Kernel: Depends on container host Compiler: clang 17.0.6 (Fedora 17.0.6-2.fc39) Debian 12 Kernel: Depends on container host Compiler: gcc (Debian 12.2.0-14) 12.2.0 Fedora 39 Kernel: Depends on container host Compiler: gcc 13.3.1 20240522 (Red Hat 13.3.1-1) Fedora 40 (Clang) Kernel: Depends on container host Compiler: clang 18.1.8 (Fedora 18.1.8-1.fc40) Fedora 40 Kernel: Depends on container host Compiler: gcc 14.2.1 20240912 (Red Hat 14.2.1-3) openSUSE Leap 15 Kernel: Depends on container host Compiler: gcc (SUSE Linux) 7.5.0 RHEL8 Kernel: Depends on container host Compiler: gcc 8.5.0 20210514 (Red Hat 8.5.0-22) RHEL9 Kernel: Depends on container host Compiler: gcc 11.5.0 20240719 (Red Hat 11.5.0-2) Ubuntu 20.04 Kernel: Depends on container host Compiler: gcc (Ubuntu 9.4.0-1ubuntu1~20.04.2) 9.4.0 Ubuntu 22.04 Kernel: Depends on container host Compiler: gcc (Ubuntu 11.4.0-1ubuntu1~22.04) 11.4.0 Ubuntu 24.04 Kernel: Depends on container host Compiler: gcc (Ubuntu 13.3.0-6ubuntu2~24.04) 13.3.0 Alpine Kernel: Depends on container host Compiler: gcc (Alpine 14.2.0) 14.2.0 FreeBSD 13.4 Kernel: 13.4-RELEASE-p1 Compiler: clang 18.1.6 FreeBSD 14.2 Kernel: 14.2-RELEASE Compiler: clang 18.1.6 Windows Server 2022 Kernel: 10.0.20348.2031 Compiler: clang 15.0.7, gcc 14.1.0 (MinGW), and MSVC VS 19.39.33521 To view detailed results, visit: https://lab.dpdk.org/results/dashboard/patchsets/32168/ UNH-IOL DPDK Community Lab To manage your email subscriptions, visit: https://lab.dpdk.org/results/dashboard/preferences/subscriptions/