From mboxrd@z Thu Jan 1 00:00:00 1970 Return-Path: Received: from mails.dpdk.org (mails.dpdk.org [217.70.189.124]) by inbox.dpdk.org (Postfix) with ESMTP id DC787461BE for ; Fri, 7 Feb 2025 19:22:24 +0100 (CET) Received: from mails.dpdk.org (localhost [127.0.0.1]) by mails.dpdk.org (Postfix) with ESMTP id D991242ED5; Fri, 7 Feb 2025 19:22:24 +0100 (CET) Received: from mail-yw1-f227.google.com (mail-yw1-f227.google.com [209.85.128.227]) by mails.dpdk.org (Postfix) with ESMTP id C475942ED5 for ; Fri, 7 Feb 2025 19:22:22 +0100 (CET) Received: by mail-yw1-f227.google.com with SMTP id 00721157ae682-6ef60e500d7so19254157b3.0 for ; Fri, 07 Feb 2025 10:22:22 -0800 (PST) DKIM-Signature: v=1; a=rsa-sha256; c=relaxed/relaxed; d=iol.unh.edu; s=unh-iol; t=1738952542; x=1739557342; darn=dpdk.org; h=references:in-reply-to:cc:to:from:subject:message-id:date:from:to :cc:subject:date:message-id:reply-to; bh=1fxfAgog85wT2IQBLStaWblbgY9ypAFr7kyph801yME=; b=HbauQQrummk3+vcMCPpaDXUb+/4/EqM7CkuskckzaXquZXtWMPadOaPBGyYgR+2Nu/ 1xurfSY5qBDCJfOpMBoTqoUNp0llJ5NzrLdRPk3K2BtKmExrLz8emfS4BFz2+W6wIQQm 0VXH1f5DNTqaI4aWmpGV9BYh6hEJNlj1TRHw8= X-Google-DKIM-Signature: v=1; a=rsa-sha256; c=relaxed/relaxed; d=1e100.net; s=20230601; t=1738952542; x=1739557342; h=references:in-reply-to:cc:to:from:subject:message-id:date :x-gm-message-state:from:to:cc:subject:date:message-id:reply-to; bh=1fxfAgog85wT2IQBLStaWblbgY9ypAFr7kyph801yME=; b=Z+e2yAvHUBB6R995/NonO7varGEXwnYt/e3L065Q6W5D6ex5oX3kUCdcTxnAgAnAyp xPxe/2Pib6v68D+2s0FEYeLOl+htDAt2RNeSFwE8fm5Hk45lfVZrFQyMyxawYqFQJ6me sgQx0wxyK6FQ4nX8dBrq8rrW6pJ1JLJxS2H7m78dwk7oS5izxAHTPyTAasuw8f8/UhZA d6fWL22uUPZTMqjyXT/s3osgQc9y/SBDjK1Wlc/SfTrTHFnW40f1ZzX1AftLblfj1Jf0 7DcHFt+6nrF9pb91koV3pp8l+Hb6T0D3Hp6JmT4FWDu1fjIruibm27eWrTizjyjYcPxy ylHg== X-Gm-Message-State: AOJu0YwVghbp6nBeSyUcPBV9TRKaDM9r339qX/4lN7N6pGHhS9MJrVkY bjwbStcnuPkowQrs4TAkXoa3bK/I+jZpAr9yuGNDOvXXYJywb7+sV2PSBSMg1qx11o5Duk5fEJR jgn1RQkeNCxIKW/8J+lqeG2EUeHD5XlDUg/JTk1YP X-Gm-Gg: ASbGncv6NkCKHfrW7GZ5upTNbhoKzCstd4mZ4PW7qbLP6lW1iRQkos25vrQtYjLFwbX xDZaZsk+B5w0grvjxQZUYFMVhAElaFY6O96O2xg1Vb/8NIGt+Uhrk0809Z9okYWdw8qKpgS2YYB sh6NwlLE3z6PAgNHkLkVIqOeYBC5VcQTsHamPY3eM3XUHjP9KOxZ+qKBOW7TikpdjbBMEabHjK1 4eHtdDw6oSFuoekw8ycwdVwzGsQRByKFFNQCpYyxjmDnlW4K8/AzFe8HNBy0wOMLdrO7n+2Vtlm uzlH5elKW5pjdSqZCXNiNYYixYDehg== X-Google-Smtp-Source: AGHT+IG1vTzB4J0jTEJ3zeaEOlW4HXQeI/bnKr+VMOzOyHw7ec59VHx0yybG0GfGGVK2kZxw7bbKrnG5xzAI X-Received: by 2002:a05:690c:708f:b0:6ef:91a0:dd30 with SMTP id 00721157ae682-6f9b284d8a2mr41868367b3.12.1738952542063; Fri, 07 Feb 2025 10:22:22 -0800 (PST) Received: from postal.iol.unh.edu (postal.iol.unh.edu. [132.177.123.84]) by smtp-relay.gmail.com with ESMTPS id 00721157ae682-6f99fd30a53sm563557b3.23.2025.02.07.10.22.21 (version=TLS1_2 cipher=ECDHE-ECDSA-AES128-GCM-SHA256 bits=128/128); Fri, 07 Feb 2025 10:22:22 -0800 (PST) X-Relaying-Domain: iol.unh.edu Date: Fri, 07 Feb 2025 10:22:22 -0800 (PST) Message-ID: <67a64f5e.050a0220.370c1c.2edaSMTPIN_ADDED_MISSING@mx.google.com> Received: from [172.21.0.7] (unknown [172.18.0.240]) by postal.iol.unh.edu (Postfix) with ESMTP id C18CB6052477; Fri, 7 Feb 2025 13:21:51 -0500 (EST) Subject: |WARNING| pw149314 [PATCH] cryptodev: fix C++ include From: dpdklab@iol.unh.edu To: Test Report Cc: dpdk-test-reports@iol.unh.edu In-Reply-To: <20241219114555.406331-1-thomas@monjalon.net> References: <20241219114555.406331-1-thomas@monjalon.net> Content-Type: text/plain X-BeenThere: test-report@dpdk.org X-Mailman-Version: 2.1.29 Precedence: list List-Id: automatic DPDK test reports List-Unsubscribe: , List-Archive: List-Post: List-Help: List-Subscribe: , Errors-To: test-report-bounces@dpdk.org Test-Label: iol-compile-amd64-testing Test-Status: WARNING http://dpdk.org/patch/149314 _Testing issues_ Submitter: Thomas Monjalon Date: Thursday, December 19 2024 11:45:54 DPDK git baseline: Repo:dpdk Branch: master CommitID:7df61db6c387703a36306c1aea92225921e2eeb2 149314 --> testing issues Test environment and result as below: +---------------------+--------------------+------------------+-------------------+-------------------------+-------------------+----------------------+ | Environment | dpdk_meson_compile | dpdk_compile_ovs | dpdk_compile_spdk | dpdk_llvm_clang_compile | dpdk_msvc_compile | dpdk_mingw64_compile | +=====================+====================+==================+===================+=========================+===================+======================+ | Fedora 39 (Clang) | PASS | PASS | PASS | SKIPPED | SKIPPED | SKIPPED | +---------------------+--------------------+------------------+-------------------+-------------------------+-------------------+----------------------+ | Debian 12 | PASS | PASS | PASS | SKIPPED | SKIPPED | SKIPPED | +---------------------+--------------------+------------------+-------------------+-------------------------+-------------------+----------------------+ | CentOS Stream 9 | PASS | PASS | PASS | SKIPPED | SKIPPED | SKIPPED | +---------------------+--------------------+------------------+-------------------+-------------------------+-------------------+----------------------+ | Fedora 39 | PASS | PASS | PASS | SKIPPED | SKIPPED | SKIPPED | +---------------------+--------------------+------------------+-------------------+-------------------------+-------------------+----------------------+ | Fedora 40 (Clang) | PASS | PASS | PASS | SKIPPED | SKIPPED | SKIPPED | +---------------------+--------------------+------------------+-------------------+-------------------------+-------------------+----------------------+ | Fedora 40 | PASS | PASS | PASS | SKIPPED | SKIPPED | SKIPPED | +---------------------+--------------------+------------------+-------------------+-------------------------+-------------------+----------------------+ | openSUSE Leap 15 | PASS | WARN | SKIPPED | SKIPPED | SKIPPED | SKIPPED | +---------------------+--------------------+------------------+-------------------+-------------------------+-------------------+----------------------+ | RHEL8 | PASS | PASS | SKIPPED | SKIPPED | SKIPPED | SKIPPED | +---------------------+--------------------+------------------+-------------------+-------------------------+-------------------+----------------------+ | RHEL9 | PASS | PASS | SKIPPED | SKIPPED | SKIPPED | SKIPPED | +---------------------+--------------------+------------------+-------------------+-------------------------+-------------------+----------------------+ | Ubuntu 20.04 | PASS | SKIPPED | SKIPPED | SKIPPED | SKIPPED | SKIPPED | +---------------------+--------------------+------------------+-------------------+-------------------------+-------------------+----------------------+ | Ubuntu 22.04 | PASS | PASS | PASS | SKIPPED | SKIPPED | SKIPPED | +---------------------+--------------------+------------------+-------------------+-------------------------+-------------------+----------------------+ | Ubuntu 24.04 | PASS | PASS | PASS | SKIPPED | SKIPPED | SKIPPED | +---------------------+--------------------+------------------+-------------------+-------------------------+-------------------+----------------------+ | Alpine | PASS | PASS | SKIPPED | SKIPPED | SKIPPED | SKIPPED | +---------------------+--------------------+------------------+-------------------+-------------------------+-------------------+----------------------+ | FreeBSD 13.4 | PASS | SKIPPED | SKIPPED | SKIPPED | SKIPPED | SKIPPED | +---------------------+--------------------+------------------+-------------------+-------------------------+-------------------+----------------------+ | FreeBSD 14.2 | PASS | SKIPPED | SKIPPED | SKIPPED | SKIPPED | SKIPPED | +---------------------+--------------------+------------------+-------------------+-------------------------+-------------------+----------------------+ | Windows Server 2022 | SKIPPED | SKIPPED | SKIPPED | PASS | PASS | PASS | +---------------------+--------------------+------------------+-------------------+-------------------------+-------------------+----------------------+ ==== 20 line log output for openSUSE Leap 15 (dpdk_compile_ovs): ==== --- Failed to get log output --- ==== End log output ==== Fedora 39 (Clang) Kernel: Depends on container host Compiler: clang 17.0.6 (Fedora 17.0.6-2.fc39) Debian 12 Kernel: Depends on container host Compiler: gcc (Debian 12.2.0-14) 12.2.0 CentOS Stream 9 Kernel: Depends on container host Compiler: gcc 11.5.0 20240719 (Red Hat 11.5.0-2) Fedora 39 Kernel: Depends on container host Compiler: gcc 13.3.1 20240522 (Red Hat 13.3.1-1) Fedora 40 (Clang) Kernel: Depends on container host Compiler: clang 18.1.8 (Fedora 18.1.8-1.fc40) Fedora 40 Kernel: Depends on container host Compiler: gcc 14.2.1 20240912 (Red Hat 14.2.1-3) openSUSE Leap 15 Kernel: Depends on container host Compiler: gcc (SUSE Linux) 7.5.0 RHEL8 Kernel: Depends on container host Compiler: gcc 8.5.0 20210514 (Red Hat 8.5.0-22) RHEL9 Kernel: Depends on container host Compiler: gcc 11.5.0 20240719 (Red Hat 11.5.0-2) Ubuntu 20.04 Kernel: Depends on container host Compiler: gcc (Ubuntu 9.4.0-1ubuntu1~20.04.2) 9.4.0 Ubuntu 22.04 Kernel: Depends on container host Compiler: gcc (Ubuntu 11.4.0-1ubuntu1~22.04) 11.4.0 Ubuntu 24.04 Kernel: Depends on container host Compiler: gcc (Ubuntu 13.3.0-6ubuntu2~24.04) 13.3.0 Alpine Kernel: Depends on container host Compiler: gcc (Alpine 14.2.0) 14.2.0 FreeBSD 13.4 Kernel: 13.4-RELEASE-p1 Compiler: clang 18.1.6 FreeBSD 14.2 Kernel: 14.2-RELEASE Compiler: clang 18.1.6 Windows Server 2022 Kernel: 10.0.20348.2031 Compiler: clang 15.0.7, gcc 14.1.0 (MinGW), and MSVC VS 19.39.33521 To view detailed results, visit: https://lab.dpdk.org/results/dashboard/patchsets/32169/ UNH-IOL DPDK Community Lab To manage your email subscriptions, visit: https://lab.dpdk.org/results/dashboard/preferences/subscriptions/