From mboxrd@z Thu Jan 1 00:00:00 1970 Return-Path: Received: from mails.dpdk.org (mails.dpdk.org [217.70.189.124]) by inbox.dpdk.org (Postfix) with ESMTP id 08989461BE for ; Fri, 7 Feb 2025 19:22:28 +0100 (CET) Received: from mails.dpdk.org (localhost [127.0.0.1]) by mails.dpdk.org (Postfix) with ESMTP id EF21A42ED5; Fri, 7 Feb 2025 19:22:27 +0100 (CET) Received: from mail-io1-f98.google.com (mail-io1-f98.google.com [209.85.166.98]) by mails.dpdk.org (Postfix) with ESMTP id 7EBF942E90 for ; Fri, 7 Feb 2025 19:22:26 +0100 (CET) Received: by mail-io1-f98.google.com with SMTP id ca18e2360f4ac-854a68f5a9cso188246239f.0 for ; Fri, 07 Feb 2025 10:22:26 -0800 (PST) DKIM-Signature: v=1; a=rsa-sha256; c=relaxed/relaxed; d=iol.unh.edu; s=unh-iol; t=1738952546; x=1739557346; darn=dpdk.org; h=references:in-reply-to:cc:to:from:subject:message-id:date:from:to :cc:subject:date:message-id:reply-to; bh=rXBbnkQvrcRjmnAJ5BvRKzSZ/2QyLnvBWkW7S7UuEnE=; b=NJvB5wMwr4nlstgb2nmj6RwGa7G6wSjQTcMBM25C1DzIsyV2b85fFjPskKgWwnmcV3 RftVMYQAhZWNL/NH08Hhqiul2G553I5Hl4m74NiV6WiYyo1/ROYqew3+dR0bJbuul4+M DmV1lmZ422x0g1zaJaY99MO5T4Hu8alVP/krI= X-Google-DKIM-Signature: v=1; a=rsa-sha256; c=relaxed/relaxed; d=1e100.net; s=20230601; t=1738952546; x=1739557346; h=references:in-reply-to:cc:to:from:subject:message-id:date :x-gm-message-state:from:to:cc:subject:date:message-id:reply-to; bh=rXBbnkQvrcRjmnAJ5BvRKzSZ/2QyLnvBWkW7S7UuEnE=; b=wzVCniSto9uENecU/haxObHQfjujKMPR1Rj6vBM7rSba56GPEw50zXZlyjMMaBV1o0 +UTpGIFBt5+nSTmlWS4zqmxgW9N7DZuHW6DqLKUX9PjrjM9nN7MsUEN8h7Cz+nOXSS63 0EkqPMQoF3u5kiLDf2PkBgixwDUXZwaCINoBaHLTi8aUqw4Sq9BFSMlhkXJ0na1fgyIc CjgwtQDsKQHQOkUDaTMcFKssoEShYtrzF+mU5E7eadgj4LRZBdPU3uYiI2rbi8nKeU3v tFiuJ99g8swYZn7Tp3AooNY/UIh82fDhjjcSiKvahslhXHezSKGCjYxvpVodT8BfCuHh VjkA== X-Gm-Message-State: AOJu0YzsV2gpGAKaL5+Wiv3SGh6WWOhAvGS/fVGWMBHX1LPoST2XNkXH 0ENA3Oj+CRevgeIHiYxjQxBNI8UpWzM9zZ88WifnCzacOdz4chGcYaBwdUwkA0/4yyf5KmOxbQ3 VAL3+tHMzzxkU8OsO3s0XR3fprXPn7PdY76AQaZTC X-Gm-Gg: ASbGnct9KJ491/lLOh7SAvlkqNyAZug8NBf7JJ6/D64FhzS1aEA6EVw8eTU04mTuWyL TLXXdUcPAeKokKO+yCimVz4S44IEdDdaes0wKj0IqOK9gj4FjXKrcJiEWT9V6CeVPrgFMRkYrm8 sWA7YGZAjDbYOfu6fhqRQNOxyAMr9MO4cNZ6rzEldcDF2X7HRBFA3NTAsOdcuOm+HKDdpslEhVN Pbhag/+pKpEKIjRsAIEz5O4PQQklyNwpqvf4WTQxDYcJaJjBKz2AkacZmmxdYJ9swYFQJj7/QjF r5iqxlEv0r52BGGHnUoD9YFKXoqvWw== X-Google-Smtp-Source: AGHT+IGOHVbRYEmNwE5EfBRMoM1J/X6/uQLHCOw55qPH3yyYOV1QO4IsuZv0j5sV4Nz0rkLrmHl0bMnrPb2L X-Received: by 2002:a05:6602:3887:b0:843:ec18:82e2 with SMTP id ca18e2360f4ac-854fd8b21aemr236051239f.8.1738952545887; Fri, 07 Feb 2025 10:22:25 -0800 (PST) Received: from postal.iol.unh.edu (postal.iol.unh.edu. [132.177.123.84]) by smtp-relay.gmail.com with ESMTPS id ca18e2360f4ac-854f669addbsm24008539f.14.2025.02.07.10.22.25 (version=TLS1_2 cipher=ECDHE-ECDSA-AES128-GCM-SHA256 bits=128/128); Fri, 07 Feb 2025 10:22:25 -0800 (PST) X-Relaying-Domain: iol.unh.edu Date: Fri, 07 Feb 2025 10:22:25 -0800 (PST) Message-ID: <67a64f61.050a0220.31425c.c654SMTPIN_ADDED_MISSING@mx.google.com> Received: from [172.21.0.5] (unknown [172.18.0.240]) by postal.iol.unh.edu (Postfix) with ESMTP id 6D2806052471; Fri, 7 Feb 2025 13:22:25 -0500 (EST) Subject: |WARNING| pw149308 [PATCH] net/gve: Allocate qpl pages using malloc From: dpdklab@iol.unh.edu To: Test Report Cc: dpdk-test-reports@iol.unh.edu In-Reply-To: <20241218234635.2009033-1-joshwash@google.com> References: <20241218234635.2009033-1-joshwash@google.com> Content-Type: text/plain X-BeenThere: test-report@dpdk.org X-Mailman-Version: 2.1.29 Precedence: list List-Id: automatic DPDK test reports List-Unsubscribe: , List-Archive: List-Post: List-Help: List-Subscribe: , Errors-To: test-report-bounces@dpdk.org Test-Label: iol-compile-amd64-testing Test-Status: WARNING http://dpdk.org/patch/149308 _Testing issues_ Submitter: Joshua Washington Date: Wednesday, December 18 2024 23:46:35 DPDK git baseline: Repo:dpdk Branch: master CommitID:78d0246a2e2fb14cba220d507192d12d2ce896ac 149308 --> testing issues Test environment and result as below: +---------------------+--------------------+------------------+-------------------+-------------------+-------------------------+----------------------+ | Environment | dpdk_meson_compile | dpdk_compile_ovs | dpdk_compile_spdk | dpdk_msvc_compile | dpdk_llvm_clang_compile | dpdk_mingw64_compile | +=====================+====================+==================+===================+===================+=========================+======================+ | CentOS Stream 9 | PASS | PASS | PASS | SKIPPED | SKIPPED | SKIPPED | +---------------------+--------------------+------------------+-------------------+-------------------+-------------------------+----------------------+ | Debian 12 | PASS | PASS | PASS | SKIPPED | SKIPPED | SKIPPED | +---------------------+--------------------+------------------+-------------------+-------------------+-------------------------+----------------------+ | Fedora 39 (Clang) | PASS | PASS | PASS | SKIPPED | SKIPPED | SKIPPED | +---------------------+--------------------+------------------+-------------------+-------------------+-------------------------+----------------------+ | Fedora 39 | PASS | PASS | PASS | SKIPPED | SKIPPED | SKIPPED | +---------------------+--------------------+------------------+-------------------+-------------------+-------------------------+----------------------+ | Fedora 40 (Clang) | PASS | PASS | PASS | SKIPPED | SKIPPED | SKIPPED | +---------------------+--------------------+------------------+-------------------+-------------------+-------------------------+----------------------+ | Fedora 40 | PASS | PASS | PASS | SKIPPED | SKIPPED | SKIPPED | +---------------------+--------------------+------------------+-------------------+-------------------+-------------------------+----------------------+ | openSUSE Leap 15 | PASS | WARN | SKIPPED | SKIPPED | SKIPPED | SKIPPED | +---------------------+--------------------+------------------+-------------------+-------------------+-------------------------+----------------------+ | RHEL8 | PASS | PASS | SKIPPED | SKIPPED | SKIPPED | SKIPPED | +---------------------+--------------------+------------------+-------------------+-------------------+-------------------------+----------------------+ | RHEL9 | PASS | PASS | SKIPPED | SKIPPED | SKIPPED | SKIPPED | +---------------------+--------------------+------------------+-------------------+-------------------+-------------------------+----------------------+ | Ubuntu 22.04 | PASS | PASS | PASS | SKIPPED | SKIPPED | SKIPPED | +---------------------+--------------------+------------------+-------------------+-------------------+-------------------------+----------------------+ | Alpine | PASS | PASS | SKIPPED | SKIPPED | SKIPPED | SKIPPED | +---------------------+--------------------+------------------+-------------------+-------------------+-------------------------+----------------------+ | FreeBSD 13.4 | PASS | SKIPPED | SKIPPED | SKIPPED | SKIPPED | SKIPPED | +---------------------+--------------------+------------------+-------------------+-------------------+-------------------------+----------------------+ | FreeBSD 14.2 | PASS | SKIPPED | SKIPPED | SKIPPED | SKIPPED | SKIPPED | +---------------------+--------------------+------------------+-------------------+-------------------+-------------------------+----------------------+ | Ubuntu 24.04 | PASS | PASS | PASS | SKIPPED | SKIPPED | SKIPPED | +---------------------+--------------------+------------------+-------------------+-------------------+-------------------------+----------------------+ | Ubuntu 20.04 | PASS | SKIPPED | SKIPPED | SKIPPED | SKIPPED | SKIPPED | +---------------------+--------------------+------------------+-------------------+-------------------+-------------------------+----------------------+ | Windows Server 2022 | SKIPPED | SKIPPED | SKIPPED | PASS | PASS | PASS | +---------------------+--------------------+------------------+-------------------+-------------------+-------------------------+----------------------+ ==== 20 line log output for openSUSE Leap 15 (dpdk_compile_ovs): ==== --- Failed to get log output --- ==== End log output ==== CentOS Stream 9 Kernel: Depends on container host Compiler: gcc 11.5.0 20240719 (Red Hat 11.5.0-2) Debian 12 Kernel: Depends on container host Compiler: gcc (Debian 12.2.0-14) 12.2.0 Fedora 39 (Clang) Kernel: Depends on container host Compiler: clang 17.0.6 (Fedora 17.0.6-2.fc39) Fedora 39 Kernel: Depends on container host Compiler: gcc 13.3.1 20240522 (Red Hat 13.3.1-1) Fedora 40 (Clang) Kernel: Depends on container host Compiler: clang 18.1.8 (Fedora 18.1.8-1.fc40) Fedora 40 Kernel: Depends on container host Compiler: gcc 14.2.1 20240912 (Red Hat 14.2.1-3) openSUSE Leap 15 Kernel: Depends on container host Compiler: gcc (SUSE Linux) 7.5.0 RHEL8 Kernel: Depends on container host Compiler: gcc 8.5.0 20210514 (Red Hat 8.5.0-22) RHEL9 Kernel: Depends on container host Compiler: gcc 11.5.0 20240719 (Red Hat 11.5.0-2) Ubuntu 22.04 Kernel: Depends on container host Compiler: gcc (Ubuntu 11.4.0-1ubuntu1~22.04) 11.4.0 Alpine Kernel: Depends on container host Compiler: gcc (Alpine 14.2.0) 14.2.0 FreeBSD 13.4 Kernel: 13.4-RELEASE-p1 Compiler: clang 18.1.6 FreeBSD 14.2 Kernel: 14.2-RELEASE Compiler: clang 18.1.6 Ubuntu 24.04 Kernel: Depends on container host Compiler: gcc (Ubuntu 13.3.0-6ubuntu2~24.04) 13.3.0 Ubuntu 20.04 Kernel: Depends on container host Compiler: gcc (Ubuntu 9.4.0-1ubuntu1~20.04.2) 9.4.0 Windows Server 2022 Kernel: 10.0.20348.2031 Compiler: clang 15.0.7, gcc 14.1.0 (MinGW), and MSVC VS 19.39.33521 To view detailed results, visit: https://lab.dpdk.org/results/dashboard/patchsets/32163/ UNH-IOL DPDK Community Lab To manage your email subscriptions, visit: https://lab.dpdk.org/results/dashboard/preferences/subscriptions/