From mboxrd@z Thu Jan 1 00:00:00 1970 Return-Path: Received: from mails.dpdk.org (mails.dpdk.org [217.70.189.124]) by inbox.dpdk.org (Postfix) with ESMTP id 58A85461BE for ; Fri, 7 Feb 2025 19:22:39 +0100 (CET) Received: from mails.dpdk.org (localhost [127.0.0.1]) by mails.dpdk.org (Postfix) with ESMTP id 55C5442ED5; Fri, 7 Feb 2025 19:22:39 +0100 (CET) Received: from mail-io1-f97.google.com (mail-io1-f97.google.com [209.85.166.97]) by mails.dpdk.org (Postfix) with ESMTP id 16C4C42EDD for ; Fri, 7 Feb 2025 19:22:36 +0100 (CET) Received: by mail-io1-f97.google.com with SMTP id ca18e2360f4ac-854a68f5aeeso53281739f.0 for ; Fri, 07 Feb 2025 10:22:36 -0800 (PST) DKIM-Signature: v=1; a=rsa-sha256; c=relaxed/relaxed; d=iol.unh.edu; s=unh-iol; t=1738952555; x=1739557355; darn=dpdk.org; h=cc:to:from:subject:message-id:date:from:to:cc:subject:date :message-id:reply-to; bh=ltzglPuqWz/jgj/PBg1rOkydwFGpE7mKUSuty/qX0jE=; b=WIX9+HksJCox7qG6IzhgbVQdwpc1FR/Yy0CXrjK8V150AuxEoOHnioGl3HSCRbxobh 4yIQLqs614DHnhZ4XJmHkXXu2pLXmxbn1+W0dpV/x5XSPf7rZZBCwI+/6TYL3CoAZCUK 9CKGVIRP9/io6SSsQTtjYv9wYb/SPgggYHMWQ= X-Google-DKIM-Signature: v=1; a=rsa-sha256; c=relaxed/relaxed; d=1e100.net; s=20230601; t=1738952555; x=1739557355; h=cc:to:from:subject:message-id:date:x-gm-message-state:from:to:cc :subject:date:message-id:reply-to; bh=ltzglPuqWz/jgj/PBg1rOkydwFGpE7mKUSuty/qX0jE=; b=uAQlzmBFfMalsWeCiGdMu5vcVhEUkMoEDjwnE7CDQv0eg4zJPX1effNXyiST3gWjec ycgjB2PIlaeQ0eyVJa+EziqMZjmYTVOJzUgyFsNlrdB68ja6aL5rbuvaRzbOf3/A1HMZ LolVvEC9KOAzJx7JKlE7cgW/aPGNp1RfNodNbPyECGHCogD9XdU3IVOZEUua4g6b9yqb f24bmNR9UllIJxPJYHLWG12sL8jrCWTDyN6DW3M9WDIAgFoMi4H0//xDl18dVvdPYILX TaYa7I2FnLCCcqmfYYq6UGuToyRRWd2l9tVvGDink4y3a/F0D+7TXPLT1/RVwCbo8qpO lw2w== X-Gm-Message-State: AOJu0Yz3KarXGmliO6j68oDhtmrQv75CREEhoeBDgLjtBYoQMSj20R2b hxW0Xu95ioS+ex1oQEmfrftjnESX8zpwIxxZybm2sR3r//Yg1ucGOLAqZ427C/pQ462XX/JzK7r /hHPNKj6Ne8jWcujpiUZ4HHsfWCTu8wqx8YIXw9+K X-Gm-Gg: ASbGncsJs9k4UGV7TNFzb20JoezL5U0SPaZNovNcjSaqVtZ+cpJeSV3RobNW11TGLH9 MfjFH3s3YWjVV5smx7J5/lYlAGATA9L2XQrwtxqEAMNfu/h3TT2mAKyUlmuBT5aJzadA0M4FlG2 r6CbHKJK/ZTv7L5taI1kiSsEytqFBrJKq2dKe7V+wRwcdAGKO4tyVrRLReN+xlMJ1GpXBCrutXX SXwBLdwdOFqby9QK3GodlLOV/DpbXKyrwaviBR8Miae510EZ4FjziPvurFqTXnzY1/PxfT2M8gy Rge/H00fOJBxC294yZdEcyy/yTMwnw== X-Google-Smtp-Source: AGHT+IG/LVJaTqxX4akD0oM1oW8LzAn5HVrZOS5efpRv61YoTEvpuvtOYa9r21GwPcW49otP/oPJpeMymwty X-Received: by 2002:a05:6e02:12c1:b0:3d0:4e57:bbda with SMTP id e9e14a558f8ab-3d13dcd9080mr31761945ab.1.1738952555384; Fri, 07 Feb 2025 10:22:35 -0800 (PST) Received: from postal.iol.unh.edu (postal.iol.unh.edu. [132.177.123.84]) by smtp-relay.gmail.com with ESMTPS id e9e14a558f8ab-3d148395784sm591185ab.39.2025.02.07.10.22.35 (version=TLS1_2 cipher=ECDHE-ECDSA-AES128-GCM-SHA256 bits=128/128); Fri, 07 Feb 2025 10:22:35 -0800 (PST) X-Relaying-Domain: iol.unh.edu Date: Fri, 07 Feb 2025 10:22:35 -0800 (PST) Message-ID: <67a64f6b.050a0220.3215ee.2d8aSMTPIN_ADDED_MISSING@mx.google.com> Received: from [172.21.0.6] (unknown [172.18.0.240]) by postal.iol.unh.edu (Postfix) with ESMTP id D9B6C6052471; Fri, 7 Feb 2025 13:22:34 -0500 (EST) Subject: |WARNING| [GIT MASTER] 07604f264417959d76aa9fcb8cb0c3665f62f0d3 From: dpdklab@iol.unh.edu To: Test Report Cc: dpdk-test-reports@iol.unh.edu Content-Type: text/plain X-BeenThere: test-report@dpdk.org X-Mailman-Version: 2.1.29 Precedence: list List-Id: automatic DPDK test reports List-Unsubscribe: , List-Archive: List-Post: List-Help: List-Subscribe: , Errors-To: test-report-bounces@dpdk.org _Testing issues_ Branch: dpdk 07604f264417959d76aa9fcb8cb0c3665f62f0d3 --> testing issues Test environment and result as below: +---------------------+--------------------+------------------+-------------------+-------------------+-------------------------+----------------------+ | Environment | dpdk_meson_compile | dpdk_compile_ovs | dpdk_compile_spdk | dpdk_msvc_compile | dpdk_llvm_clang_compile | dpdk_mingw64_compile | +=====================+====================+==================+===================+===================+=========================+======================+ | CentOS Stream 9 | PASS | PASS | PASS | SKIPPED | SKIPPED | SKIPPED | +---------------------+--------------------+------------------+-------------------+-------------------+-------------------------+----------------------+ | Fedora 39 | PASS | PASS | PASS | SKIPPED | SKIPPED | SKIPPED | +---------------------+--------------------+------------------+-------------------+-------------------+-------------------------+----------------------+ | Debian 12 | PASS | PASS | PASS | SKIPPED | SKIPPED | SKIPPED | +---------------------+--------------------+------------------+-------------------+-------------------+-------------------------+----------------------+ | Fedora 40 (Clang) | PASS | PASS | PASS | SKIPPED | SKIPPED | SKIPPED | +---------------------+--------------------+------------------+-------------------+-------------------+-------------------------+----------------------+ | Fedora 40 | PASS | PASS | PASS | SKIPPED | SKIPPED | SKIPPED | +---------------------+--------------------+------------------+-------------------+-------------------+-------------------------+----------------------+ | openSUSE Leap 15 | PASS | WARN | SKIPPED | SKIPPED | SKIPPED | SKIPPED | +---------------------+--------------------+------------------+-------------------+-------------------+-------------------------+----------------------+ | RHEL8 | PASS | PASS | SKIPPED | SKIPPED | SKIPPED | SKIPPED | +---------------------+--------------------+------------------+-------------------+-------------------+-------------------------+----------------------+ | RHEL9 | PASS | PASS | SKIPPED | SKIPPED | SKIPPED | SKIPPED | +---------------------+--------------------+------------------+-------------------+-------------------+-------------------------+----------------------+ | Ubuntu 20.04 | PASS | SKIPPED | SKIPPED | SKIPPED | SKIPPED | SKIPPED | +---------------------+--------------------+------------------+-------------------+-------------------+-------------------------+----------------------+ | Ubuntu 24.04 | PASS | PASS | PASS | SKIPPED | SKIPPED | SKIPPED | +---------------------+--------------------+------------------+-------------------+-------------------+-------------------------+----------------------+ | Ubuntu 22.04 | PASS | PASS | PASS | SKIPPED | SKIPPED | SKIPPED | +---------------------+--------------------+------------------+-------------------+-------------------+-------------------------+----------------------+ | Arch Linux | PASS | PASS | SKIPPED | SKIPPED | SKIPPED | SKIPPED | +---------------------+--------------------+------------------+-------------------+-------------------+-------------------------+----------------------+ | FreeBSD 13.4 | PASS | SKIPPED | SKIPPED | SKIPPED | SKIPPED | SKIPPED | +---------------------+--------------------+------------------+-------------------+-------------------+-------------------------+----------------------+ | FreeBSD 14.2 | PASS | SKIPPED | SKIPPED | SKIPPED | SKIPPED | SKIPPED | +---------------------+--------------------+------------------+-------------------+-------------------+-------------------------+----------------------+ | Fedora 39 (Clang) | PASS | PASS | PASS | SKIPPED | SKIPPED | SKIPPED | +---------------------+--------------------+------------------+-------------------+-------------------+-------------------------+----------------------+ | Alpine | PASS | PASS | SKIPPED | SKIPPED | SKIPPED | SKIPPED | +---------------------+--------------------+------------------+-------------------+-------------------+-------------------------+----------------------+ | Windows Server 2022 | SKIPPED | SKIPPED | SKIPPED | PASS | PASS | PASS | +---------------------+--------------------+------------------+-------------------+-------------------+-------------------------+----------------------+ ==== 20 line log output for openSUSE Leap 15 (dpdk_compile_ovs): ==== --- Failed to get log output --- ==== End log output ==== CentOS Stream 9 Kernel: Depends on container host Compiler: gcc 11.5.0 20240719 (Red Hat 11.5.0-2) Fedora 39 Kernel: Depends on container host Compiler: gcc 13.3.1 20240522 (Red Hat 13.3.1-1) Debian 12 Kernel: Depends on container host Compiler: gcc (Debian 12.2.0-14) 12.2.0 Fedora 40 (Clang) Kernel: Depends on container host Compiler: clang 18.1.8 (Fedora 18.1.8-1.fc40) Fedora 40 Kernel: Depends on container host Compiler: gcc 14.2.1 20240912 (Red Hat 14.2.1-3) openSUSE Leap 15 Kernel: Depends on container host Compiler: gcc (SUSE Linux) 7.5.0 RHEL8 Kernel: Depends on container host Compiler: gcc 8.5.0 20210514 (Red Hat 8.5.0-22) RHEL9 Kernel: Depends on container host Compiler: gcc 11.5.0 20240719 (Red Hat 11.5.0-2) Ubuntu 20.04 Kernel: Depends on container host Compiler: gcc (Ubuntu 9.4.0-1ubuntu1~20.04.2) 9.4.0 Ubuntu 24.04 Kernel: Depends on container host Compiler: gcc (Ubuntu 13.3.0-6ubuntu2~24.04) 13.3.0 Ubuntu 22.04 Kernel: Depends on container host Compiler: gcc (Ubuntu 11.4.0-1ubuntu1~22.04) 11.4.0 Arch Linux Kernel: Depends on container host Compiler: gcc 14.2.1 20240910 FreeBSD 13.4 Kernel: 13.4-RELEASE-p1 Compiler: clang 18.1.6 FreeBSD 14.2 Kernel: 14.2-RELEASE Compiler: clang 18.1.6 Fedora 39 (Clang) Kernel: Depends on container host Compiler: clang 17.0.6 (Fedora 17.0.6-2.fc39) Alpine Kernel: Depends on container host Compiler: gcc (Alpine 14.2.0) 14.2.0 Windows Server 2022 Kernel: 10.0.20348.2031 Compiler: clang 15.0.7, gcc 14.1.0 (MinGW), and MSVC VS 19.39.33521 To view detailed results, visit: https://lab.dpdk.org/results/dashboard/tarballs/31977/ UNH-IOL DPDK Community Lab To manage your email subscriptions, visit: https://lab.dpdk.org/results/dashboard/preferences/subscriptions/