From mboxrd@z Thu Jan 1 00:00:00 1970 Return-Path: Received: from mails.dpdk.org (mails.dpdk.org [217.70.189.124]) by inbox.dpdk.org (Postfix) with ESMTP id 68CD5461BE for ; Fri, 7 Feb 2025 19:22:39 +0100 (CET) Received: from mails.dpdk.org (localhost [127.0.0.1]) by mails.dpdk.org (Postfix) with ESMTP id 65CAF42EE2; Fri, 7 Feb 2025 19:22:39 +0100 (CET) Received: from mail-il1-f225.google.com (mail-il1-f225.google.com [209.85.166.225]) by mails.dpdk.org (Postfix) with ESMTP id 28CD142E90 for ; Fri, 7 Feb 2025 19:22:37 +0100 (CET) Received: by mail-il1-f225.google.com with SMTP id e9e14a558f8ab-3d1469adf26so1808455ab.0 for ; Fri, 07 Feb 2025 10:22:37 -0800 (PST) DKIM-Signature: v=1; a=rsa-sha256; c=relaxed/relaxed; d=iol.unh.edu; s=unh-iol; t=1738952556; x=1739557356; darn=dpdk.org; h=references:in-reply-to:cc:to:from:subject:message-id:date:from:to :cc:subject:date:message-id:reply-to; bh=al8zZNOQ6anuIcedBZccQv5rCxJ1xMkeF3M0O1mOhyo=; b=Ehl4oLriregnbuINjYjp9ppFMWIYCtJ9/Zp+o9/x6g6pOimwJscWGh7U8vRfVGHbp+ +GXN2DsJA9jo4hAmPkxDG73Eqx3oPRwe4VV5sQgRmFR82MFSheg9xVR1F8fe/RUJzjBd iAeFjY1CYPXA8TrsypYXxMYVjGM4w98ZBHeFA= X-Google-DKIM-Signature: v=1; a=rsa-sha256; c=relaxed/relaxed; d=1e100.net; s=20230601; t=1738952556; x=1739557356; h=references:in-reply-to:cc:to:from:subject:message-id:date :x-gm-message-state:from:to:cc:subject:date:message-id:reply-to; bh=al8zZNOQ6anuIcedBZccQv5rCxJ1xMkeF3M0O1mOhyo=; b=HY489+oCIS12f+mYvO9/GnDDbsywNM+YQIGxr6WPYPlaj+RPND52eA8mppPHMaWNmU gpsyayR5xYtfuWYu0560xNl3MEOCvK00loxn2A+k3dC5SEWzBHtXqPVgAGRePnQ3rdDH 2XvUi792UWOsW/7ncN7143DWMFv4+w9O11fBjfP3QGSqyXEhAmAMcpT1EqsNWIBZ0oOB SpvTiebX3FUcfK8ghBhrNQ43cUZ59HaWNOoalGWQPhcypyeH+Bnb43Yjc+qXrl3D+imK ddCYkzxOvlJs3DtI9Kw9FLnw0nDH3cGXi13G6zssCwuhiuq7bgZ3V5pHWhs1JV25m75o tZtw== X-Gm-Message-State: AOJu0YwgvunLfdDI3l5FzTtchPFHlOaLE+RtHAgI8VaC5XatuT0evxVh vWiyONU2SIdej2xu9C2tBM2rciml0AZXyKdBmQ/3s9seWVW9wBahlLxrJ4ebZijT1BL0RWTKxSC ApzhWcZ6dWMV7Yk59gA4DiXRiPrKPw2Ryer5TbdfW X-Gm-Gg: ASbGncsR3v9QXas+Yk0b/e+cWEi5O+BBszBYucs5T+NpGX5rQWLDIgZRiid/ml5sbAD i41wch6jMX7vj6brP+KBhqIpgpz/hdxmRpMh9R0YNPitF7GzeoHLxXjTKotlyW4FYIC0x1WRDfQ gFGt3ifMfjnLBD0c7qBwx+Iqc6PRH+pzChBcY6LGNYssMbmTOxkNXH8uH7v8D+LZFPOMFyqx5hk icJAaJi/9fT2OmmqZ9HWMg1OWJbhRKEAAaaB3blIQ6DKk9GFcLyxCwQUZiWq/Z9O9yRhm5Mt2zw tCFIQUEplujueEAXe90LaLQkaKvbxQ== X-Google-Smtp-Source: AGHT+IFmzFjGFRKuLHT/TQh4ZJ13jJ1U7O1Zpl+qds9tRnj+VBArka3oNNa0nx3L0FhaH58VlJveqdMlYBms X-Received: by 2002:a05:6e02:1a23:b0:3d0:10ec:cc36 with SMTP id e9e14a558f8ab-3d13dd3bce4mr28184015ab.11.1738952556534; Fri, 07 Feb 2025 10:22:36 -0800 (PST) Received: from postal.iol.unh.edu (postal.iol.unh.edu. [132.177.123.84]) by smtp-relay.gmail.com with ESMTPS id e9e14a558f8ab-3d05e8d920esm2536575ab.9.2025.02.07.10.22.36 (version=TLS1_2 cipher=ECDHE-ECDSA-AES128-GCM-SHA256 bits=128/128); Fri, 07 Feb 2025 10:22:36 -0800 (PST) X-Relaying-Domain: iol.unh.edu Date: Fri, 07 Feb 2025 10:22:36 -0800 (PST) Message-ID: <67a64f6c.050a0220.1d5276.d16dSMTPIN_ADDED_MISSING@mx.google.com> Received: from [172.21.0.12] (unknown [172.18.0.240]) by postal.iol.unh.edu (Postfix) with ESMTP id 0EBD1605247D; Fri, 7 Feb 2025 13:22:06 -0500 (EST) Subject: |WARNING| pw149309 [PATCH] [v2] net/nfp: implement the burst mode ge From: dpdklab@iol.unh.edu To: Test Report Cc: dpdk-test-reports@iol.unh.edu In-Reply-To: <20241219014954.1763729-1-chaoyong.he@corigine.com> References: <20241219014954.1763729-1-chaoyong.he@corigine.com> Content-Type: text/plain X-BeenThere: test-report@dpdk.org X-Mailman-Version: 2.1.29 Precedence: list List-Id: automatic DPDK test reports List-Unsubscribe: , List-Archive: List-Post: List-Help: List-Subscribe: , Errors-To: test-report-bounces@dpdk.org Test-Label: iol-compile-amd64-testing Test-Status: WARNING http://dpdk.org/patch/149309 _Testing issues_ Submitter: Chaoyong He Date: Thursday, December 19 2024 01:49:54 DPDK git baseline: Repo:dpdk Branch: master CommitID:78d0246a2e2fb14cba220d507192d12d2ce896ac 149309 --> testing issues Test environment and result as below: +---------------------+--------------------+------------------+-------------------+-------------------+-------------------------+----------------------+ | Environment | dpdk_meson_compile | dpdk_compile_ovs | dpdk_compile_spdk | dpdk_msvc_compile | dpdk_llvm_clang_compile | dpdk_mingw64_compile | +=====================+====================+==================+===================+===================+=========================+======================+ | Debian 12 | PASS | PASS | PASS | SKIPPED | SKIPPED | SKIPPED | +---------------------+--------------------+------------------+-------------------+-------------------+-------------------------+----------------------+ | CentOS Stream 9 | PASS | PASS | PASS | SKIPPED | SKIPPED | SKIPPED | +---------------------+--------------------+------------------+-------------------+-------------------+-------------------------+----------------------+ | Fedora 39 | PASS | PASS | PASS | SKIPPED | SKIPPED | SKIPPED | +---------------------+--------------------+------------------+-------------------+-------------------+-------------------------+----------------------+ | Fedora 39 (Clang) | PASS | PASS | PASS | SKIPPED | SKIPPED | SKIPPED | +---------------------+--------------------+------------------+-------------------+-------------------+-------------------------+----------------------+ | Fedora 40 (Clang) | PASS | PASS | PASS | SKIPPED | SKIPPED | SKIPPED | +---------------------+--------------------+------------------+-------------------+-------------------+-------------------------+----------------------+ | RHEL8 | PASS | PASS | SKIPPED | SKIPPED | SKIPPED | SKIPPED | +---------------------+--------------------+------------------+-------------------+-------------------+-------------------------+----------------------+ | Ubuntu 20.04 | PASS | SKIPPED | SKIPPED | SKIPPED | SKIPPED | SKIPPED | +---------------------+--------------------+------------------+-------------------+-------------------+-------------------------+----------------------+ | openSUSE Leap 15 | PASS | WARN | SKIPPED | SKIPPED | SKIPPED | SKIPPED | +---------------------+--------------------+------------------+-------------------+-------------------+-------------------------+----------------------+ | Ubuntu 22.04 | PASS | PASS | PASS | SKIPPED | SKIPPED | SKIPPED | +---------------------+--------------------+------------------+-------------------+-------------------+-------------------------+----------------------+ | Ubuntu 24.04 | PASS | PASS | PASS | SKIPPED | SKIPPED | SKIPPED | +---------------------+--------------------+------------------+-------------------+-------------------+-------------------------+----------------------+ | Alpine | PASS | PASS | SKIPPED | SKIPPED | SKIPPED | SKIPPED | +---------------------+--------------------+------------------+-------------------+-------------------+-------------------------+----------------------+ | FreeBSD 13.4 | PASS | SKIPPED | SKIPPED | SKIPPED | SKIPPED | SKIPPED | +---------------------+--------------------+------------------+-------------------+-------------------+-------------------------+----------------------+ | FreeBSD 14.2 | PASS | SKIPPED | SKIPPED | SKIPPED | SKIPPED | SKIPPED | +---------------------+--------------------+------------------+-------------------+-------------------+-------------------------+----------------------+ | RHEL9 | PASS | PASS | SKIPPED | SKIPPED | SKIPPED | SKIPPED | +---------------------+--------------------+------------------+-------------------+-------------------+-------------------------+----------------------+ | Fedora 40 | PASS | PASS | PASS | SKIPPED | SKIPPED | SKIPPED | +---------------------+--------------------+------------------+-------------------+-------------------+-------------------------+----------------------+ | Windows Server 2022 | SKIPPED | SKIPPED | SKIPPED | PASS | PASS | PASS | +---------------------+--------------------+------------------+-------------------+-------------------+-------------------------+----------------------+ ==== 20 line log output for openSUSE Leap 15 (dpdk_compile_ovs): ==== --- Failed to get log output --- ==== End log output ==== Debian 12 Kernel: Depends on container host Compiler: gcc (Debian 12.2.0-14) 12.2.0 CentOS Stream 9 Kernel: Depends on container host Compiler: gcc 11.5.0 20240719 (Red Hat 11.5.0-2) Fedora 39 Kernel: Depends on container host Compiler: gcc 13.3.1 20240522 (Red Hat 13.3.1-1) Fedora 39 (Clang) Kernel: Depends on container host Compiler: clang 17.0.6 (Fedora 17.0.6-2.fc39) Fedora 40 (Clang) Kernel: Depends on container host Compiler: clang 18.1.8 (Fedora 18.1.8-1.fc40) RHEL8 Kernel: Depends on container host Compiler: gcc 8.5.0 20210514 (Red Hat 8.5.0-22) Ubuntu 20.04 Kernel: Depends on container host Compiler: gcc (Ubuntu 9.4.0-1ubuntu1~20.04.2) 9.4.0 openSUSE Leap 15 Kernel: Depends on container host Compiler: gcc (SUSE Linux) 7.5.0 Ubuntu 22.04 Kernel: Depends on container host Compiler: gcc (Ubuntu 11.4.0-1ubuntu1~22.04) 11.4.0 Ubuntu 24.04 Kernel: Depends on container host Compiler: gcc (Ubuntu 13.3.0-6ubuntu2~24.04) 13.3.0 Alpine Kernel: Depends on container host Compiler: gcc (Alpine 14.2.0) 14.2.0 FreeBSD 13.4 Kernel: 13.4-RELEASE-p1 Compiler: clang 18.1.6 FreeBSD 14.2 Kernel: 14.2-RELEASE Compiler: clang 18.1.6 RHEL9 Kernel: Depends on container host Compiler: gcc 11.5.0 20240719 (Red Hat 11.5.0-2) Fedora 40 Kernel: Depends on container host Compiler: gcc 14.2.1 20240912 (Red Hat 14.2.1-3) Windows Server 2022 Kernel: 10.0.20348.2031 Compiler: clang 15.0.7, gcc 14.1.0 (MinGW), and MSVC VS 19.39.33521 To view detailed results, visit: https://lab.dpdk.org/results/dashboard/patchsets/32164/ UNH-IOL DPDK Community Lab To manage your email subscriptions, visit: https://lab.dpdk.org/results/dashboard/preferences/subscriptions/