From mboxrd@z Thu Jan 1 00:00:00 1970 Return-Path: Received: from mails.dpdk.org (mails.dpdk.org [217.70.189.124]) by inbox.dpdk.org (Postfix) with ESMTP id 83EDC461BE for ; Fri, 7 Feb 2025 19:22:44 +0100 (CET) Received: from mails.dpdk.org (localhost [127.0.0.1]) by mails.dpdk.org (Postfix) with ESMTP id 7D23E42ED5; Fri, 7 Feb 2025 19:22:44 +0100 (CET) Received: from mail-pl1-f226.google.com (mail-pl1-f226.google.com [209.85.214.226]) by mails.dpdk.org (Postfix) with ESMTP id 940B942E90 for ; Fri, 7 Feb 2025 19:22:42 +0100 (CET) Received: by mail-pl1-f226.google.com with SMTP id d9443c01a7336-21f48ebaadfso33479635ad.2 for ; Fri, 07 Feb 2025 10:22:42 -0800 (PST) DKIM-Signature: v=1; a=rsa-sha256; c=relaxed/relaxed; d=iol.unh.edu; s=unh-iol; t=1738952562; x=1739557362; darn=dpdk.org; h=references:in-reply-to:cc:to:from:subject:message-id:date:from:to :cc:subject:date:message-id:reply-to; bh=U6f0ekETSK4n3YWJQQs6AdOWYOnQ1cS5peWb/DXcjRM=; b=TbMsXEODkEqr+Vcz4KDHov58lAOOcOo2cVGQuMYRKtLqSO/9g29fjEXjyGP90W8ON3 2J2znAck9HRM3f3/LnIEdTDgaLRCu1ZZERfVv+VpedqofseE2EDtkHtAjhvcivCZxR3y 1g9aw3suJ55H+4t8VsG46FR63VajMfu+9SzXU= X-Google-DKIM-Signature: v=1; a=rsa-sha256; c=relaxed/relaxed; d=1e100.net; s=20230601; t=1738952562; x=1739557362; h=references:in-reply-to:cc:to:from:subject:message-id:date :x-gm-message-state:from:to:cc:subject:date:message-id:reply-to; bh=U6f0ekETSK4n3YWJQQs6AdOWYOnQ1cS5peWb/DXcjRM=; b=wEshOyo65jPgThbOd36aMHrixrPvq1tZTPF+eDVpMIu6FmBTIfz2xEUdzHWC7CrCUY 635PuVstatl+bQgsZuFEOLnCj0BMltcCzl0TZKYKpFjLDi/H2Uv00HUxDt2uFC8mq2t2 l040rb6XpSmU04FTcP1JNilO2gnQlJaMnLTyKxf52fCUqhv5PhZ10hernVAMuhu5VkZ/ vXMFXo58Tw296MQbWumQVQ4cYD/QfIH6+5t+lJ4g17MAbAltGiXFaIdyVSEz/LFNS/n6 WJaXqFfMZBTkcdFidyAcjC4JIJ/fPHffudUWWuKHtdmTL7DXu0WY7w+6sMxFqprDR9/i m83Q== X-Gm-Message-State: AOJu0Yy67U8IeuJPlR724ivDaKxZQBSs0zzvwDdsZzGKSY0d1PJbOyWN sMuxXHYu/FGgZ8SMqaPcygmPQAyqqx9JqMiuUsni37hUuAyQE/MG0GYZ/u1tJobMaryPLbS4Psm IxTp+AIaM9U/BmjLitO8DRwjF4ihwShZYiPMp/usp X-Gm-Gg: ASbGnct7Pn1Iu2VYO72yfXjEmi0Zfbi45B8ypj0mj39WGxNPn+DxMez3C978lXp0uXp jgPUufe9DdfukUEauGI3ndyTjR3oWjmSp4l951n03qhdEB6YpeVTWoGLGXc0uln/s79VVBxOFxt Y8f/pCC+i8iEMPPZq7W+Uywcro0AQWmSVq0cdc+5L4p4AGLuZRGFh6cdWMDfpKC/xip6z7x22mj ho7Td/NL8yKpgarAdCtxsdVXBJu/VFlaBbLYDo7aaLNXI0dOwiLv9PxWYTZazbW/8ai2ge7j0cr ig3+k7C5dFEd9i/L+JZ0fvr28M7uDw== X-Google-Smtp-Source: AGHT+IGElW5FKw4LtgfpBrc2IPDFvNM4iWd54O53BqW4IAiIeWAev1vw5UTrcYyWPWjM0jpIeDtQM95NiM97 X-Received: by 2002:a05:6a20:d490:b0:1ed:a524:4829 with SMTP id adf61e73a8af0-1ee03a3d31emr7746379637.11.1738952561878; Fri, 07 Feb 2025 10:22:41 -0800 (PST) Received: from postal.iol.unh.edu (postal.iol.unh.edu. [132.177.123.84]) by smtp-relay.gmail.com with ESMTPS id 41be03b00d2f7-ad51aee848csm235570a12.18.2025.02.07.10.22.41 (version=TLS1_2 cipher=ECDHE-ECDSA-AES128-GCM-SHA256 bits=128/128); Fri, 07 Feb 2025 10:22:41 -0800 (PST) X-Relaying-Domain: iol.unh.edu Date: Fri, 07 Feb 2025 10:22:41 -0800 (PST) Message-ID: <67a64f71.630a0220.53663.cd40SMTPIN_ADDED_MISSING@mx.google.com> Received: from [172.21.0.13] (unknown [172.18.0.240]) by postal.iol.unh.edu (Postfix) with ESMTP id 1D1616052483; Fri, 7 Feb 2025 13:22:11 -0500 (EST) Subject: |WARNING| pw149310 [PATCH] [1/1] vhost: fix a double fetch when dequ From: dpdklab@iol.unh.edu To: Test Report Cc: dpdk-test-reports@iol.unh.edu In-Reply-To: <91dc12662805a3867413940f856ba9454b91c579.1734588243.git.wangyunjian@huawei.com> References: <91dc12662805a3867413940f856ba9454b91c579.1734588243.git.wangyunjian@huawei.com> Content-Type: text/plain X-BeenThere: test-report@dpdk.org X-Mailman-Version: 2.1.29 Precedence: list List-Id: automatic DPDK test reports List-Unsubscribe: , List-Archive: List-Post: List-Help: List-Subscribe: , Errors-To: test-report-bounces@dpdk.org Test-Label: iol-compile-amd64-testing Test-Status: WARNING http://dpdk.org/patch/149310 _Testing issues_ Submitter: Yunjian Wang Date: Thursday, December 19 2024 06:38:28 DPDK git baseline: Repo:dpdk Branch: master CommitID:510b460e02594a70d4ce19e2d29df3ade8af36d7 149310 --> testing issues Test environment and result as below: +---------------------+--------------------+------------------+-------------------+-------------------+-------------------------+----------------------+ | Environment | dpdk_meson_compile | dpdk_compile_ovs | dpdk_compile_spdk | dpdk_msvc_compile | dpdk_llvm_clang_compile | dpdk_mingw64_compile | +=====================+====================+==================+===================+===================+=========================+======================+ | CentOS Stream 9 | PASS | PASS | PASS | SKIPPED | SKIPPED | SKIPPED | +---------------------+--------------------+------------------+-------------------+-------------------+-------------------------+----------------------+ | Debian 12 | PASS | PASS | PASS | SKIPPED | SKIPPED | SKIPPED | +---------------------+--------------------+------------------+-------------------+-------------------+-------------------------+----------------------+ | Fedora 39 (Clang) | PASS | PASS | PASS | SKIPPED | SKIPPED | SKIPPED | +---------------------+--------------------+------------------+-------------------+-------------------+-------------------------+----------------------+ | Fedora 39 | PASS | PASS | PASS | SKIPPED | SKIPPED | SKIPPED | +---------------------+--------------------+------------------+-------------------+-------------------+-------------------------+----------------------+ | Fedora 40 (Clang) | PASS | PASS | PASS | SKIPPED | SKIPPED | SKIPPED | +---------------------+--------------------+------------------+-------------------+-------------------+-------------------------+----------------------+ | Fedora 40 | PASS | PASS | PASS | SKIPPED | SKIPPED | SKIPPED | +---------------------+--------------------+------------------+-------------------+-------------------+-------------------------+----------------------+ | RHEL9 | PASS | PASS | SKIPPED | SKIPPED | SKIPPED | SKIPPED | +---------------------+--------------------+------------------+-------------------+-------------------+-------------------------+----------------------+ | RHEL8 | PASS | PASS | SKIPPED | SKIPPED | SKIPPED | SKIPPED | +---------------------+--------------------+------------------+-------------------+-------------------+-------------------------+----------------------+ | Ubuntu 20.04 | PASS | SKIPPED | SKIPPED | SKIPPED | SKIPPED | SKIPPED | +---------------------+--------------------+------------------+-------------------+-------------------+-------------------------+----------------------+ | Ubuntu 22.04 | PASS | PASS | PASS | SKIPPED | SKIPPED | SKIPPED | +---------------------+--------------------+------------------+-------------------+-------------------+-------------------------+----------------------+ | Ubuntu 24.04 | PASS | PASS | PASS | SKIPPED | SKIPPED | SKIPPED | +---------------------+--------------------+------------------+-------------------+-------------------+-------------------------+----------------------+ | FreeBSD 13.4 | PASS | SKIPPED | SKIPPED | SKIPPED | SKIPPED | SKIPPED | +---------------------+--------------------+------------------+-------------------+-------------------+-------------------------+----------------------+ | FreeBSD 14.2 | PASS | SKIPPED | SKIPPED | SKIPPED | SKIPPED | SKIPPED | +---------------------+--------------------+------------------+-------------------+-------------------+-------------------------+----------------------+ | openSUSE Leap 15 | PASS | WARN | SKIPPED | SKIPPED | SKIPPED | SKIPPED | +---------------------+--------------------+------------------+-------------------+-------------------+-------------------------+----------------------+ | Alpine | PASS | PASS | SKIPPED | SKIPPED | SKIPPED | SKIPPED | +---------------------+--------------------+------------------+-------------------+-------------------+-------------------------+----------------------+ | Windows Server 2022 | SKIPPED | SKIPPED | SKIPPED | PASS | PASS | PASS | +---------------------+--------------------+------------------+-------------------+-------------------+-------------------------+----------------------+ ==== 20 line log output for openSUSE Leap 15 (dpdk_compile_ovs): ==== --- Failed to get log output --- ==== End log output ==== CentOS Stream 9 Kernel: Depends on container host Compiler: gcc 11.5.0 20240719 (Red Hat 11.5.0-2) Debian 12 Kernel: Depends on container host Compiler: gcc (Debian 12.2.0-14) 12.2.0 Fedora 39 (Clang) Kernel: Depends on container host Compiler: clang 17.0.6 (Fedora 17.0.6-2.fc39) Fedora 39 Kernel: Depends on container host Compiler: gcc 13.3.1 20240522 (Red Hat 13.3.1-1) Fedora 40 (Clang) Kernel: Depends on container host Compiler: clang 18.1.8 (Fedora 18.1.8-1.fc40) Fedora 40 Kernel: Depends on container host Compiler: gcc 14.2.1 20240912 (Red Hat 14.2.1-3) RHEL9 Kernel: Depends on container host Compiler: gcc 11.5.0 20240719 (Red Hat 11.5.0-2) RHEL8 Kernel: Depends on container host Compiler: gcc 8.5.0 20210514 (Red Hat 8.5.0-22) Ubuntu 20.04 Kernel: Depends on container host Compiler: gcc (Ubuntu 9.4.0-1ubuntu1~20.04.2) 9.4.0 Ubuntu 22.04 Kernel: Depends on container host Compiler: gcc (Ubuntu 11.4.0-1ubuntu1~22.04) 11.4.0 Ubuntu 24.04 Kernel: Depends on container host Compiler: gcc (Ubuntu 13.3.0-6ubuntu2~24.04) 13.3.0 FreeBSD 13.4 Kernel: 13.4-RELEASE-p1 Compiler: clang 18.1.6 FreeBSD 14.2 Kernel: 14.2-RELEASE Compiler: clang 18.1.6 openSUSE Leap 15 Kernel: Depends on container host Compiler: gcc (SUSE Linux) 7.5.0 Alpine Kernel: Depends on container host Compiler: gcc (Alpine 14.2.0) 14.2.0 Windows Server 2022 Kernel: 10.0.20348.2031 Compiler: clang 15.0.7, gcc 14.1.0 (MinGW), and MSVC VS 19.39.33521 To view detailed results, visit: https://lab.dpdk.org/results/dashboard/patchsets/32165/ UNH-IOL DPDK Community Lab To manage your email subscriptions, visit: https://lab.dpdk.org/results/dashboard/preferences/subscriptions/