From mboxrd@z Thu Jan 1 00:00:00 1970 Return-Path: Received: from mails.dpdk.org (mails.dpdk.org [217.70.189.124]) by inbox.dpdk.org (Postfix) with ESMTP id 99966461BE for ; Fri, 7 Feb 2025 19:22:49 +0100 (CET) Received: from mails.dpdk.org (localhost [127.0.0.1]) by mails.dpdk.org (Postfix) with ESMTP id 9535142ED5; Fri, 7 Feb 2025 19:22:49 +0100 (CET) Received: from mail-oi1-f227.google.com (mail-oi1-f227.google.com [209.85.167.227]) by mails.dpdk.org (Postfix) with ESMTP id 2649342E90 for ; Fri, 7 Feb 2025 19:22:48 +0100 (CET) Received: by mail-oi1-f227.google.com with SMTP id 5614622812f47-3ebb4aae80dso998149b6e.2 for ; Fri, 07 Feb 2025 10:22:48 -0800 (PST) DKIM-Signature: v=1; a=rsa-sha256; c=relaxed/relaxed; d=iol.unh.edu; s=unh-iol; t=1738952567; x=1739557367; darn=dpdk.org; h=cc:to:from:subject:message-id:date:from:to:cc:subject:date :message-id:reply-to; bh=VE4HQSOTPGQtiXVZJ6zCs7wXTtCjMwr7kAVj/OJD1Vs=; b=dv4mpd/iBp4LCd5vObwMdpuZ59ybglb1WFqG9p+gB8fvIMAIEvOOUDoCn493MH9+Po 51zDFSMZ6KSvJyFWjwx4ZssaXbf3sVqyG29PFqt/ntmaAOBFoBDav5FBk7u+BhsUSrQg 4EuCbTULsWf8wqPuLULau8PdgqvXdvo7GAF2Q= X-Google-DKIM-Signature: v=1; a=rsa-sha256; c=relaxed/relaxed; d=1e100.net; s=20230601; t=1738952567; x=1739557367; h=cc:to:from:subject:message-id:date:x-gm-message-state:from:to:cc :subject:date:message-id:reply-to; bh=VE4HQSOTPGQtiXVZJ6zCs7wXTtCjMwr7kAVj/OJD1Vs=; b=EVvNO/wXSsBhmjQsIvIV1tdzRt7Ns+iqNccWmBmvwe9lH/OhAG4SjDm7T5YmNe6ETW BYmGSKw3oQFxxIZ+EUCZ1zoy2ZRdUuEwpxCPkLxNx4xFzW80OQvSRAhtmmNH3fCGV3PX pGcLpCP3VLkqd0I+nRmb0zHDiUXT01qeYykfvdKqftDaMYljgnvPUcEcDIl2d6GBiTHY dpId7h4sQuGukWJH5jYCpJja9T+ZIthK7B0NqCJYi6R19mGRZmmgF0X/vUboJmjJH4cv PNBuiOogxbAEDXEKEqS+TXrUiOEl8Tet+fIc1cJBhM5f5ouJcaO3+vO3SlOs8em9h/qf kolA== X-Gm-Message-State: AOJu0YzlrXmAmWnIe3zkYyUwTAKkZjCUvlmifbWEhmA4ju2LqLyK4N3h ZzQFm6Z55cbXzNZlTYrB8x9HbGpJUTvLn1BXn+Fh8Op4utrRPug+2NVw3WrhPFSjavnUkW6qpiV AvFNOobJh/x6dfEPh3a0qT2AkHhgTSOjkt2dKY3X7 X-Gm-Gg: ASbGncuLrjkNgK0gy+im63Zy6M2vJeMY0OMdrIJkwQr245WRWV7H9GZ7wwe+xlGjZuh v29AnLaK0jTHS4KmSqiwRfZoqiPdLpn3+XsXy4/d5REenUNSu5VSlR1/koTK3yta26mOkuAdUkJ a6X99AFFvmf5CYDhwZvnyWUd2mkvsJNa9T/+PGq2k9znMziiEk0f6twx4X3VICi8GttXpzpCbzr nMZYGJ09dtrFaeKlKZrtOBJgVNfITAHVnFaRNLslMZKws11qB7+vmByH4aRvHgNesGkbV3n/ESi /Fqth3+dIG0jX6nQnQ6NEgY1r+T0NQ== X-Google-Smtp-Source: AGHT+IGLdgjytc62cOph6NTY3hjnGMVeZ9PeUifseWLrBj5+fqpEPdHwB2JotCCXaMXJeEKsoDfLnHvHwH3Y X-Received: by 2002:a05:6870:8a07:b0:29e:2bbd:51ba with SMTP id 586e51a60fabf-2b83ebcf554mr2657569fac.9.1738952567271; Fri, 07 Feb 2025 10:22:47 -0800 (PST) Received: from postal.iol.unh.edu (postal.iol.unh.edu. [132.177.123.84]) by smtp-relay.gmail.com with ESMTPS id 586e51a60fabf-2b825fc752bsm208361fac.14.2025.02.07.10.22.47 (version=TLS1_2 cipher=ECDHE-ECDSA-AES128-GCM-SHA256 bits=128/128); Fri, 07 Feb 2025 10:22:47 -0800 (PST) X-Relaying-Domain: iol.unh.edu Date: Fri, 07 Feb 2025 10:22:47 -0800 (PST) Message-ID: <67a64f77.050a0220.4dfbc.afb1SMTPIN_ADDED_MISSING@mx.google.com> Received: from [172.21.0.7] (unknown [172.18.0.240]) by postal.iol.unh.edu (Postfix) with ESMTP id B152D6052471; Fri, 7 Feb 2025 13:22:46 -0500 (EST) Subject: |WARNING| [GIT MASTER] 7df61db6c387703a36306c1aea92225921e2eeb2 From: dpdklab@iol.unh.edu To: Test Report Cc: dpdk-test-reports@iol.unh.edu, Akhil Goyal Content-Type: text/plain X-BeenThere: test-report@dpdk.org X-Mailman-Version: 2.1.29 Precedence: list List-Id: automatic DPDK test reports List-Unsubscribe: , List-Archive: List-Post: List-Help: List-Subscribe: , Errors-To: test-report-bounces@dpdk.org _Testing issues_ Branch: dpdk-next-crypto 7df61db6c387703a36306c1aea92225921e2eeb2 --> testing issues Test environment and result as below: +---------------------+--------------------+------------------+-------------------+-------------------+-------------------------+----------------------+ | Environment | dpdk_meson_compile | dpdk_compile_ovs | dpdk_compile_spdk | dpdk_msvc_compile | dpdk_llvm_clang_compile | dpdk_mingw64_compile | +=====================+====================+==================+===================+===================+=========================+======================+ | CentOS Stream 9 | PASS | PASS | PASS | SKIPPED | SKIPPED | SKIPPED | +---------------------+--------------------+------------------+-------------------+-------------------+-------------------------+----------------------+ | Debian 12 | PASS | PASS | PASS | SKIPPED | SKIPPED | SKIPPED | +---------------------+--------------------+------------------+-------------------+-------------------+-------------------------+----------------------+ | Fedora 39 (Clang) | PASS | PASS | PASS | SKIPPED | SKIPPED | SKIPPED | +---------------------+--------------------+------------------+-------------------+-------------------+-------------------------+----------------------+ | Fedora 39 | PASS | PASS | PASS | SKIPPED | SKIPPED | SKIPPED | +---------------------+--------------------+------------------+-------------------+-------------------+-------------------------+----------------------+ | Fedora 40 (Clang) | PASS | PASS | PASS | SKIPPED | SKIPPED | SKIPPED | +---------------------+--------------------+------------------+-------------------+-------------------+-------------------------+----------------------+ | Fedora 40 | PASS | PASS | PASS | SKIPPED | SKIPPED | SKIPPED | +---------------------+--------------------+------------------+-------------------+-------------------+-------------------------+----------------------+ | RHEL8 | PASS | PASS | SKIPPED | SKIPPED | SKIPPED | SKIPPED | +---------------------+--------------------+------------------+-------------------+-------------------+-------------------------+----------------------+ | RHEL9 | PASS | PASS | SKIPPED | SKIPPED | SKIPPED | SKIPPED | +---------------------+--------------------+------------------+-------------------+-------------------+-------------------------+----------------------+ | Ubuntu 20.04 | PASS | SKIPPED | SKIPPED | SKIPPED | SKIPPED | SKIPPED | +---------------------+--------------------+------------------+-------------------+-------------------+-------------------------+----------------------+ | Ubuntu 22.04 | PASS | PASS | PASS | SKIPPED | SKIPPED | SKIPPED | +---------------------+--------------------+------------------+-------------------+-------------------+-------------------------+----------------------+ | Ubuntu 24.04 | PASS | PASS | PASS | SKIPPED | SKIPPED | SKIPPED | +---------------------+--------------------+------------------+-------------------+-------------------+-------------------------+----------------------+ | FreeBSD 14.2 | PASS | SKIPPED | SKIPPED | SKIPPED | SKIPPED | SKIPPED | +---------------------+--------------------+------------------+-------------------+-------------------+-------------------------+----------------------+ | FreeBSD 13.4 | PASS | SKIPPED | SKIPPED | SKIPPED | SKIPPED | SKIPPED | +---------------------+--------------------+------------------+-------------------+-------------------+-------------------------+----------------------+ | Alpine | PASS | PASS | SKIPPED | SKIPPED | SKIPPED | SKIPPED | +---------------------+--------------------+------------------+-------------------+-------------------+-------------------------+----------------------+ | openSUSE Leap 15 | PASS | WARN | SKIPPED | SKIPPED | SKIPPED | SKIPPED | +---------------------+--------------------+------------------+-------------------+-------------------+-------------------------+----------------------+ | Windows Server 2022 | SKIPPED | SKIPPED | SKIPPED | PASS | PASS | PASS | +---------------------+--------------------+------------------+-------------------+-------------------+-------------------------+----------------------+ ==== 20 line log output for openSUSE Leap 15 (dpdk_compile_ovs): ==== --- Failed to get log output --- ==== End log output ==== CentOS Stream 9 Kernel: Depends on container host Compiler: gcc 11.5.0 20240719 (Red Hat 11.5.0-2) Debian 12 Kernel: Depends on container host Compiler: gcc (Debian 12.2.0-14) 12.2.0 Fedora 39 (Clang) Kernel: Depends on container host Compiler: clang 17.0.6 (Fedora 17.0.6-2.fc39) Fedora 39 Kernel: Depends on container host Compiler: gcc 13.3.1 20240522 (Red Hat 13.3.1-1) Fedora 40 (Clang) Kernel: Depends on container host Compiler: clang 18.1.8 (Fedora 18.1.8-1.fc40) Fedora 40 Kernel: Depends on container host Compiler: gcc 14.2.1 20240912 (Red Hat 14.2.1-3) RHEL8 Kernel: Depends on container host Compiler: gcc 8.5.0 20210514 (Red Hat 8.5.0-22) RHEL9 Kernel: Depends on container host Compiler: gcc 11.5.0 20240719 (Red Hat 11.5.0-2) Ubuntu 20.04 Kernel: Depends on container host Compiler: gcc (Ubuntu 9.4.0-1ubuntu1~20.04.2) 9.4.0 Ubuntu 22.04 Kernel: Depends on container host Compiler: gcc (Ubuntu 11.4.0-1ubuntu1~22.04) 11.4.0 Ubuntu 24.04 Kernel: Depends on container host Compiler: gcc (Ubuntu 13.3.0-6ubuntu2~24.04) 13.3.0 FreeBSD 14.2 Kernel: 14.2-RELEASE Compiler: clang 18.1.6 FreeBSD 13.4 Kernel: 13.4-RELEASE-p1 Compiler: clang 18.1.6 Alpine Kernel: Depends on container host Compiler: gcc (Alpine 14.2.0) 14.2.0 openSUSE Leap 15 Kernel: Depends on container host Compiler: gcc (SUSE Linux) 7.5.0 Windows Server 2022 Kernel: 10.0.20348.2031 Compiler: clang 15.0.7, gcc 14.1.0 (MinGW), and MSVC VS 19.39.33521 To view detailed results, visit: https://lab.dpdk.org/results/dashboard/tarballs/31975/ UNH-IOL DPDK Community Lab To manage your email subscriptions, visit: https://lab.dpdk.org/results/dashboard/preferences/subscriptions/