From mboxrd@z Thu Jan 1 00:00:00 1970 Return-Path: Received: from mails.dpdk.org (mails.dpdk.org [217.70.189.124]) by inbox.dpdk.org (Postfix) with ESMTP id CD278461BE for ; Fri, 7 Feb 2025 19:22:51 +0100 (CET) Received: from mails.dpdk.org (localhost [127.0.0.1]) by mails.dpdk.org (Postfix) with ESMTP id ACF5E42ED5; Fri, 7 Feb 2025 19:22:51 +0100 (CET) Received: from mail-yw1-f226.google.com (mail-yw1-f226.google.com [209.85.128.226]) by mails.dpdk.org (Postfix) with ESMTP id CCE2E42EE1 for ; Fri, 7 Feb 2025 19:22:49 +0100 (CET) Received: by mail-yw1-f226.google.com with SMTP id 00721157ae682-6f6715734d9so21897277b3.3 for ; Fri, 07 Feb 2025 10:22:49 -0800 (PST) DKIM-Signature: v=1; a=rsa-sha256; c=relaxed/relaxed; d=iol.unh.edu; s=unh-iol; t=1738952569; x=1739557369; darn=dpdk.org; h=references:in-reply-to:cc:to:from:subject:message-id:date:from:to :cc:subject:date:message-id:reply-to; bh=IVHzbxDMD89PKVguoTHD7WRi6u+4d0qGd4vPgqmV0UQ=; b=S2F+24kre7TQkX9gH/GDUelYONGpXiwuwdXL2vwafcY6L3dKS9u6JiJanyOdpSFoBX vlF+K0HhWEWuq0kB8eOWDUrow1QZcOD3e4VGSW+1l1uVZlUueFFEcoof7+M0SRa7EMTJ qSg2CAO3QBIGJFU0yqSEaOZ842ogRWRBtnB9I= X-Google-DKIM-Signature: v=1; a=rsa-sha256; c=relaxed/relaxed; d=1e100.net; s=20230601; t=1738952569; x=1739557369; h=references:in-reply-to:cc:to:from:subject:message-id:date :x-gm-message-state:from:to:cc:subject:date:message-id:reply-to; bh=IVHzbxDMD89PKVguoTHD7WRi6u+4d0qGd4vPgqmV0UQ=; b=ALwM6V9EbSDi2/onrwygz6SamMvTY80+rkMmQykNU941x0HHnLnYFcwxTqjCiUiiRE ArT+JL2cZ5c5DA6lqyOWuISjtdTfWQSPfsNZOeEfQvNn4q2zXpFTsevhWSyvkDLJ2/Sm rRdNWXvSbrXFYKL7Lwff+n23bCRIh9P1cjTm1DuO3guXGIoT+L3ANddy7JCVuF50CFAY X13zSZv9l++jCcupskBLCtk1vnu0Z6xii9IQR9O/gcHhV3Tw1/dqQgga7uyYkbgtTGLP 9fI9U+JiudIXFXCMkiP14sceJ5l06Vvhb02k2g+zjxj6im+wO1Mua/WHHIXjUIrJpzU9 bGUg== X-Gm-Message-State: AOJu0Yx4bxyApnxkHwbAZhCP6Wl0NC2NwU0v8uHaFVhJEgaYUXLtE8XH 526cWtOPIkI30wzpo1GwzhftoxsF+ourc02rV9i4fs17VUomxCroG3gLC1iM7cDhpzl8qJpOP/o dnO/TTE1LM81ztC8pohy5oqqhPzXAcwLMpi0xKaI7 X-Gm-Gg: ASbGncvR4AeVf1mGdGeIPOI4H76Y+GSGXJlYW8nJdViIB9+TLWsdwDnuQiY8LeDN9uK 7uJ706ZdHxfHwz2sWo87Kqd119TfoUPg7+vOPnTUDzM/+e8H81fQLy0kDoKBynpSf12TziUei1x 2BS6icndUbOdDR8chxBnDOvdCu8ZgKeE0S2vK/TT96k805ZIeGYUbG0wRGSBpcy8ALNzpNJFIg3 oScjAd77lxVZWRkLImgipisgHUZkpBvU+RlBCQ4W8kHCnY2vfv4tlwaV9nCpkaBwAsR+nqiq8/n q3cYqJ5/rWY1VZXJ72LCNNQsW580YQ== X-Google-Smtp-Source: AGHT+IEWLhp/FfpsnPwvaDNtcqir9rt9V39nDporpGBzA/jAXd2GhAx/oANcM4raJLXV+rxflooAjh5WxjlR X-Received: by 2002:a05:690c:25c1:b0:6ea:7b00:4aa5 with SMTP id 00721157ae682-6f9b2a1863emr36572017b3.33.1738952569235; Fri, 07 Feb 2025 10:22:49 -0800 (PST) Received: from postal.iol.unh.edu (postal.iol.unh.edu. [132.177.123.84]) by smtp-relay.gmail.com with ESMTPS id 00721157ae682-6f99fd30a53sm563767b3.23.2025.02.07.10.22.49 (version=TLS1_2 cipher=ECDHE-ECDSA-AES128-GCM-SHA256 bits=128/128); Fri, 07 Feb 2025 10:22:49 -0800 (PST) X-Relaying-Domain: iol.unh.edu Date: Fri, 07 Feb 2025 10:22:49 -0800 (PST) Message-ID: <67a64f79.050a0220.370c1c.2edfSMTPIN_ADDED_MISSING@mx.google.com> Received: from [172.21.0.8] (unknown [172.18.0.240]) by postal.iol.unh.edu (Postfix) with ESMTP id DE76B6052471; Fri, 7 Feb 2025 13:22:48 -0500 (EST) Subject: |WARNING| pw149307 [PATCH] [1/1] net/{octeon_ep,enetfec}: remove unu From: dpdklab@iol.unh.edu To: Test Report Cc: dpdk-test-reports@iol.unh.edu In-Reply-To: <20241218200306.546714-2-otilibil@eurecom.fr> References: <20241218200306.546714-2-otilibil@eurecom.fr> Content-Type: text/plain X-BeenThere: test-report@dpdk.org X-Mailman-Version: 2.1.29 Precedence: list List-Id: automatic DPDK test reports List-Unsubscribe: , List-Archive: List-Post: List-Help: List-Subscribe: , Errors-To: test-report-bounces@dpdk.org Test-Label: iol-compile-amd64-testing Test-Status: WARNING http://dpdk.org/patch/149307 _Testing issues_ Submitter: Ariel Otilibili-Anieli Date: Wednesday, December 18 2024 20:00:09 DPDK git baseline: Repo:dpdk Branch: master CommitID:78d0246a2e2fb14cba220d507192d12d2ce896ac 149307 --> testing issues Test environment and result as below: +---------------------+--------------------+------------------+-------------------+-------------------+-------------------------+----------------------+ | Environment | dpdk_meson_compile | dpdk_compile_ovs | dpdk_compile_spdk | dpdk_msvc_compile | dpdk_llvm_clang_compile | dpdk_mingw64_compile | +=====================+====================+==================+===================+===================+=========================+======================+ | Debian 12 | PASS | PASS | PASS | SKIPPED | SKIPPED | SKIPPED | +---------------------+--------------------+------------------+-------------------+-------------------+-------------------------+----------------------+ | Fedora 39 | PASS | PASS | PASS | SKIPPED | SKIPPED | SKIPPED | +---------------------+--------------------+------------------+-------------------+-------------------+-------------------------+----------------------+ | Fedora 40 | PASS | PASS | PASS | SKIPPED | SKIPPED | SKIPPED | +---------------------+--------------------+------------------+-------------------+-------------------+-------------------------+----------------------+ | openSUSE Leap 15 | PASS | WARN | SKIPPED | SKIPPED | SKIPPED | SKIPPED | +---------------------+--------------------+------------------+-------------------+-------------------+-------------------------+----------------------+ | RHEL8 | PASS | PASS | SKIPPED | SKIPPED | SKIPPED | SKIPPED | +---------------------+--------------------+------------------+-------------------+-------------------+-------------------------+----------------------+ | RHEL9 | PASS | PASS | SKIPPED | SKIPPED | SKIPPED | SKIPPED | +---------------------+--------------------+------------------+-------------------+-------------------+-------------------------+----------------------+ | Ubuntu 24.04 | PASS | PASS | PASS | SKIPPED | SKIPPED | SKIPPED | +---------------------+--------------------+------------------+-------------------+-------------------+-------------------------+----------------------+ | Ubuntu 20.04 | PASS | SKIPPED | SKIPPED | SKIPPED | SKIPPED | SKIPPED | +---------------------+--------------------+------------------+-------------------+-------------------+-------------------------+----------------------+ | Alpine | PASS | PASS | SKIPPED | SKIPPED | SKIPPED | SKIPPED | +---------------------+--------------------+------------------+-------------------+-------------------+-------------------------+----------------------+ | FreeBSD 13.4 | PASS | SKIPPED | SKIPPED | SKIPPED | SKIPPED | SKIPPED | +---------------------+--------------------+------------------+-------------------+-------------------+-------------------------+----------------------+ | FreeBSD 14.2 | PASS | SKIPPED | SKIPPED | SKIPPED | SKIPPED | SKIPPED | +---------------------+--------------------+------------------+-------------------+-------------------+-------------------------+----------------------+ | Fedora 39 (Clang) | PASS | PASS | PASS | SKIPPED | SKIPPED | SKIPPED | +---------------------+--------------------+------------------+-------------------+-------------------+-------------------------+----------------------+ | Fedora 40 (Clang) | PASS | PASS | PASS | SKIPPED | SKIPPED | SKIPPED | +---------------------+--------------------+------------------+-------------------+-------------------+-------------------------+----------------------+ | Ubuntu 22.04 | PASS | PASS | PASS | SKIPPED | SKIPPED | SKIPPED | +---------------------+--------------------+------------------+-------------------+-------------------+-------------------------+----------------------+ | Windows Server 2022 | SKIPPED | SKIPPED | SKIPPED | PASS | PASS | PASS | +---------------------+--------------------+------------------+-------------------+-------------------+-------------------------+----------------------+ ==== 20 line log output for openSUSE Leap 15 (dpdk_compile_ovs): ==== --- Failed to get log output --- ==== End log output ==== Debian 12 Kernel: Depends on container host Compiler: gcc (Debian 12.2.0-14) 12.2.0 Fedora 39 Kernel: Depends on container host Compiler: gcc 13.3.1 20240522 (Red Hat 13.3.1-1) Fedora 40 Kernel: Depends on container host Compiler: gcc 14.2.1 20240912 (Red Hat 14.2.1-3) openSUSE Leap 15 Kernel: Depends on container host Compiler: gcc (SUSE Linux) 7.5.0 RHEL8 Kernel: Depends on container host Compiler: gcc 8.5.0 20210514 (Red Hat 8.5.0-22) RHEL9 Kernel: Depends on container host Compiler: gcc 11.5.0 20240719 (Red Hat 11.5.0-2) Ubuntu 24.04 Kernel: Depends on container host Compiler: gcc (Ubuntu 13.3.0-6ubuntu2~24.04) 13.3.0 Ubuntu 20.04 Kernel: Depends on container host Compiler: gcc (Ubuntu 9.4.0-1ubuntu1~20.04.2) 9.4.0 Alpine Kernel: Depends on container host Compiler: gcc (Alpine 14.2.0) 14.2.0 FreeBSD 13.4 Kernel: 13.4-RELEASE-p1 Compiler: clang 18.1.6 FreeBSD 14.2 Kernel: 14.2-RELEASE Compiler: clang 18.1.6 Fedora 39 (Clang) Kernel: Depends on container host Compiler: clang 17.0.6 (Fedora 17.0.6-2.fc39) Fedora 40 (Clang) Kernel: Depends on container host Compiler: clang 18.1.8 (Fedora 18.1.8-1.fc40) Ubuntu 22.04 Kernel: Depends on container host Compiler: gcc (Ubuntu 11.4.0-1ubuntu1~22.04) 11.4.0 Windows Server 2022 Kernel: 10.0.20348.2031 Compiler: clang 15.0.7, gcc 14.1.0 (MinGW), and MSVC VS 19.39.33521 To view detailed results, visit: https://lab.dpdk.org/results/dashboard/patchsets/32162/ UNH-IOL DPDK Community Lab To manage your email subscriptions, visit: https://lab.dpdk.org/results/dashboard/preferences/subscriptions/