From mboxrd@z Thu Jan 1 00:00:00 1970 Return-Path: Received: from mails.dpdk.org (mails.dpdk.org [217.70.189.124]) by inbox.dpdk.org (Postfix) with ESMTP id 06262461BE for ; Fri, 7 Feb 2025 19:23:28 +0100 (CET) Received: from mails.dpdk.org (localhost [127.0.0.1]) by mails.dpdk.org (Postfix) with ESMTP id F3C1042ED5; Fri, 7 Feb 2025 19:23:27 +0100 (CET) Received: from mail-io1-f100.google.com (mail-io1-f100.google.com [209.85.166.100]) by mails.dpdk.org (Postfix) with ESMTP id AE32F42E90 for ; Fri, 7 Feb 2025 19:23:26 +0100 (CET) Received: by mail-io1-f100.google.com with SMTP id ca18e2360f4ac-84ceaf2667aso158297139f.3 for ; Fri, 07 Feb 2025 10:23:26 -0800 (PST) DKIM-Signature: v=1; a=rsa-sha256; c=relaxed/relaxed; d=iol.unh.edu; s=unh-iol; t=1738952606; x=1739557406; darn=dpdk.org; h=references:in-reply-to:cc:to:from:subject:message-id:date:from:to :cc:subject:date:message-id:reply-to; bh=qXF2kfngDAY+lTW+yOiBhaJchMd0ojT6x/o7sTuI8BE=; b=E79eZXgE1KeKs7UaZT9euGPifZ0+Mgj+h/ojOf7xly7sbIQlC1MBUNBZifVjZqclQu IwpIFBypNEGQezNf51rtnO8cxcBg/yT53RbuZa7stb6yOlJ3Xf00gVKIYIxArScT0oa4 Jw4148i18xc3GBaWxFkGFm3FZ/fOcqc27YyJo= X-Google-DKIM-Signature: v=1; a=rsa-sha256; c=relaxed/relaxed; d=1e100.net; s=20230601; t=1738952606; x=1739557406; h=references:in-reply-to:cc:to:from:subject:message-id:date :x-gm-message-state:from:to:cc:subject:date:message-id:reply-to; bh=qXF2kfngDAY+lTW+yOiBhaJchMd0ojT6x/o7sTuI8BE=; b=MHTcxOi8QNf+KqoG7u0EHukI9jsgUm1afjEWgqssleMFP50ZgoZDgdOw0KDXIdS6CR +3IvRe8YYACBaFcp1/P5i73ZS++4t/vGY6IssERfc5hgqnqpz4IrJt9uFLZIsJDMMQ8G 0yTVxN3Eh9HxUxQiiKH79CMIv/A2bhw+EEGuF9uEYTISYHNWqdbD3q4j58C67WzsD0QF 4Dw2x/htKCQOewN4ox8nfOWxzb1dtZPrldF4owMmdrmR8XXw0WzUwRh8ULoKx2JTbmbH aFxfNzrZV0h++Tc2mLoVPhZ9mjLHNWxyE2hhO16D7X/izShNrjGqS4YzOxufR499iXI2 4AhQ== X-Gm-Message-State: AOJu0YzQz1PmjOwYKQCYv0SN4JKk29RPzrM+Fei9qRHqAXFHEpSZXIJg lPy3lZfGLVOLEQxqNSG/8XErgB2AvZbMgkB0GaZnfO3qAkzOTkFA8UVfE2YOHwWKCbPCEbssp4u pkBz6zKvIob4qzNyqRdueSrXlNoEpRkrlu+gKB93m X-Gm-Gg: ASbGnctrj/1+k5Db5U4fU9MY08Nxuy6adn7VQ9CdaAFvgS62WbyUeSG29+C3ni+BBVt l8TV1iptq5R2XRMHN/QWIn5vgrZmwr4AE5kKykEqNbssGTDU4QD1Qw6oRU/AXnO6cdRxYOYSIMa wp/5ZUgnpBj9kodXy/ygkG0RdjBu7LzPWGuZbDouxaN4f1UueX4sJAkORJcck52EbKXQjyAAMDd Z5P2nNO+RLDKPwq7JaKGo9V/srHT/lhqUXgBraBkAp+0JOgGUSg3hB1haWG0JcB2FVk5iTpfnvj FrPnmqo9yi+UzfDs2Dq1wRp/+6iT+g== X-Google-Smtp-Source: AGHT+IFfmWyfS6JK3fZLea5exHSmoGhNK0ZXDX7b529TGrMyEtUfz0Iwv4h/rHs3f/vgR+Qq3zyIool5Lmzu X-Received: by 2002:a92:c544:0:b0:3d0:47e3:40bb with SMTP id e9e14a558f8ab-3d13dcfd0bdmr34569785ab.4.1738952606038; Fri, 07 Feb 2025 10:23:26 -0800 (PST) Received: from postal.iol.unh.edu (postal.iol.unh.edu. [132.177.123.84]) by smtp-relay.gmail.com with ESMTPS id e9e14a558f8ab-3d05e8d8f90sm2688095ab.7.2025.02.07.10.23.25 (version=TLS1_2 cipher=ECDHE-ECDSA-AES128-GCM-SHA256 bits=128/128); Fri, 07 Feb 2025 10:23:26 -0800 (PST) X-Relaying-Domain: iol.unh.edu Date: Fri, 07 Feb 2025 10:23:26 -0800 (PST) Message-ID: <67a64f9e.050a0220.18c8a0.e151SMTPIN_ADDED_MISSING@mx.google.com> Received: from [172.21.0.9] (unknown [172.18.0.240]) by postal.iol.unh.edu (Postfix) with ESMTP id A654C6052471; Fri, 7 Feb 2025 13:22:55 -0500 (EST) Subject: |WARNING| pw149305 [PATCH] drivers/common: avoid truncation of const From: dpdklab@iol.unh.edu To: Test Report Cc: dpdk-test-reports@iol.unh.edu In-Reply-To: <1734537913-1159-1-git-send-email-andremue@linux.microsoft.com> References: <1734537913-1159-1-git-send-email-andremue@linux.microsoft.com> Content-Type: text/plain X-BeenThere: test-report@dpdk.org X-Mailman-Version: 2.1.29 Precedence: list List-Id: automatic DPDK test reports List-Unsubscribe: , List-Archive: List-Post: List-Help: List-Subscribe: , Errors-To: test-report-bounces@dpdk.org Test-Label: iol-compile-amd64-testing Test-Status: WARNING http://dpdk.org/patch/149305 _Testing issues_ Submitter: Andre Muezerie Date: Wednesday, December 18 2024 16:05:12 DPDK git baseline: Repo:dpdk Branch: master CommitID:ce85dd8562ad9673eb4fe46b4a8bd3a508e8b32f 149305 --> testing issues Test environment and result as below: +---------------------+--------------------+------------------+-------------------+-------------------+-------------------------+----------------------+ | Environment | dpdk_meson_compile | dpdk_compile_ovs | dpdk_compile_spdk | dpdk_msvc_compile | dpdk_llvm_clang_compile | dpdk_mingw64_compile | +=====================+====================+==================+===================+===================+=========================+======================+ | CentOS Stream 9 | PASS | PASS | PASS | SKIPPED | SKIPPED | SKIPPED | +---------------------+--------------------+------------------+-------------------+-------------------+-------------------------+----------------------+ | Debian 12 | PASS | PASS | PASS | SKIPPED | SKIPPED | SKIPPED | +---------------------+--------------------+------------------+-------------------+-------------------+-------------------------+----------------------+ | Fedora 40 | PASS | PASS | PASS | SKIPPED | SKIPPED | SKIPPED | +---------------------+--------------------+------------------+-------------------+-------------------+-------------------------+----------------------+ | RHEL8 | PASS | PASS | SKIPPED | SKIPPED | SKIPPED | SKIPPED | +---------------------+--------------------+------------------+-------------------+-------------------+-------------------------+----------------------+ | Fedora 40 (Clang) | PASS | PASS | PASS | SKIPPED | SKIPPED | SKIPPED | +---------------------+--------------------+------------------+-------------------+-------------------+-------------------------+----------------------+ | Fedora 39 | PASS | PASS | PASS | SKIPPED | SKIPPED | SKIPPED | +---------------------+--------------------+------------------+-------------------+-------------------+-------------------------+----------------------+ | Ubuntu 20.04 | PASS | SKIPPED | SKIPPED | SKIPPED | SKIPPED | SKIPPED | +---------------------+--------------------+------------------+-------------------+-------------------+-------------------------+----------------------+ | Ubuntu 22.04 | PASS | PASS | PASS | SKIPPED | SKIPPED | SKIPPED | +---------------------+--------------------+------------------+-------------------+-------------------+-------------------------+----------------------+ | Ubuntu 24.04 | PASS | PASS | PASS | SKIPPED | SKIPPED | SKIPPED | +---------------------+--------------------+------------------+-------------------+-------------------+-------------------------+----------------------+ | Alpine | PASS | PASS | SKIPPED | SKIPPED | SKIPPED | SKIPPED | +---------------------+--------------------+------------------+-------------------+-------------------+-------------------------+----------------------+ | FreeBSD 13.4 | PASS | SKIPPED | SKIPPED | SKIPPED | SKIPPED | SKIPPED | +---------------------+--------------------+------------------+-------------------+-------------------+-------------------------+----------------------+ | FreeBSD 14.2 | PASS | SKIPPED | SKIPPED | SKIPPED | SKIPPED | SKIPPED | +---------------------+--------------------+------------------+-------------------+-------------------+-------------------------+----------------------+ | Fedora 39 (Clang) | PASS | PASS | PASS | SKIPPED | SKIPPED | SKIPPED | +---------------------+--------------------+------------------+-------------------+-------------------+-------------------------+----------------------+ | openSUSE Leap 15 | PASS | WARN | SKIPPED | SKIPPED | SKIPPED | SKIPPED | +---------------------+--------------------+------------------+-------------------+-------------------+-------------------------+----------------------+ | RHEL9 | PASS | PASS | SKIPPED | SKIPPED | SKIPPED | SKIPPED | +---------------------+--------------------+------------------+-------------------+-------------------+-------------------------+----------------------+ | Windows Server 2022 | SKIPPED | SKIPPED | SKIPPED | PASS | PASS | PASS | +---------------------+--------------------+------------------+-------------------+-------------------+-------------------------+----------------------+ ==== 20 line log output for openSUSE Leap 15 (dpdk_compile_ovs): ==== --- Failed to get log output --- ==== End log output ==== CentOS Stream 9 Kernel: Depends on container host Compiler: gcc 11.5.0 20240719 (Red Hat 11.5.0-2) Debian 12 Kernel: Depends on container host Compiler: gcc (Debian 12.2.0-14) 12.2.0 Fedora 40 Kernel: Depends on container host Compiler: gcc 14.2.1 20240912 (Red Hat 14.2.1-3) RHEL8 Kernel: Depends on container host Compiler: gcc 8.5.0 20210514 (Red Hat 8.5.0-22) Fedora 40 (Clang) Kernel: Depends on container host Compiler: clang 18.1.8 (Fedora 18.1.8-1.fc40) Fedora 39 Kernel: Depends on container host Compiler: gcc 13.3.1 20240522 (Red Hat 13.3.1-1) Ubuntu 20.04 Kernel: Depends on container host Compiler: gcc (Ubuntu 9.4.0-1ubuntu1~20.04.2) 9.4.0 Ubuntu 22.04 Kernel: Depends on container host Compiler: gcc (Ubuntu 11.4.0-1ubuntu1~22.04) 11.4.0 Ubuntu 24.04 Kernel: Depends on container host Compiler: gcc (Ubuntu 13.3.0-6ubuntu2~24.04) 13.3.0 Alpine Kernel: Depends on container host Compiler: gcc (Alpine 14.2.0) 14.2.0 FreeBSD 13.4 Kernel: 13.4-RELEASE-p1 Compiler: clang 18.1.6 FreeBSD 14.2 Kernel: 14.2-RELEASE Compiler: clang 18.1.6 Fedora 39 (Clang) Kernel: Depends on container host Compiler: clang 17.0.6 (Fedora 17.0.6-2.fc39) openSUSE Leap 15 Kernel: Depends on container host Compiler: gcc (SUSE Linux) 7.5.0 RHEL9 Kernel: Depends on container host Compiler: gcc 11.5.0 20240719 (Red Hat 11.5.0-2) Windows Server 2022 Kernel: 10.0.20348.2031 Compiler: clang 15.0.7, gcc 14.1.0 (MinGW), and MSVC VS 19.39.33521 To view detailed results, visit: https://lab.dpdk.org/results/dashboard/patchsets/32160/ UNH-IOL DPDK Community Lab To manage your email subscriptions, visit: https://lab.dpdk.org/results/dashboard/preferences/subscriptions/