From mboxrd@z Thu Jan 1 00:00:00 1970 Return-Path: Received: from mails.dpdk.org (mails.dpdk.org [217.70.189.124]) by inbox.dpdk.org (Postfix) with ESMTP id 1E6FD461BE for ; Fri, 7 Feb 2025 19:23:30 +0100 (CET) Received: from mails.dpdk.org (localhost [127.0.0.1]) by mails.dpdk.org (Postfix) with ESMTP id 1B2F142ED5; Fri, 7 Feb 2025 19:23:30 +0100 (CET) Received: from mail-io1-f98.google.com (mail-io1-f98.google.com [209.85.166.98]) by mails.dpdk.org (Postfix) with ESMTP id 5AD3B42E90 for ; Fri, 7 Feb 2025 19:23:29 +0100 (CET) Received: by mail-io1-f98.google.com with SMTP id ca18e2360f4ac-84a1ce51187so73482839f.1 for ; Fri, 07 Feb 2025 10:23:29 -0800 (PST) DKIM-Signature: v=1; a=rsa-sha256; c=relaxed/relaxed; d=iol.unh.edu; s=unh-iol; t=1738952608; x=1739557408; darn=dpdk.org; h=references:in-reply-to:cc:to:from:subject:message-id:date:from:to :cc:subject:date:message-id:reply-to; bh=JWUPyHl4y1XSrDvHHiXfyh76XYqRR7KVOtZl/G+uwKw=; b=cBPsJaXuh7U2GEcBcEsJkgk/zUmM4aXOCUn9JE0WNG/CJOqrQQzZhZxeU8Z8jj8GUS ud0oB1FCYvJ+6LzgEttE+naHIYYbsyOcrY36fRC4anD9Ztx8RlNNoZqPxi64sWJS2tRV lRYqtXjRo3WXoMUfWd2sIWFaCYJA1uw7pWW9c= X-Google-DKIM-Signature: v=1; a=rsa-sha256; c=relaxed/relaxed; d=1e100.net; s=20230601; t=1738952608; x=1739557408; h=references:in-reply-to:cc:to:from:subject:message-id:date :x-gm-message-state:from:to:cc:subject:date:message-id:reply-to; bh=JWUPyHl4y1XSrDvHHiXfyh76XYqRR7KVOtZl/G+uwKw=; b=DbYVXi279K5UxC05DZRkWqRM67AjhsYe1y6n6olDPTDvMHnozHTh4JncmoN9gjHbCl ePiM9DCgKvEzhazdHlOHG4bWKPrhNo1yOQvsTINm8NYaKhq/gfUiJbRA9mcSy/bdMyoG TkVYajiCe8PE1+gUMSipRP3JLzKwd6/uKE/hUnFiV69I6OFAAW8TKJEIWqfcIosot6za QOnRishWtMFohBnyRO+EdzXWAbsGQ+uTQ4Vc93FhPuPJ0fU5Wc4CgXPzjibcD8+Gr3uh Fg76+tW4qKSTZM0EYQUVcMkvrwOihn6hUmwOmbTwv5N07PvEsN8JAoGdv0tbWOm+0Itn iQ0g== X-Gm-Message-State: AOJu0YyQ6vA490PvgfYMENZQBmaXEmQtf2oWVPXrjQEq5vrNK91fuWaU vwjDUn9Un82LcWIWHIvo3jEuVHnbcM3sde9nUfAJxkq/khgjxq2PkpEdaRaxR7vMP6W+q0JEeIU 1IfEmmnSg6TvUqQ89JOiONikquv0dzECETN2DT2oz X-Gm-Gg: ASbGncupIUlxLkCMPIYoXBZ8JaxatEEHsFkHGgtFKV4KpuHYN+xKwZ3o9HVDhsX7Rlx sHpHqVa9hoZ9a2Ugrpneg2aVhy/EiZB0x2j/L9hB4TsRoPSs6m51TQ48IVS9br2RIu/5u4He51T F+XrUqDeNyWT/Cjq5dXdwXlRtNOvk++O9bM4AaPgwQoFGN3sEtSm6WisrJuuSON6z//4xlNM1sC XTpLuIW0BRxrGoPfkYBpxIiuINIzScTFpVGnyQW3p/23wX8DY85qc+bSyelZ4p3W+Z2dXHmEzQb ENJ5EN78NCVBT8rn/ZvX3U2jVbw8dA== X-Google-Smtp-Source: AGHT+IGmjz2eQhgnbQdnt+W8lWgpXi9alA9YQV3lL1MsEBJ5cdlzs+FHIVUsz99bEobvzwBpMt+QzRBMOLi8 X-Received: by 2002:a05:6602:6cc8:b0:835:4b2a:e52b with SMTP id ca18e2360f4ac-854fd8f00b5mr366531539f.10.1738952608700; Fri, 07 Feb 2025 10:23:28 -0800 (PST) Received: from postal.iol.unh.edu (postal.iol.unh.edu. [132.177.123.84]) by smtp-relay.gmail.com with ESMTPS id 8926c6da1cb9f-4ecda1dd9d2sm135265173.37.2025.02.07.10.23.28 (version=TLS1_2 cipher=ECDHE-ECDSA-AES128-GCM-SHA256 bits=128/128); Fri, 07 Feb 2025 10:23:28 -0800 (PST) X-Relaying-Domain: iol.unh.edu Date: Fri, 07 Feb 2025 10:23:28 -0800 (PST) Message-ID: <67a64fa0.050a0220.13da3b.652dSMTPIN_ADDED_MISSING@mx.google.com> Received: from [172.21.0.6] (unknown [172.18.0.240]) by postal.iol.unh.edu (Postfix) with ESMTP id 3D6316052471; Fri, 7 Feb 2025 13:23:28 -0500 (EST) Subject: |WARNING| pw149287 [PATCH] net/nfp: implement the burst mode get ope From: dpdklab@iol.unh.edu To: Test Report Cc: dpdk-test-reports@iol.unh.edu In-Reply-To: <20241218063036.1697438-1-chaoyong.he@corigine.com> References: <20241218063036.1697438-1-chaoyong.he@corigine.com> Content-Type: text/plain X-BeenThere: test-report@dpdk.org X-Mailman-Version: 2.1.29 Precedence: list List-Id: automatic DPDK test reports List-Unsubscribe: , List-Archive: List-Post: List-Help: List-Subscribe: , Errors-To: test-report-bounces@dpdk.org Test-Label: iol-compile-amd64-testing Test-Status: WARNING http://dpdk.org/patch/149287 _Testing issues_ Submitter: Chaoyong He Date: Wednesday, December 18 2024 06:30:36 DPDK git baseline: Repo:dpdk Branch: master CommitID:78d0246a2e2fb14cba220d507192d12d2ce896ac 149287 --> testing issues Test environment and result as below: +---------------------+--------------------+------------------+-------------------+-------------------+-------------------------+----------------------+ | Environment | dpdk_meson_compile | dpdk_compile_ovs | dpdk_compile_spdk | dpdk_msvc_compile | dpdk_llvm_clang_compile | dpdk_mingw64_compile | +=====================+====================+==================+===================+===================+=========================+======================+ | CentOS Stream 9 | PASS | PASS | PASS | SKIPPED | SKIPPED | SKIPPED | +---------------------+--------------------+------------------+-------------------+-------------------+-------------------------+----------------------+ | Fedora 39 | PASS | PASS | PASS | SKIPPED | SKIPPED | SKIPPED | +---------------------+--------------------+------------------+-------------------+-------------------+-------------------------+----------------------+ | Fedora 39 (Clang) | PASS | PASS | PASS | SKIPPED | SKIPPED | SKIPPED | +---------------------+--------------------+------------------+-------------------+-------------------+-------------------------+----------------------+ | Debian 12 | PASS | PASS | PASS | SKIPPED | SKIPPED | SKIPPED | +---------------------+--------------------+------------------+-------------------+-------------------+-------------------------+----------------------+ | RHEL9 | PASS | PASS | SKIPPED | SKIPPED | SKIPPED | SKIPPED | +---------------------+--------------------+------------------+-------------------+-------------------+-------------------------+----------------------+ | Fedora 40 (Clang) | PASS | PASS | PASS | SKIPPED | SKIPPED | SKIPPED | +---------------------+--------------------+------------------+-------------------+-------------------+-------------------------+----------------------+ | RHEL8 | PASS | PASS | SKIPPED | SKIPPED | SKIPPED | SKIPPED | +---------------------+--------------------+------------------+-------------------+-------------------+-------------------------+----------------------+ | Ubuntu 20.04 | PASS | SKIPPED | SKIPPED | SKIPPED | SKIPPED | SKIPPED | +---------------------+--------------------+------------------+-------------------+-------------------+-------------------------+----------------------+ | Ubuntu 22.04 | PASS | PASS | PASS | SKIPPED | SKIPPED | SKIPPED | +---------------------+--------------------+------------------+-------------------+-------------------+-------------------------+----------------------+ | Alpine | PASS | PASS | SKIPPED | SKIPPED | SKIPPED | SKIPPED | +---------------------+--------------------+------------------+-------------------+-------------------+-------------------------+----------------------+ | FreeBSD 13.4 | PASS | SKIPPED | SKIPPED | SKIPPED | SKIPPED | SKIPPED | +---------------------+--------------------+------------------+-------------------+-------------------+-------------------------+----------------------+ | FreeBSD 14.2 | PASS | SKIPPED | SKIPPED | SKIPPED | SKIPPED | SKIPPED | +---------------------+--------------------+------------------+-------------------+-------------------+-------------------------+----------------------+ | Fedora 40 | PASS | PASS | PASS | SKIPPED | SKIPPED | SKIPPED | +---------------------+--------------------+------------------+-------------------+-------------------+-------------------------+----------------------+ | openSUSE Leap 15 | PASS | WARN | SKIPPED | SKIPPED | SKIPPED | SKIPPED | +---------------------+--------------------+------------------+-------------------+-------------------+-------------------------+----------------------+ | Ubuntu 24.04 | PASS | PASS | PASS | SKIPPED | SKIPPED | SKIPPED | +---------------------+--------------------+------------------+-------------------+-------------------+-------------------------+----------------------+ | Windows Server 2022 | SKIPPED | SKIPPED | SKIPPED | PASS | PASS | PASS | +---------------------+--------------------+------------------+-------------------+-------------------+-------------------------+----------------------+ ==== 20 line log output for openSUSE Leap 15 (dpdk_compile_ovs): ==== --- Failed to get log output --- ==== End log output ==== CentOS Stream 9 Kernel: Depends on container host Compiler: gcc 11.5.0 20240719 (Red Hat 11.5.0-2) Fedora 39 Kernel: Depends on container host Compiler: gcc 13.3.1 20240522 (Red Hat 13.3.1-1) Fedora 39 (Clang) Kernel: Depends on container host Compiler: clang 17.0.6 (Fedora 17.0.6-2.fc39) Debian 12 Kernel: Depends on container host Compiler: gcc (Debian 12.2.0-14) 12.2.0 RHEL9 Kernel: Depends on container host Compiler: gcc 11.5.0 20240719 (Red Hat 11.5.0-2) Fedora 40 (Clang) Kernel: Depends on container host Compiler: clang 18.1.8 (Fedora 18.1.8-1.fc40) RHEL8 Kernel: Depends on container host Compiler: gcc 8.5.0 20210514 (Red Hat 8.5.0-22) Ubuntu 20.04 Kernel: Depends on container host Compiler: gcc (Ubuntu 9.4.0-1ubuntu1~20.04.2) 9.4.0 Ubuntu 22.04 Kernel: Depends on container host Compiler: gcc (Ubuntu 11.4.0-1ubuntu1~22.04) 11.4.0 Alpine Kernel: Depends on container host Compiler: gcc (Alpine 14.2.0) 14.2.0 FreeBSD 13.4 Kernel: 13.4-RELEASE-p1 Compiler: clang 18.1.6 FreeBSD 14.2 Kernel: 14.2-RELEASE Compiler: clang 18.1.6 Fedora 40 Kernel: Depends on container host Compiler: gcc 14.2.1 20240912 (Red Hat 14.2.1-3) openSUSE Leap 15 Kernel: Depends on container host Compiler: gcc (SUSE Linux) 7.5.0 Ubuntu 24.04 Kernel: Depends on container host Compiler: gcc (Ubuntu 13.3.0-6ubuntu2~24.04) 13.3.0 Windows Server 2022 Kernel: 10.0.20348.2031 Compiler: clang 15.0.7, gcc 14.1.0 (MinGW), and MSVC VS 19.39.33521 To view detailed results, visit: https://lab.dpdk.org/results/dashboard/patchsets/32156/ UNH-IOL DPDK Community Lab To manage your email subscriptions, visit: https://lab.dpdk.org/results/dashboard/preferences/subscriptions/