From mboxrd@z Thu Jan 1 00:00:00 1970 Return-Path: Received: from mails.dpdk.org (mails.dpdk.org [217.70.189.124]) by inbox.dpdk.org (Postfix) with ESMTP id 29368461BE for ; Fri, 7 Feb 2025 19:23:30 +0100 (CET) Received: from mails.dpdk.org (localhost [127.0.0.1]) by mails.dpdk.org (Postfix) with ESMTP id 26A1142EE7; Fri, 7 Feb 2025 19:23:30 +0100 (CET) Received: from mail-yw1-f228.google.com (mail-yw1-f228.google.com [209.85.128.228]) by mails.dpdk.org (Postfix) with ESMTP id A52E942E90 for ; Fri, 7 Feb 2025 19:23:29 +0100 (CET) Received: by mail-yw1-f228.google.com with SMTP id 00721157ae682-6f6cc13d103so18370577b3.0 for ; Fri, 07 Feb 2025 10:23:29 -0800 (PST) DKIM-Signature: v=1; a=rsa-sha256; c=relaxed/relaxed; d=iol.unh.edu; s=unh-iol; t=1738952609; x=1739557409; darn=dpdk.org; h=references:in-reply-to:cc:to:from:subject:message-id:date:from:to :cc:subject:date:message-id:reply-to; bh=mWSb7w7hZgM98wgLT1ZRZfGMahvNERYikkxTEIOAGEk=; b=XEXcdfZK3wugBautB8mLrBKbXXRQB6rPB60aGdMBuI4lvYT5kfKwso9PMw7LSQmFVx M5GoG9SGNBCKNXQrWVZUiB+WrVcmjBj+E4uH42sZe26cZMmYTXDPCuxf1bzj/1OP8uP5 HKwMjamt1fLqaFHEugSjllW5CBdfVAB66Y1Y0= X-Google-DKIM-Signature: v=1; a=rsa-sha256; c=relaxed/relaxed; d=1e100.net; s=20230601; t=1738952609; x=1739557409; h=references:in-reply-to:cc:to:from:subject:message-id:date :x-gm-message-state:from:to:cc:subject:date:message-id:reply-to; bh=mWSb7w7hZgM98wgLT1ZRZfGMahvNERYikkxTEIOAGEk=; b=P9ku6kZURbNNRqJR8ZtMM4qM326Om6whaGIrDvJtFvexvt1WGsrR3laSW4Cs1nYhA8 ObTEdT2+92ytcXEGbHRc090HVlVWlqCgCOC+7esC5oiAir9TBnSz5pOvF63IiWzKCCXD mBZvAqjv5Jc8sxAEdeEYo8/JyV/RM8MZ49oqKDHeY6YDkhWXcO6+R+VCEazsyo+Sx7fU UpsZSx3H7sZeHanCRFNQyO8DOl273jTlGTQOtdBJccCl5gqY3gTVLIZ/dYNdKD26dV65 BHmrFQc2Rz2jPfg+dxUBRtMvjoNp9oZoSgiMDB96Y6YPMLTpUOzh1AFZy0OC8sWnKEls Pqow== X-Gm-Message-State: AOJu0YwdOytVRO8mGpKGre8idHMj0mYoLp2wnOMntdjW9bM/Go0z2gB3 plLfo9VkywwhEJ7FvG1MHc7p5vcygFP/xzFSK0/2pB4aBn6BfjrlO2Q4ZVDXscU+lYMPbki3dja qJo8Lb7xT1zs7XiaLUiKiUo62BV9410Yx6TT/jXqX X-Gm-Gg: ASbGnctTla5mu9dTA6R03l7vM+eVtn4Xmscptx9TSNeqRtTGO3JLZygxF7MzqIegDs0 Q6/Z1YvT9s8IMssydJ6u10J7PAB5MYijpUUxPHgaAzXs6W3jqVFqb3gnMS6zrH0OuFDajXldu4e fdPRW5QOMnZvERHJZ3lEI+Y742zUZTAgnTqydlqjKiQkq7a+l8YzbSvbdn2MAlqRaeujBGVFZIY 9WR9U6fGkliTXahFWO820u83X/dYiaxvCcKlVbv5BfRVq02WOZ14+jm3ENBTuiFJYiQXfFv/5IR jWR/wX4i/yks0mb/nNvnVFtyDUvxvA== X-Google-Smtp-Source: AGHT+IGT+lW4HYqbWrYCgrWoyZk/2vwdHzB+r57G5VYYd1LWtsxbW1+6YxdK/e9/6I9BF7mBZdEc0giWNrwk X-Received: by 2002:a05:690c:4c8f:b0:6f9:75b6:beeb with SMTP id 00721157ae682-6f9b29e3d54mr38461677b3.27.1738952608945; Fri, 07 Feb 2025 10:23:28 -0800 (PST) Received: from postal.iol.unh.edu (postal.iol.unh.edu. [132.177.123.84]) by smtp-relay.gmail.com with ESMTPS id 00721157ae682-6f99fa9f903sm554257b3.0.2025.02.07.10.23.28 (version=TLS1_2 cipher=ECDHE-ECDSA-AES128-GCM-SHA256 bits=128/128); Fri, 07 Feb 2025 10:23:28 -0800 (PST) X-Relaying-Domain: iol.unh.edu Date: Fri, 07 Feb 2025 10:23:28 -0800 (PST) Message-ID: <67a64fa0.050a0220.9a825.29b4SMTPIN_ADDED_MISSING@mx.google.com> Received: from [172.21.0.7] (unknown [172.18.0.240]) by postal.iol.unh.edu (Postfix) with ESMTP id 957A26052472; Fri, 7 Feb 2025 13:23:28 -0500 (EST) Subject: |WARNING| pw149304 [PATCH] [v3] app/test: fix stack overflow in lpm6 From: dpdklab@iol.unh.edu To: Test Report Cc: dpdk-test-reports@iol.unh.edu In-Reply-To: <1734535286-27267-1-git-send-email-andremue@linux.microsoft.com> References: <1734535286-27267-1-git-send-email-andremue@linux.microsoft.com> Content-Type: text/plain X-BeenThere: test-report@dpdk.org X-Mailman-Version: 2.1.29 Precedence: list List-Id: automatic DPDK test reports List-Unsubscribe: , List-Archive: List-Post: List-Help: List-Subscribe: , Errors-To: test-report-bounces@dpdk.org Test-Label: iol-compile-amd64-testing Test-Status: WARNING http://dpdk.org/patch/149304 _Testing issues_ Submitter: Andre Muezerie Date: Wednesday, December 18 2024 15:21:26 DPDK git baseline: Repo:dpdk Branch: master CommitID:4dc4e33ffa108e945fc8a1e2bbc7819791faa61e 149304 --> testing issues Test environment and result as below: +---------------------+--------------------+------------------+-------------------+-------------------+-------------------------+----------------------+ | Environment | dpdk_meson_compile | dpdk_compile_ovs | dpdk_compile_spdk | dpdk_msvc_compile | dpdk_llvm_clang_compile | dpdk_mingw64_compile | +=====================+====================+==================+===================+===================+=========================+======================+ | Debian 12 | PASS | PASS | PASS | SKIPPED | SKIPPED | SKIPPED | +---------------------+--------------------+------------------+-------------------+-------------------+-------------------------+----------------------+ | Fedora 39 (Clang) | PASS | PASS | PASS | SKIPPED | SKIPPED | SKIPPED | +---------------------+--------------------+------------------+-------------------+-------------------+-------------------------+----------------------+ | Fedora 40 (Clang) | PASS | PASS | PASS | SKIPPED | SKIPPED | SKIPPED | +---------------------+--------------------+------------------+-------------------+-------------------+-------------------------+----------------------+ | Fedora 40 | PASS | PASS | PASS | SKIPPED | SKIPPED | SKIPPED | +---------------------+--------------------+------------------+-------------------+-------------------+-------------------------+----------------------+ | openSUSE Leap 15 | PASS | WARN | SKIPPED | SKIPPED | SKIPPED | SKIPPED | +---------------------+--------------------+------------------+-------------------+-------------------+-------------------------+----------------------+ | RHEL9 | PASS | PASS | SKIPPED | SKIPPED | SKIPPED | SKIPPED | +---------------------+--------------------+------------------+-------------------+-------------------+-------------------------+----------------------+ | Ubuntu 20.04 | PASS | SKIPPED | SKIPPED | SKIPPED | SKIPPED | SKIPPED | +---------------------+--------------------+------------------+-------------------+-------------------+-------------------------+----------------------+ | Ubuntu 24.04 | PASS | PASS | PASS | SKIPPED | SKIPPED | SKIPPED | +---------------------+--------------------+------------------+-------------------+-------------------+-------------------------+----------------------+ | Alpine | PASS | PASS | SKIPPED | SKIPPED | SKIPPED | SKIPPED | +---------------------+--------------------+------------------+-------------------+-------------------+-------------------------+----------------------+ | FreeBSD 13.4 | PASS | SKIPPED | SKIPPED | SKIPPED | SKIPPED | SKIPPED | +---------------------+--------------------+------------------+-------------------+-------------------+-------------------------+----------------------+ | FreeBSD 14.2 | PASS | SKIPPED | SKIPPED | SKIPPED | SKIPPED | SKIPPED | +---------------------+--------------------+------------------+-------------------+-------------------+-------------------------+----------------------+ | CentOS Stream 9 | PASS | PASS | PASS | SKIPPED | SKIPPED | SKIPPED | +---------------------+--------------------+------------------+-------------------+-------------------+-------------------------+----------------------+ | RHEL8 | PASS | PASS | SKIPPED | SKIPPED | SKIPPED | SKIPPED | +---------------------+--------------------+------------------+-------------------+-------------------+-------------------------+----------------------+ | Fedora 39 | PASS | PASS | PASS | SKIPPED | SKIPPED | SKIPPED | +---------------------+--------------------+------------------+-------------------+-------------------+-------------------------+----------------------+ | Ubuntu 22.04 | PASS | PASS | PASS | SKIPPED | SKIPPED | SKIPPED | +---------------------+--------------------+------------------+-------------------+-------------------+-------------------------+----------------------+ | Windows Server 2022 | SKIPPED | SKIPPED | SKIPPED | PASS | PASS | PASS | +---------------------+--------------------+------------------+-------------------+-------------------+-------------------------+----------------------+ ==== 20 line log output for openSUSE Leap 15 (dpdk_compile_ovs): ==== --- Failed to get log output --- ==== End log output ==== Debian 12 Kernel: Depends on container host Compiler: gcc (Debian 12.2.0-14) 12.2.0 Fedora 39 (Clang) Kernel: Depends on container host Compiler: clang 17.0.6 (Fedora 17.0.6-2.fc39) Fedora 40 (Clang) Kernel: Depends on container host Compiler: clang 18.1.8 (Fedora 18.1.8-1.fc40) Fedora 40 Kernel: Depends on container host Compiler: gcc 14.2.1 20240912 (Red Hat 14.2.1-3) openSUSE Leap 15 Kernel: Depends on container host Compiler: gcc (SUSE Linux) 7.5.0 RHEL9 Kernel: Depends on container host Compiler: gcc 11.5.0 20240719 (Red Hat 11.5.0-2) Ubuntu 20.04 Kernel: Depends on container host Compiler: gcc (Ubuntu 9.4.0-1ubuntu1~20.04.2) 9.4.0 Ubuntu 24.04 Kernel: Depends on container host Compiler: gcc (Ubuntu 13.3.0-6ubuntu2~24.04) 13.3.0 Alpine Kernel: Depends on container host Compiler: gcc (Alpine 14.2.0) 14.2.0 FreeBSD 13.4 Kernel: 13.4-RELEASE-p1 Compiler: clang 18.1.6 FreeBSD 14.2 Kernel: 14.2-RELEASE Compiler: clang 18.1.6 CentOS Stream 9 Kernel: Depends on container host Compiler: gcc 11.5.0 20240719 (Red Hat 11.5.0-2) RHEL8 Kernel: Depends on container host Compiler: gcc 8.5.0 20210514 (Red Hat 8.5.0-22) Fedora 39 Kernel: Depends on container host Compiler: gcc 13.3.1 20240522 (Red Hat 13.3.1-1) Ubuntu 22.04 Kernel: Depends on container host Compiler: gcc (Ubuntu 11.4.0-1ubuntu1~22.04) 11.4.0 Windows Server 2022 Kernel: 10.0.20348.2031 Compiler: clang 15.0.7, gcc 14.1.0 (MinGW), and MSVC VS 19.39.33521 To view detailed results, visit: https://lab.dpdk.org/results/dashboard/patchsets/32159/ UNH-IOL DPDK Community Lab To manage your email subscriptions, visit: https://lab.dpdk.org/results/dashboard/preferences/subscriptions/