From mboxrd@z Thu Jan 1 00:00:00 1970 Return-Path: Received: from mails.dpdk.org (mails.dpdk.org [217.70.189.124]) by inbox.dpdk.org (Postfix) with ESMTP id 34F90461BE for ; Fri, 7 Feb 2025 19:23:36 +0100 (CET) Received: from mails.dpdk.org (localhost [127.0.0.1]) by mails.dpdk.org (Postfix) with ESMTP id 32BB742ED5; Fri, 7 Feb 2025 19:23:36 +0100 (CET) Received: from mail-yb1-f226.google.com (mail-yb1-f226.google.com [209.85.219.226]) by mails.dpdk.org (Postfix) with ESMTP id 9874B42E90 for ; Fri, 7 Feb 2025 19:23:35 +0100 (CET) Received: by mail-yb1-f226.google.com with SMTP id 3f1490d57ef6-e5b22d35268so2233812276.3 for ; Fri, 07 Feb 2025 10:23:35 -0800 (PST) DKIM-Signature: v=1; a=rsa-sha256; c=relaxed/relaxed; d=iol.unh.edu; s=unh-iol; t=1738952615; x=1739557415; darn=dpdk.org; h=references:in-reply-to:cc:to:from:subject:message-id:date:from:to :cc:subject:date:message-id:reply-to; bh=CXw+ieOMp7V0JU67Pf2pVAVp5+vI1Z92NJTs8xcqS2w=; b=Orb39fDmZkzv9b3wiyboSjnXkmDaBsLo0Q4GAtwbAX8Y6AE3B8gBie7Hein+k7ErB4 dDwXXDiZ9FyiR3NvIXlUZGrQiIAPMfkliqgm++P61M+iscXGaUjP5qXlkbzN1qTlfW3I 8Bxnjhm1pks8UC/BVYwmAwYvrU6JOJ27x6f9Q= X-Google-DKIM-Signature: v=1; a=rsa-sha256; c=relaxed/relaxed; d=1e100.net; s=20230601; t=1738952615; x=1739557415; h=references:in-reply-to:cc:to:from:subject:message-id:date :x-gm-message-state:from:to:cc:subject:date:message-id:reply-to; bh=CXw+ieOMp7V0JU67Pf2pVAVp5+vI1Z92NJTs8xcqS2w=; b=b/cKk0q2DlLvW2OlWkUXN9K/Ytod37HG6dbTY4yN4yF06R1BzVy9TMct4mBfAEj+1E 2MMzJWKntUGowm+snr/iCm8K/n9lJkZTlXMFXEWWOcl8nRUMx7UTVzYhI9UiFhNBreid gWcQ0IrOpdtKeCxuI4lsZhJEs10CbSkuyJVsE678RSXrlgo9tot35bgEDB5QqiR42T8G tpKHV+aHcKReXQEzAD+CFIoAKiPFzRn3uOVQvRmKeJZ0UuGwm5O9OnwH4DAosbgV5cAQ pFPvBbrH9QlpAOfNf/hQu6xcyEoAnE328Mz4o02mOXH3LAI8vWm9DG73OUVuoB9TG/yB snTA== X-Gm-Message-State: AOJu0Yxo+enQQGcI4cQ3H2ogOghviYnadNjdAMarq9uULeYQF2AMpV23 VQJgENwdOg3VleQkF1XX1Hv5PorIC2fyfxpQkoOCjY2Wspb+DtROsBTf7A9SrG/+7efiYwBjWWQ ZueTjiMe7iGz3Yb30soy56Wf77PT0fmfHxbtMdIwE X-Gm-Gg: ASbGncukl51EN0JupZXLMtoRmekGqHiuB5i1QRQLsUviVUnoR/GBgu+ZY59EeiBieaO bEPqQPK0JQVkJdeLEwzyZK8l360uabdn+/0xYcVGBFhgfcDZ+P+dZffybTbujM+jwEZ8ZF9ulP3 lkPGD6nOmFNwtNLRBbYyH/bJh0hctdjIVCGAJa3yS+PlzdvETpuV7xOZC1oaL1N2goPVtPwERtx /Ng2X5kH3CxvisJqRhAIqvYsECrUCs1v2cRfVpTxK5G01ZFXhNScbLNtGwOaMgAZFPoMIWhKu8I qwk0g/wbOnkexZKVwu/BIJm+TnHrAg== X-Google-Smtp-Source: AGHT+IHO3L9rK5voZy0fJAeU8FvFPNnck/73GgEBiA7B3dHjpOW3YncD6giorofvRi6tNYZ2k2vIdMk/F5Ta X-Received: by 2002:a05:6902:1609:b0:e5b:454c:c6dd with SMTP id 3f1490d57ef6-e5b4619ef23mr4688461276.12.1738952615026; Fri, 07 Feb 2025 10:23:35 -0800 (PST) Received: from postal.iol.unh.edu (postal.iol.unh.edu. [132.177.123.84]) by smtp-relay.gmail.com with ESMTPS id 3f1490d57ef6-e5b3a21e1desm210469276.12.2025.02.07.10.23.34 (version=TLS1_2 cipher=ECDHE-ECDSA-AES128-GCM-SHA256 bits=128/128); Fri, 07 Feb 2025 10:23:35 -0800 (PST) X-Relaying-Domain: iol.unh.edu Date: Fri, 07 Feb 2025 10:23:35 -0800 (PST) Message-ID: <67a64fa7.250a0220.1b5a2f.b32cSMTPIN_ADDED_MISSING@mx.google.com> Received: from [172.21.0.9] (unknown [172.18.0.240]) by postal.iol.unh.edu (Postfix) with ESMTP id AB9546052477; Fri, 7 Feb 2025 13:23:34 -0500 (EST) Subject: |WARNING| pw149287 [PATCH] net/nfp: implement the burst mode get ope From: dpdklab@iol.unh.edu To: Test Report Cc: dpdk-test-reports@iol.unh.edu In-Reply-To: <20241218063036.1697438-1-chaoyong.he@corigine.com> References: <20241218063036.1697438-1-chaoyong.he@corigine.com> Content-Type: text/plain X-BeenThere: test-report@dpdk.org X-Mailman-Version: 2.1.29 Precedence: list List-Id: automatic DPDK test reports List-Unsubscribe: , List-Archive: List-Post: List-Help: List-Subscribe: , Errors-To: test-report-bounces@dpdk.org Test-Label: iol-compile-amd64-testing Test-Status: WARNING http://dpdk.org/patch/149287 _Testing issues_ Submitter: Chaoyong He Date: Wednesday, December 18 2024 06:30:36 DPDK git baseline: Repo:dpdk Branch: master CommitID:78d0246a2e2fb14cba220d507192d12d2ce896ac 149287 --> testing issues Test environment and result as below: +---------------------+--------------------+------------------+-------------------+-------------------+-------------------------+----------------------+ | Environment | dpdk_meson_compile | dpdk_compile_ovs | dpdk_compile_spdk | dpdk_msvc_compile | dpdk_llvm_clang_compile | dpdk_mingw64_compile | +=====================+====================+==================+===================+===================+=========================+======================+ | CentOS Stream 9 | PASS | PASS | PASS | SKIPPED | SKIPPED | SKIPPED | +---------------------+--------------------+------------------+-------------------+-------------------+-------------------------+----------------------+ | Debian 12 | PASS | PASS | PASS | SKIPPED | SKIPPED | SKIPPED | +---------------------+--------------------+------------------+-------------------+-------------------+-------------------------+----------------------+ | Fedora 39 (Clang) | PASS | PASS | PASS | SKIPPED | SKIPPED | SKIPPED | +---------------------+--------------------+------------------+-------------------+-------------------+-------------------------+----------------------+ | Fedora 40 (Clang) | PASS | PASS | PASS | SKIPPED | SKIPPED | SKIPPED | +---------------------+--------------------+------------------+-------------------+-------------------+-------------------------+----------------------+ | Fedora 40 | PASS | PASS | PASS | SKIPPED | SKIPPED | SKIPPED | +---------------------+--------------------+------------------+-------------------+-------------------+-------------------------+----------------------+ | openSUSE Leap 15 | PASS | WARN | SKIPPED | SKIPPED | SKIPPED | SKIPPED | +---------------------+--------------------+------------------+-------------------+-------------------+-------------------------+----------------------+ | RHEL8 | PASS | PASS | SKIPPED | SKIPPED | SKIPPED | SKIPPED | +---------------------+--------------------+------------------+-------------------+-------------------+-------------------------+----------------------+ | RHEL9 | PASS | PASS | SKIPPED | SKIPPED | SKIPPED | SKIPPED | +---------------------+--------------------+------------------+-------------------+-------------------+-------------------------+----------------------+ | Ubuntu 20.04 | PASS | SKIPPED | SKIPPED | SKIPPED | SKIPPED | SKIPPED | +---------------------+--------------------+------------------+-------------------+-------------------+-------------------------+----------------------+ | Ubuntu 24.04 | PASS | PASS | PASS | SKIPPED | SKIPPED | SKIPPED | +---------------------+--------------------+------------------+-------------------+-------------------+-------------------------+----------------------+ | Alpine | PASS | PASS | SKIPPED | SKIPPED | SKIPPED | SKIPPED | +---------------------+--------------------+------------------+-------------------+-------------------+-------------------------+----------------------+ | FreeBSD 13.4 | PASS | SKIPPED | SKIPPED | SKIPPED | SKIPPED | SKIPPED | +---------------------+--------------------+------------------+-------------------+-------------------+-------------------------+----------------------+ | FreeBSD 14.2 | PASS | SKIPPED | SKIPPED | SKIPPED | SKIPPED | SKIPPED | +---------------------+--------------------+------------------+-------------------+-------------------+-------------------------+----------------------+ | Fedora 39 | PASS | PASS | PASS | SKIPPED | SKIPPED | SKIPPED | +---------------------+--------------------+------------------+-------------------+-------------------+-------------------------+----------------------+ | Ubuntu 22.04 | PASS | PASS | PASS | SKIPPED | SKIPPED | SKIPPED | +---------------------+--------------------+------------------+-------------------+-------------------+-------------------------+----------------------+ | Windows Server 2022 | SKIPPED | SKIPPED | SKIPPED | PASS | PASS | PASS | +---------------------+--------------------+------------------+-------------------+-------------------+-------------------------+----------------------+ ==== 20 line log output for openSUSE Leap 15 (dpdk_compile_ovs): ==== --- Failed to get log output --- ==== End log output ==== CentOS Stream 9 Kernel: Depends on container host Compiler: gcc 11.5.0 20240719 (Red Hat 11.5.0-2) Debian 12 Kernel: Depends on container host Compiler: gcc (Debian 12.2.0-14) 12.2.0 Fedora 39 (Clang) Kernel: Depends on container host Compiler: clang 17.0.6 (Fedora 17.0.6-2.fc39) Fedora 40 (Clang) Kernel: Depends on container host Compiler: clang 18.1.8 (Fedora 18.1.8-1.fc40) Fedora 40 Kernel: Depends on container host Compiler: gcc 14.2.1 20240912 (Red Hat 14.2.1-3) openSUSE Leap 15 Kernel: Depends on container host Compiler: gcc (SUSE Linux) 7.5.0 RHEL8 Kernel: Depends on container host Compiler: gcc 8.5.0 20210514 (Red Hat 8.5.0-22) RHEL9 Kernel: Depends on container host Compiler: gcc 11.5.0 20240719 (Red Hat 11.5.0-2) Ubuntu 20.04 Kernel: Depends on container host Compiler: gcc (Ubuntu 9.4.0-1ubuntu1~20.04.2) 9.4.0 Ubuntu 24.04 Kernel: Depends on container host Compiler: gcc (Ubuntu 13.3.0-6ubuntu2~24.04) 13.3.0 Alpine Kernel: Depends on container host Compiler: gcc (Alpine 14.2.0) 14.2.0 FreeBSD 13.4 Kernel: 13.4-RELEASE-p1 Compiler: clang 18.1.6 FreeBSD 14.2 Kernel: 14.2-RELEASE Compiler: clang 18.1.6 Fedora 39 Kernel: Depends on container host Compiler: gcc 13.3.1 20240522 (Red Hat 13.3.1-1) Ubuntu 22.04 Kernel: Depends on container host Compiler: gcc (Ubuntu 11.4.0-1ubuntu1~22.04) 11.4.0 Windows Server 2022 Kernel: 10.0.20348.2031 Compiler: clang 15.0.7, gcc 14.1.0 (MinGW), and MSVC VS 19.39.33521 To view detailed results, visit: https://lab.dpdk.org/results/dashboard/patchsets/32156/ UNH-IOL DPDK Community Lab To manage your email subscriptions, visit: https://lab.dpdk.org/results/dashboard/preferences/subscriptions/