From mboxrd@z Thu Jan 1 00:00:00 1970 Return-Path: Received: from mails.dpdk.org (mails.dpdk.org [217.70.189.124]) by inbox.dpdk.org (Postfix) with ESMTP id 4AC96461BE for ; Fri, 7 Feb 2025 19:23:41 +0100 (CET) Received: from mails.dpdk.org (localhost [127.0.0.1]) by mails.dpdk.org (Postfix) with ESMTP id 42B8742ED5; Fri, 7 Feb 2025 19:23:41 +0100 (CET) Received: from mail-pl1-f225.google.com (mail-pl1-f225.google.com [209.85.214.225]) by mails.dpdk.org (Postfix) with ESMTP id 3D70342E90 for ; Fri, 7 Feb 2025 19:23:40 +0100 (CET) Received: by mail-pl1-f225.google.com with SMTP id d9443c01a7336-21f0444b478so36551745ad.0 for ; Fri, 07 Feb 2025 10:23:40 -0800 (PST) DKIM-Signature: v=1; a=rsa-sha256; c=relaxed/relaxed; d=iol.unh.edu; s=unh-iol; t=1738952619; x=1739557419; darn=dpdk.org; h=references:in-reply-to:cc:to:from:subject:message-id:date:from:to :cc:subject:date:message-id:reply-to; bh=l41piOmy/CVaHXcRuxkVb7E1fjGZLFHlicb7mWS987I=; b=PBctBqv83i3b8Z04HtADP6mG7EBFzDtkHIZ1QFiuvkJwKAY5SM7sOU+FYNV7kWRB/3 mOZe6QM3GqM+/WMlMU+uj806L3XQKXUOAOMbqfmGrYAAJHQHiO4y31zoh3ECQTcpYEDv l3qHQzu0CMgpDtqKiIA2eRK6cHQvk499O5E+o= X-Google-DKIM-Signature: v=1; a=rsa-sha256; c=relaxed/relaxed; d=1e100.net; s=20230601; t=1738952619; x=1739557419; h=references:in-reply-to:cc:to:from:subject:message-id:date :x-gm-message-state:from:to:cc:subject:date:message-id:reply-to; bh=l41piOmy/CVaHXcRuxkVb7E1fjGZLFHlicb7mWS987I=; b=pNDeGmY5C+dSp2qWmZsTFg297KlbBUI3IGVA6T9i1pQYEU0AIGdOIbk/+gdvs8qPSW qhsa1z5yC5nJtN00EFlXJeJ0Pq2QWhS8Kem9VIC4ZHmGqmm4v3UaQ86qXMUwtqU0XsSg XqQJ0OBI6rBh1xpWIRr7qDp782nu4SF34EOlxs0+5Pq1/n9QKp+gTrbE/aBYTGGtJpzA SY0+LPecw+ZfbbVnrDrqANU3yJ7hsVgEteP4IjPP3SelLzeObShWFYpnx8fnU/EN4eii GcRNplna9p2bShV+FcZnXzZr5bVNjvBd3I2XpHMKqiDxuXnX5WT7rFKwf10w/H2vazX+ x8Vw== X-Gm-Message-State: AOJu0YzY9PuLqVMwmbLa+xQX64MxGFYrWAzf60T7+LrDCPO2V+JYvMxs rdnplZ68hIBwEnuEqZ3rhxE4Hd1pIcSTdEBnJieHNSopgRsbynSYw5yl+u7Za3ulmNjKZT49pKM RZnAXwXEIGDgewbbJudNQMGlafq25lUjw0Tvkkiv5 X-Gm-Gg: ASbGncvKNPAwm6Ww7QUd5B9xM8r0Hn7fJq3EOMA6P5TCmynyqhB+ImzYtEfjtg6X6qt 6wkmoS4Z9evb8Gend8sI11VX/LXKPQLy75ivkwpRqs8ityZBnAGfQw9udYWC2QNM5oQwwkC919m sFdER0COY6eBLnHWWgqyrqNVw6xXjAG5LWD5XhI9F6//7FDZ8bF7KV8j5HG99BTUqoYOfIvAdTG bFTyOFs2yTlSdXl+cjTXPFJkZ94lHJIe9oSMOLJh3pLpqoKb7B+/2c8aHpSEDQ8oI4+U2QirEd/ cowFC5s+1OZDa99lOVpDfAzqGv+svA== X-Google-Smtp-Source: AGHT+IEAI6GvkK8nDgYAP/MMgA+SYSTope6Ldss/hdP3Jhs9IAKUZc/sV/cZO0lgZphsr+vu0K9jBqUM1wQZ X-Received: by 2002:a17:902:d301:b0:216:410d:4c67 with SMTP id d9443c01a7336-21f4e759724mr55289255ad.41.1738952619265; Fri, 07 Feb 2025 10:23:39 -0800 (PST) Received: from postal.iol.unh.edu (postal.iol.unh.edu. [132.177.123.84]) by smtp-relay.gmail.com with ESMTPS id d9443c01a7336-21f365430e6sm1972265ad.44.2025.02.07.10.23.39 (version=TLS1_2 cipher=ECDHE-ECDSA-AES128-GCM-SHA256 bits=128/128); Fri, 07 Feb 2025 10:23:39 -0800 (PST) X-Relaying-Domain: iol.unh.edu Date: Fri, 07 Feb 2025 10:23:39 -0800 (PST) Message-ID: <67a64fab.170a0220.5a678.9ca6SMTPIN_ADDED_MISSING@mx.google.com> Received: from [172.21.0.11] (unknown [172.18.0.240]) by postal.iol.unh.edu (Postfix) with ESMTP id 747EF6052477; Fri, 7 Feb 2025 13:23:38 -0500 (EST) Subject: |WARNING| pw149288 [PATCH] net/nfp: fix VF link speed problem From: dpdklab@iol.unh.edu To: Test Report Cc: dpdk-test-reports@iol.unh.edu In-Reply-To: <20241218065255.1698520-1-chaoyong.he@corigine.com> References: <20241218065255.1698520-1-chaoyong.he@corigine.com> Content-Type: text/plain X-BeenThere: test-report@dpdk.org X-Mailman-Version: 2.1.29 Precedence: list List-Id: automatic DPDK test reports List-Unsubscribe: , List-Archive: List-Post: List-Help: List-Subscribe: , Errors-To: test-report-bounces@dpdk.org Test-Label: iol-compile-amd64-testing Test-Status: WARNING http://dpdk.org/patch/149288 _Testing issues_ Submitter: Chaoyong He Date: Wednesday, December 18 2024 06:52:55 DPDK git baseline: Repo:dpdk Branch: master CommitID:78d0246a2e2fb14cba220d507192d12d2ce896ac 149288 --> testing issues Test environment and result as below: +---------------------+--------------------+------------------+-------------------+-------------------+-------------------------+----------------------+ | Environment | dpdk_meson_compile | dpdk_compile_ovs | dpdk_compile_spdk | dpdk_msvc_compile | dpdk_llvm_clang_compile | dpdk_mingw64_compile | +=====================+====================+==================+===================+===================+=========================+======================+ | CentOS Stream 9 | PASS | PASS | PASS | SKIPPED | SKIPPED | SKIPPED | +---------------------+--------------------+------------------+-------------------+-------------------+-------------------------+----------------------+ | Debian 12 | PASS | PASS | PASS | SKIPPED | SKIPPED | SKIPPED | +---------------------+--------------------+------------------+-------------------+-------------------+-------------------------+----------------------+ | Fedora 39 (Clang) | PASS | PASS | PASS | SKIPPED | SKIPPED | SKIPPED | +---------------------+--------------------+------------------+-------------------+-------------------+-------------------------+----------------------+ | Fedora 39 | PASS | PASS | PASS | SKIPPED | SKIPPED | SKIPPED | +---------------------+--------------------+------------------+-------------------+-------------------+-------------------------+----------------------+ | Fedora 40 | PASS | PASS | PASS | SKIPPED | SKIPPED | SKIPPED | +---------------------+--------------------+------------------+-------------------+-------------------+-------------------------+----------------------+ | openSUSE Leap 15 | PASS | WARN | SKIPPED | SKIPPED | SKIPPED | SKIPPED | +---------------------+--------------------+------------------+-------------------+-------------------+-------------------------+----------------------+ | Ubuntu 20.04 | PASS | SKIPPED | SKIPPED | SKIPPED | SKIPPED | SKIPPED | +---------------------+--------------------+------------------+-------------------+-------------------+-------------------------+----------------------+ | RHEL9 | PASS | PASS | SKIPPED | SKIPPED | SKIPPED | SKIPPED | +---------------------+--------------------+------------------+-------------------+-------------------+-------------------------+----------------------+ | Ubuntu 24.04 | PASS | PASS | PASS | SKIPPED | SKIPPED | SKIPPED | +---------------------+--------------------+------------------+-------------------+-------------------+-------------------------+----------------------+ | Ubuntu 22.04 | PASS | PASS | PASS | SKIPPED | SKIPPED | SKIPPED | +---------------------+--------------------+------------------+-------------------+-------------------+-------------------------+----------------------+ | Alpine | PASS | PASS | SKIPPED | SKIPPED | SKIPPED | SKIPPED | +---------------------+--------------------+------------------+-------------------+-------------------+-------------------------+----------------------+ | FreeBSD 14.2 | PASS | SKIPPED | SKIPPED | SKIPPED | SKIPPED | SKIPPED | +---------------------+--------------------+------------------+-------------------+-------------------+-------------------------+----------------------+ | FreeBSD 13.4 | PASS | SKIPPED | SKIPPED | SKIPPED | SKIPPED | SKIPPED | +---------------------+--------------------+------------------+-------------------+-------------------+-------------------------+----------------------+ | RHEL8 | PASS | PASS | SKIPPED | SKIPPED | SKIPPED | SKIPPED | +---------------------+--------------------+------------------+-------------------+-------------------+-------------------------+----------------------+ | Fedora 40 (Clang) | PASS | PASS | PASS | SKIPPED | SKIPPED | SKIPPED | +---------------------+--------------------+------------------+-------------------+-------------------+-------------------------+----------------------+ | Windows Server 2022 | SKIPPED | SKIPPED | SKIPPED | PASS | PASS | PASS | +---------------------+--------------------+------------------+-------------------+-------------------+-------------------------+----------------------+ ==== 20 line log output for openSUSE Leap 15 (dpdk_compile_ovs): ==== --- Failed to get log output --- ==== End log output ==== CentOS Stream 9 Kernel: Depends on container host Compiler: gcc 11.5.0 20240719 (Red Hat 11.5.0-2) Debian 12 Kernel: Depends on container host Compiler: gcc (Debian 12.2.0-14) 12.2.0 Fedora 39 (Clang) Kernel: Depends on container host Compiler: clang 17.0.6 (Fedora 17.0.6-2.fc39) Fedora 39 Kernel: Depends on container host Compiler: gcc 13.3.1 20240522 (Red Hat 13.3.1-1) Fedora 40 Kernel: Depends on container host Compiler: gcc 14.2.1 20240912 (Red Hat 14.2.1-3) openSUSE Leap 15 Kernel: Depends on container host Compiler: gcc (SUSE Linux) 7.5.0 Ubuntu 20.04 Kernel: Depends on container host Compiler: gcc (Ubuntu 9.4.0-1ubuntu1~20.04.2) 9.4.0 RHEL9 Kernel: Depends on container host Compiler: gcc 11.5.0 20240719 (Red Hat 11.5.0-2) Ubuntu 24.04 Kernel: Depends on container host Compiler: gcc (Ubuntu 13.3.0-6ubuntu2~24.04) 13.3.0 Ubuntu 22.04 Kernel: Depends on container host Compiler: gcc (Ubuntu 11.4.0-1ubuntu1~22.04) 11.4.0 Alpine Kernel: Depends on container host Compiler: gcc (Alpine 14.2.0) 14.2.0 FreeBSD 14.2 Kernel: 14.2-RELEASE Compiler: clang 18.1.6 FreeBSD 13.4 Kernel: 13.4-RELEASE-p1 Compiler: clang 18.1.6 RHEL8 Kernel: Depends on container host Compiler: gcc 8.5.0 20210514 (Red Hat 8.5.0-22) Fedora 40 (Clang) Kernel: Depends on container host Compiler: clang 18.1.8 (Fedora 18.1.8-1.fc40) Windows Server 2022 Kernel: 10.0.20348.2031 Compiler: clang 15.0.7, gcc 14.1.0 (MinGW), and MSVC VS 19.39.33521 To view detailed results, visit: https://lab.dpdk.org/results/dashboard/patchsets/32157/ UNH-IOL DPDK Community Lab To manage your email subscriptions, visit: https://lab.dpdk.org/results/dashboard/preferences/subscriptions/