From mboxrd@z Thu Jan 1 00:00:00 1970 Return-Path: Received: from mails.dpdk.org (mails.dpdk.org [217.70.189.124]) by inbox.dpdk.org (Postfix) with ESMTP id 68BDA461BE for ; Fri, 7 Feb 2025 19:24:05 +0100 (CET) Received: from mails.dpdk.org (localhost [127.0.0.1]) by mails.dpdk.org (Postfix) with ESMTP id 6500442ED5; Fri, 7 Feb 2025 19:24:05 +0100 (CET) Received: from mail-pj1-f98.google.com (mail-pj1-f98.google.com [209.85.216.98]) by mails.dpdk.org (Postfix) with ESMTP id 893A042E90 for ; Fri, 7 Feb 2025 19:24:04 +0100 (CET) Received: by mail-pj1-f98.google.com with SMTP id 98e67ed59e1d1-2fa0c039d47so3307503a91.1 for ; Fri, 07 Feb 2025 10:24:04 -0800 (PST) DKIM-Signature: v=1; a=rsa-sha256; c=relaxed/relaxed; d=iol.unh.edu; s=unh-iol; t=1738952644; x=1739557444; darn=dpdk.org; h=references:in-reply-to:cc:to:from:subject:message-id:date:from:to :cc:subject:date:message-id:reply-to; bh=wRigwcnxKGJOOr2AGhlez7zXi1yl9IZe0s27LfNd1y4=; b=RBey+ONFRFu56jaLMNkGPej6SdGJ3ijViIWkuBeFGjZ4kcP1AWOSYPeKm41agmuHi0 HO++pa93qiawVMCBs7Qia/4X0Eo2FK/ViblWDdJM6aoPL93qzzsmP+tDtQM4VdjPwt1w xieEcs1uqK0fzEV81UjkliJdD2IegOlJ0mUKk= X-Google-DKIM-Signature: v=1; a=rsa-sha256; c=relaxed/relaxed; d=1e100.net; s=20230601; t=1738952644; x=1739557444; h=references:in-reply-to:cc:to:from:subject:message-id:date :x-gm-message-state:from:to:cc:subject:date:message-id:reply-to; bh=wRigwcnxKGJOOr2AGhlez7zXi1yl9IZe0s27LfNd1y4=; b=Dsl1yeFVhnzsukicYDF/rwgf9GmhM2tA5iuMSmZZ40/sjsn85Gy8g/qKcFE+n89DTs KSyYK3OMwiac3WBEAAsJNEhtuLcj5LkystbzjJC5jauuxBNDuTOHTirKhNB/DzKgE3ls iIN7DYYsyEiSqlCA+i3ZxLqGGWp4B49Ld7C+XTBlx4fYmcbKZQ+YEfoKjcjiOL1F5EdN GS+I9tsQ3WNoCbwjUxgDFtCz02R0bwxvCB1bsbDs8O5s8wDUGysBn8y00cGroAkEx+fx lw7i/FV5OWogCJ6b060YiSsafi+8Am6Kh4clZKSdRN+Z5YWTMtVoSq/cNUPlFW02txEJ 2a8w== X-Gm-Message-State: AOJu0YwiOo7oiSnUSNilHP2CGlLGQMvaXPMIwiVWqNDk/qWTHyDa/IL+ dIpcM66vsUC5iNZRNSGeLHvuy8FS566v49YdUmBV6q+z+iti/tlQOrrLI2564Cy2iOqy62enCk6 X6ABZZsn8CNcPIB7UjgOPHOVKQMGE4jn+Kao6iEoU X-Gm-Gg: ASbGncvS7vyUwjq/R3MxcEEUHTMgFh4DHbuQE9geXinODi0F4I72Tnrye00F0p2LtW1 gZyxGgPrXwPRW7ARUVuPRwtEiiPklpojuVDYsOp/+YdCbcic849VigDN8/8NrE9S9tnc5pJTMLS b5K3fgNpWJcIe8ZD3room7G9JgihwQMV8VQun/Le+QwbIOB056eP0Kck555TfA4oFD/zzmxCC12 wyemfK9cLboZpan6dmH80j3e3pkma+3DoxJl+AXAZtkB16jLXkg2Yd3s/YLE7/i8x6xIjHk70kM mZMUqdTOhuXtyXkiu9DD2xEQE8Z7UA== X-Google-Smtp-Source: AGHT+IGTXU99kgXC7T3emxj7N5SodAzUoV8s9egN+L1aIbGC2nM+zgCSoMOiVIgpPWUGJ6WPMshCc6pKF/la X-Received: by 2002:a17:90b:23d7:b0:2ea:3f34:f194 with SMTP id 98e67ed59e1d1-2fa24064ec3mr6622599a91.10.1738952643674; Fri, 07 Feb 2025 10:24:03 -0800 (PST) Received: from postal.iol.unh.edu (postal.iol.unh.edu. [132.177.123.84]) by smtp-relay.gmail.com with ESMTPS id 98e67ed59e1d1-2fa23eedb89sm159277a91.15.2025.02.07.10.24.03 (version=TLS1_2 cipher=ECDHE-ECDSA-AES128-GCM-SHA256 bits=128/128); Fri, 07 Feb 2025 10:24:03 -0800 (PST) X-Relaying-Domain: iol.unh.edu Date: Fri, 07 Feb 2025 10:24:03 -0800 (PST) Message-ID: <67a64fc3.170a0220.2c7a6f.787dSMTPIN_ADDED_MISSING@mx.google.com> Received: from [172.21.0.10] (unknown [172.18.0.240]) by postal.iol.unh.edu (Postfix) with ESMTP id DC3E86052472; Fri, 7 Feb 2025 13:23:32 -0500 (EST) Subject: |WARNING| pw149289-149303 [PATCH] [v4,15/15] net/zxdh: mtu update op From: dpdklab@iol.unh.edu To: Test Report Cc: dpdk-test-reports@iol.unh.edu In-Reply-To: <20241218092603.1218855-16-wang.junlong1@zte.com.cn> References: <20241218092603.1218855-16-wang.junlong1@zte.com.cn> Content-Type: text/plain X-BeenThere: test-report@dpdk.org X-Mailman-Version: 2.1.29 Precedence: list List-Id: automatic DPDK test reports List-Unsubscribe: , List-Archive: List-Post: List-Help: List-Subscribe: , Errors-To: test-report-bounces@dpdk.org Test-Label: iol-compile-amd64-testing Test-Status: WARNING http://dpdk.org/patch/149303 _Testing issues_ Submitter: Junlong Wang Date: Wednesday, December 18 2024 09:26:02 DPDK git baseline: Repo:dpdk Branch: master CommitID:78d0246a2e2fb14cba220d507192d12d2ce896ac 149289-149303 --> testing issues Test environment and result as below: +---------------------+--------------------+------------------+-------------------+-------------------+-------------------------+----------------------+ | Environment | dpdk_meson_compile | dpdk_compile_ovs | dpdk_compile_spdk | dpdk_msvc_compile | dpdk_llvm_clang_compile | dpdk_mingw64_compile | +=====================+====================+==================+===================+===================+=========================+======================+ | CentOS Stream 9 | PASS | PASS | PASS | SKIPPED | SKIPPED | SKIPPED | +---------------------+--------------------+------------------+-------------------+-------------------+-------------------------+----------------------+ | Fedora 39 | PASS | PASS | PASS | SKIPPED | SKIPPED | SKIPPED | +---------------------+--------------------+------------------+-------------------+-------------------+-------------------------+----------------------+ | Debian 12 | PASS | PASS | PASS | SKIPPED | SKIPPED | SKIPPED | +---------------------+--------------------+------------------+-------------------+-------------------+-------------------------+----------------------+ | Fedora 40 (Clang) | PASS | PASS | PASS | SKIPPED | SKIPPED | SKIPPED | +---------------------+--------------------+------------------+-------------------+-------------------+-------------------------+----------------------+ | openSUSE Leap 15 | PASS | WARN | SKIPPED | SKIPPED | SKIPPED | SKIPPED | +---------------------+--------------------+------------------+-------------------+-------------------+-------------------------+----------------------+ | Fedora 40 | PASS | PASS | PASS | SKIPPED | SKIPPED | SKIPPED | +---------------------+--------------------+------------------+-------------------+-------------------+-------------------------+----------------------+ | RHEL8 | PASS | PASS | SKIPPED | SKIPPED | SKIPPED | SKIPPED | +---------------------+--------------------+------------------+-------------------+-------------------+-------------------------+----------------------+ | RHEL9 | PASS | PASS | SKIPPED | SKIPPED | SKIPPED | SKIPPED | +---------------------+--------------------+------------------+-------------------+-------------------+-------------------------+----------------------+ | Ubuntu 20.04 | PASS | SKIPPED | SKIPPED | SKIPPED | SKIPPED | SKIPPED | +---------------------+--------------------+------------------+-------------------+-------------------+-------------------------+----------------------+ | Ubuntu 22.04 | PASS | PASS | PASS | SKIPPED | SKIPPED | SKIPPED | +---------------------+--------------------+------------------+-------------------+-------------------+-------------------------+----------------------+ | Ubuntu 24.04 | PASS | PASS | PASS | SKIPPED | SKIPPED | SKIPPED | +---------------------+--------------------+------------------+-------------------+-------------------+-------------------------+----------------------+ | FreeBSD 13.4 | PASS | SKIPPED | SKIPPED | SKIPPED | SKIPPED | SKIPPED | +---------------------+--------------------+------------------+-------------------+-------------------+-------------------------+----------------------+ | FreeBSD 14.2 | PASS | SKIPPED | SKIPPED | SKIPPED | SKIPPED | SKIPPED | +---------------------+--------------------+------------------+-------------------+-------------------+-------------------------+----------------------+ | Fedora 39 (Clang) | PASS | PASS | PASS | SKIPPED | SKIPPED | SKIPPED | +---------------------+--------------------+------------------+-------------------+-------------------+-------------------------+----------------------+ | Alpine | PASS | PASS | SKIPPED | SKIPPED | SKIPPED | SKIPPED | +---------------------+--------------------+------------------+-------------------+-------------------+-------------------------+----------------------+ | Windows Server 2022 | SKIPPED | SKIPPED | SKIPPED | PASS | PASS | PASS | +---------------------+--------------------+------------------+-------------------+-------------------+-------------------------+----------------------+ ==== 20 line log output for openSUSE Leap 15 (dpdk_compile_ovs): ==== --- Failed to get log output --- ==== End log output ==== CentOS Stream 9 Kernel: Depends on container host Compiler: gcc 11.5.0 20240719 (Red Hat 11.5.0-2) Fedora 39 Kernel: Depends on container host Compiler: gcc 13.3.1 20240522 (Red Hat 13.3.1-1) Debian 12 Kernel: Depends on container host Compiler: gcc (Debian 12.2.0-14) 12.2.0 Fedora 40 (Clang) Kernel: Depends on container host Compiler: clang 18.1.8 (Fedora 18.1.8-1.fc40) openSUSE Leap 15 Kernel: Depends on container host Compiler: gcc (SUSE Linux) 7.5.0 Fedora 40 Kernel: Depends on container host Compiler: gcc 14.2.1 20240912 (Red Hat 14.2.1-3) RHEL8 Kernel: Depends on container host Compiler: gcc 8.5.0 20210514 (Red Hat 8.5.0-22) RHEL9 Kernel: Depends on container host Compiler: gcc 11.5.0 20240719 (Red Hat 11.5.0-2) Ubuntu 20.04 Kernel: Depends on container host Compiler: gcc (Ubuntu 9.4.0-1ubuntu1~20.04.2) 9.4.0 Ubuntu 22.04 Kernel: Depends on container host Compiler: gcc (Ubuntu 11.4.0-1ubuntu1~22.04) 11.4.0 Ubuntu 24.04 Kernel: Depends on container host Compiler: gcc (Ubuntu 13.3.0-6ubuntu2~24.04) 13.3.0 FreeBSD 13.4 Kernel: 13.4-RELEASE-p1 Compiler: clang 18.1.6 FreeBSD 14.2 Kernel: 14.2-RELEASE Compiler: clang 18.1.6 Fedora 39 (Clang) Kernel: Depends on container host Compiler: clang 17.0.6 (Fedora 17.0.6-2.fc39) Alpine Kernel: Depends on container host Compiler: gcc (Alpine 14.2.0) 14.2.0 Windows Server 2022 Kernel: 10.0.20348.2031 Compiler: clang 15.0.7, gcc 14.1.0 (MinGW), and MSVC VS 19.39.33521 To view detailed results, visit: https://lab.dpdk.org/results/dashboard/patchsets/32158/ UNH-IOL DPDK Community Lab To manage your email subscriptions, visit: https://lab.dpdk.org/results/dashboard/preferences/subscriptions/