From mboxrd@z Thu Jan 1 00:00:00 1970 Return-Path: Received: from mails.dpdk.org (mails.dpdk.org [217.70.189.124]) by inbox.dpdk.org (Postfix) with ESMTP id 876E1461BE for ; Fri, 7 Feb 2025 19:24:41 +0100 (CET) Received: from mails.dpdk.org (localhost [127.0.0.1]) by mails.dpdk.org (Postfix) with ESMTP id 840D842ED5; Fri, 7 Feb 2025 19:24:41 +0100 (CET) Received: from mail-qv1-f98.google.com (mail-qv1-f98.google.com [209.85.219.98]) by mails.dpdk.org (Postfix) with ESMTP id E096B42E90 for ; Fri, 7 Feb 2025 19:24:39 +0100 (CET) Received: by mail-qv1-f98.google.com with SMTP id 6a1803df08f44-6e4487fce51so4250576d6.0 for ; Fri, 07 Feb 2025 10:24:39 -0800 (PST) DKIM-Signature: v=1; a=rsa-sha256; c=relaxed/relaxed; d=iol.unh.edu; s=unh-iol; t=1738952679; x=1739557479; darn=dpdk.org; h=cc:to:from:subject:message-id:date:from:to:cc:subject:date :message-id:reply-to; bh=DU/l9v/gaaxPPMdrOw/Rzvu4rGHJzBay4AVmqFAVsQM=; b=aZtRXj/g9R7TFlyFDpG/DbASnN6rJ8TIGlX7Zg+Uz8m/7wwlgdDP9UJfKOTOCCSNy5 zv7cRmqx6eXf1t8IzfmDuou/8aLSRzluzq9hL3vV1pdAMlfVemr7dY18J2+RJ3HeJGOB 0k9HY8N0R6JWFmKWt0U/CaJ9/jRSkwcaCp1as= X-Google-DKIM-Signature: v=1; a=rsa-sha256; c=relaxed/relaxed; d=1e100.net; s=20230601; t=1738952679; x=1739557479; h=cc:to:from:subject:message-id:date:x-gm-message-state:from:to:cc :subject:date:message-id:reply-to; bh=DU/l9v/gaaxPPMdrOw/Rzvu4rGHJzBay4AVmqFAVsQM=; b=geJjIId1QsInbFlkGyi8Op8xGOkUZPVKtk/uI99nRflFfkaMOSu80OBU1bE6xP4EuI OR/vOmN+u+BFACc8dAQ2XuxmPj87ZiP8W/CLgkpubYiPQsx+bFaaACxnL7zXcChle99R JkMqLB6wNIW1V3ENbkn5NvvEUPRtOkcd/R5CFgkN/06HOcUssvjOQInxvm9+4To7IHv7 tlIGQ2AmE3C/Qkm930pMRCogx/feuPHTSA0oWOY52OPndfnoWH/UcJJdKbEMnu3MLmiK jBsrNhoVVPthGnGA2dN0xsvVBzrCijxBymK5k6tyIFfXq4E1V0M0uVn/u5WWwRj/3HF0 GLiA== X-Gm-Message-State: AOJu0YxDS7mPYr3FDNifnPNKhEPiFt5EZVEC+HZjWQ1ysq1XHtWAVIyi OD2JGmpale+0up5X6cID8ftipBvZJdQp6IMWBPnHvD519KP1b6nGlKgvGKBWs9bw+2xUUbLLVXB Zc7SzvzVibnCuSDJ658J0UYC/mNCuqjIrczFJKsNK X-Gm-Gg: ASbGncsKXHIxOqbNyEdLWWEVDhXUpxbmCMjIWdRaD7SKiLfsNAR/MqqjHQ/rPk6kXsZ 1BYpvSV8TP62PhIjZabFN0iYYpBXxP2jth4yL53x/PyviucTb7PpyZH8O97GRSiYHZCi8pqNHX6 5LkpWhfb8VXuKwq5YNo8ZfO0yHhHgNn4ya+UQ0N5It8OwKxJ6jZ5wFYa2lAig8AFZ9q/3VDR8lo fL3SnuEgJQn+VGZnvCsfgLZGVyMqTJnIOG4KujOhCfOqRINPhI6/y6lrHF6xUSu4AEKSa91QMAi M9hn8bR9OjHoajZgRsRxsypky04dHA== X-Google-Smtp-Source: AGHT+IFtQvhIKk3Cqyxz1wvBEXgMHITHfG1SovcTOg4x4HmMpEgbHkc4EtZcqT4pB6igQ+GL/gZCjaTIpJor X-Received: by 2002:a05:6214:240f:b0:6e4:42bb:5ee0 with SMTP id 6a1803df08f44-6e4456bddd0mr68208156d6.28.1738952679336; Fri, 07 Feb 2025 10:24:39 -0800 (PST) Received: from postal.iol.unh.edu (postal.iol.unh.edu. [132.177.123.84]) by smtp-relay.gmail.com with ESMTPS id 6a1803df08f44-6e43baf05cfsm2343876d6.48.2025.02.07.10.24.39 (version=TLS1_2 cipher=ECDHE-ECDSA-AES128-GCM-SHA256 bits=128/128); Fri, 07 Feb 2025 10:24:39 -0800 (PST) X-Relaying-Domain: iol.unh.edu Date: Fri, 07 Feb 2025 10:24:39 -0800 (PST) Message-ID: <67a64fe7.050a0220.1b4832.c3b4SMTPIN_ADDED_MISSING@mx.google.com> Received: from [172.21.0.5] (unknown [172.18.0.240]) by postal.iol.unh.edu (Postfix) with ESMTP id 0C9E46052472; Fri, 7 Feb 2025 13:24:39 -0500 (EST) Subject: |WARNING| [GIT MASTER] 78d0246a2e2fb14cba220d507192d12d2ce896ac From: dpdklab@iol.unh.edu To: Test Report Cc: dpdk-test-reports@iol.unh.edu, Stephen Hemminger Content-Type: text/plain X-BeenThere: test-report@dpdk.org X-Mailman-Version: 2.1.29 Precedence: list List-Id: automatic DPDK test reports List-Unsubscribe: , List-Archive: List-Post: List-Help: List-Subscribe: , Errors-To: test-report-bounces@dpdk.org _Testing issues_ Branch: dpdk-next-net 78d0246a2e2fb14cba220d507192d12d2ce896ac --> testing issues Test environment and result as below: +---------------------+--------------------+------------------+-------------------+-------------------+-------------------------+----------------------+ | Environment | dpdk_meson_compile | dpdk_compile_ovs | dpdk_compile_spdk | dpdk_msvc_compile | dpdk_llvm_clang_compile | dpdk_mingw64_compile | +=====================+====================+==================+===================+===================+=========================+======================+ | Fedora 39 | PASS | PASS | PASS | SKIPPED | SKIPPED | SKIPPED | +---------------------+--------------------+------------------+-------------------+-------------------+-------------------------+----------------------+ | Fedora 39 (Clang) | PASS | PASS | PASS | SKIPPED | SKIPPED | SKIPPED | +---------------------+--------------------+------------------+-------------------+-------------------+-------------------------+----------------------+ | Fedora 40 (Clang) | PASS | PASS | PASS | SKIPPED | SKIPPED | SKIPPED | +---------------------+--------------------+------------------+-------------------+-------------------+-------------------------+----------------------+ | openSUSE Leap 15 | PASS | WARN | SKIPPED | SKIPPED | SKIPPED | SKIPPED | +---------------------+--------------------+------------------+-------------------+-------------------+-------------------------+----------------------+ | Ubuntu 20.04 | PASS | SKIPPED | SKIPPED | SKIPPED | SKIPPED | SKIPPED | +---------------------+--------------------+------------------+-------------------+-------------------+-------------------------+----------------------+ | Debian 12 | PASS | PASS | PASS | SKIPPED | SKIPPED | SKIPPED | +---------------------+--------------------+------------------+-------------------+-------------------+-------------------------+----------------------+ | CentOS Stream 9 | PASS | PASS | PASS | SKIPPED | SKIPPED | SKIPPED | +---------------------+--------------------+------------------+-------------------+-------------------+-------------------------+----------------------+ | Fedora 40 | PASS | PASS | PASS | SKIPPED | SKIPPED | SKIPPED | +---------------------+--------------------+------------------+-------------------+-------------------+-------------------------+----------------------+ | FreeBSD 13.4 | PASS | SKIPPED | SKIPPED | SKIPPED | SKIPPED | SKIPPED | +---------------------+--------------------+------------------+-------------------+-------------------+-------------------------+----------------------+ | Alpine | PASS | PASS | SKIPPED | SKIPPED | SKIPPED | SKIPPED | +---------------------+--------------------+------------------+-------------------+-------------------+-------------------------+----------------------+ | Ubuntu 22.04 | PASS | PASS | PASS | SKIPPED | SKIPPED | SKIPPED | +---------------------+--------------------+------------------+-------------------+-------------------+-------------------------+----------------------+ | Ubuntu 24.04 | PASS | PASS | PASS | SKIPPED | SKIPPED | SKIPPED | +---------------------+--------------------+------------------+-------------------+-------------------+-------------------------+----------------------+ | RHEL9 | PASS | PASS | SKIPPED | SKIPPED | SKIPPED | SKIPPED | +---------------------+--------------------+------------------+-------------------+-------------------+-------------------------+----------------------+ | RHEL8 | PASS | PASS | SKIPPED | SKIPPED | SKIPPED | SKIPPED | +---------------------+--------------------+------------------+-------------------+-------------------+-------------------------+----------------------+ | Windows Server 2022 | SKIPPED | SKIPPED | SKIPPED | PASS | PASS | PASS | +---------------------+--------------------+------------------+-------------------+-------------------+-------------------------+----------------------+ ==== 20 line log output for openSUSE Leap 15 (dpdk_compile_ovs): ==== --- Failed to get log output --- ==== End log output ==== Fedora 39 Kernel: Depends on container host Compiler: gcc 13.3.1 20240522 (Red Hat 13.3.1-1) Fedora 39 (Clang) Kernel: Depends on container host Compiler: clang 17.0.6 (Fedora 17.0.6-2.fc39) Fedora 40 (Clang) Kernel: Depends on container host Compiler: clang 18.1.8 (Fedora 18.1.8-1.fc40) openSUSE Leap 15 Kernel: Depends on container host Compiler: gcc (SUSE Linux) 7.5.0 Ubuntu 20.04 Kernel: Depends on container host Compiler: gcc (Ubuntu 9.4.0-1ubuntu1~20.04.2) 9.4.0 Debian 12 Kernel: Depends on container host Compiler: gcc (Debian 12.2.0-14) 12.2.0 CentOS Stream 9 Kernel: Depends on container host Compiler: gcc 11.5.0 20240719 (Red Hat 11.5.0-2) Fedora 40 Kernel: Depends on container host Compiler: gcc 14.2.1 20240912 (Red Hat 14.2.1-3) FreeBSD 13.4 Kernel: 13.4-RELEASE-p1 Compiler: clang 18.1.6 Alpine Kernel: Depends on container host Compiler: gcc (Alpine 14.2.0) 14.2.0 Ubuntu 22.04 Kernel: Depends on container host Compiler: gcc (Ubuntu 11.4.0-1ubuntu1~22.04) 11.4.0 Ubuntu 24.04 Kernel: Depends on container host Compiler: gcc (Ubuntu 13.3.0-6ubuntu2~24.04) 13.3.0 RHEL9 Kernel: Depends on container host Compiler: gcc 11.5.0 20240719 (Red Hat 11.5.0-2) RHEL8 Kernel: Depends on container host Compiler: gcc 8.5.0 20210514 (Red Hat 8.5.0-22) Windows Server 2022 Kernel: 10.0.20348.2031 Compiler: clang 15.0.7, gcc 14.1.0 (MinGW), and MSVC VS 19.39.33521 To view detailed results, visit: https://lab.dpdk.org/results/dashboard/tarballs/31957/ UNH-IOL DPDK Community Lab To manage your email subscriptions, visit: https://lab.dpdk.org/results/dashboard/preferences/subscriptions/