From mboxrd@z Thu Jan 1 00:00:00 1970 Return-Path: Received: from mails.dpdk.org (mails.dpdk.org [217.70.189.124]) by inbox.dpdk.org (Postfix) with ESMTP id 98850461BE for ; Fri, 7 Feb 2025 19:24:45 +0100 (CET) Received: from mails.dpdk.org (localhost [127.0.0.1]) by mails.dpdk.org (Postfix) with ESMTP id 9562A42ED5; Fri, 7 Feb 2025 19:24:45 +0100 (CET) Received: from mail-pj1-f98.google.com (mail-pj1-f98.google.com [209.85.216.98]) by mails.dpdk.org (Postfix) with ESMTP id BB4C942E90 for ; Fri, 7 Feb 2025 19:24:44 +0100 (CET) Received: by mail-pj1-f98.google.com with SMTP id 98e67ed59e1d1-2f9d627b5fbso4312101a91.2 for ; Fri, 07 Feb 2025 10:24:44 -0800 (PST) DKIM-Signature: v=1; a=rsa-sha256; c=relaxed/relaxed; d=iol.unh.edu; s=unh-iol; t=1738952684; x=1739557484; darn=dpdk.org; h=references:in-reply-to:cc:to:from:subject:message-id:date:from:to :cc:subject:date:message-id:reply-to; bh=+D8ihbUcOY/+u2tmt/SjQkrOK/fZ3dVEIBpdeNhOm+k=; b=PjrBUHguGpkEnGu618KvbidAzNTiep2htR0UGJPNYbUKnzQxvt8AZxJp8X3w9gpyxC 79zWlkR6GVFR5r/Jjfok9wNfvkxvi1u8eha5pXaXkATX8VqNpfk4sYlJ4Mn9Rbmonn26 RBLJqicPjpQUBN4QkULaoFW+BAaqnx8FStIqA= X-Google-DKIM-Signature: v=1; a=rsa-sha256; c=relaxed/relaxed; d=1e100.net; s=20230601; t=1738952684; x=1739557484; h=references:in-reply-to:cc:to:from:subject:message-id:date :x-gm-message-state:from:to:cc:subject:date:message-id:reply-to; bh=+D8ihbUcOY/+u2tmt/SjQkrOK/fZ3dVEIBpdeNhOm+k=; b=IyCpMQlvbarH6PX0Q8vytK8Weemq7HAdTfTcWX4AbvLpoT/rwJ2G2pPgNKJpn37qAu Ilx+VzFmOH2X8OheqbVKTS+7Fd1KUlUKiX+RXQNJ47QxIYtkY8HNjN/VCWeKKXbZ2aY3 yLY+9btbruzpJy2T9pfPMY7wXj/0riBRO+/rNfedj2An1tKT+BoP0m++NhXSXtuv92z7 VIJk4upvLbyfh4TErrlzreZNkvkQaJHrGP6luNO2VSGjjueYaPFhkjz56TBbHCsvyiST WaSNLQAdYZyuI85EobW+7bec4NHEdijm3dowo7FovA2BnsCskQHpTaaLQ49ukV/YpT4o AT1w== X-Gm-Message-State: AOJu0YyJGK5LS7/ANFtrai5YABCDHT3kMxso6UjacvxLM5zp+D0xjeq7 29xwwcqVqqIiuAUG5voHjGkamzjdh2lx6UBZM31bm+S3yRdUAa8+ksnpIn8z7EGVqL515IA4+vT XG7AQw30R4UKQo5RP04kIs/kJ3FR6AL2J7NuMzRcq X-Gm-Gg: ASbGncu0yleOMIlasjd2z+jphbnlveb3SijabNm8e4WHoX0Xr3L5w+X7gNDFoM9iKBC t4kcYdrN0j38MHUK29VJJ170rRk86u3ZA2knjegWFgeGu5d3jlKRz5/qIrMPJpJ7v2285rbNbE7 pZcuuW96CDF+0/WfxKdssBnA0yRSawzNM5J1he0F+VQwCxBYx/slBv0p4DJ/OY7D1CNIdwyyzKV visJjKoM3IbAMRpPGFSdkddP8tDwXM3ejJ722Ro3pLw77wUqP3gQ8ofzjXihmDNxK2wDhlVwnMn MLt3BUTxFw3wcyiIO6paCUdQvSj6wQ== X-Google-Smtp-Source: AGHT+IGdJ6HpJv+CrC4E4KlgIywfE2uqWbfAcKdbBmDH6qH3DUEUMUZZgWjeX/cOFInekNTL99J21Dvj9ntd X-Received: by 2002:a17:90b:4a47:b0:2ee:fdf3:390d with SMTP id 98e67ed59e1d1-2fa243fc63bmr5529146a91.31.1738952683973; Fri, 07 Feb 2025 10:24:43 -0800 (PST) Received: from postal.iol.unh.edu (postal.iol.unh.edu. [132.177.123.84]) by smtp-relay.gmail.com with ESMTPS id d9443c01a7336-21f3653bab3sm2080245ad.36.2025.02.07.10.24.43 (version=TLS1_2 cipher=ECDHE-ECDSA-AES128-GCM-SHA256 bits=128/128); Fri, 07 Feb 2025 10:24:43 -0800 (PST) X-Relaying-Domain: iol.unh.edu Date: Fri, 07 Feb 2025 10:24:43 -0800 (PST) Message-ID: <67a64feb.170a0220.2a91d5.adbeSMTPIN_ADDED_MISSING@mx.google.com> Received: from [172.21.0.7] (unknown [172.18.0.240]) by postal.iol.unh.edu (Postfix) with ESMTP id 315DD6052477; Fri, 7 Feb 2025 13:24:43 -0500 (EST) Subject: |WARNING| pw149286 [PATCH] net/nfp: unify the queue threshold value From: dpdklab@iol.unh.edu To: Test Report Cc: dpdk-test-reports@iol.unh.edu In-Reply-To: <20241218061745.1696899-1-chaoyong.he@corigine.com> References: <20241218061745.1696899-1-chaoyong.he@corigine.com> Content-Type: text/plain X-BeenThere: test-report@dpdk.org X-Mailman-Version: 2.1.29 Precedence: list List-Id: automatic DPDK test reports List-Unsubscribe: , List-Archive: List-Post: List-Help: List-Subscribe: , Errors-To: test-report-bounces@dpdk.org Test-Label: iol-compile-amd64-testing Test-Status: WARNING http://dpdk.org/patch/149286 _Testing issues_ Submitter: Chaoyong He Date: Wednesday, December 18 2024 06:17:45 DPDK git baseline: Repo:dpdk Branch: master CommitID:78d0246a2e2fb14cba220d507192d12d2ce896ac 149286 --> testing issues Test environment and result as below: +---------------------+--------------------+------------------+-------------------+-------------------+-------------------------+----------------------+ | Environment | dpdk_meson_compile | dpdk_compile_ovs | dpdk_compile_spdk | dpdk_msvc_compile | dpdk_llvm_clang_compile | dpdk_mingw64_compile | +=====================+====================+==================+===================+===================+=========================+======================+ | Fedora 39 (Clang) | PASS | PASS | PASS | SKIPPED | SKIPPED | SKIPPED | +---------------------+--------------------+------------------+-------------------+-------------------+-------------------------+----------------------+ | CentOS Stream 9 | PASS | PASS | PASS | SKIPPED | SKIPPED | SKIPPED | +---------------------+--------------------+------------------+-------------------+-------------------+-------------------------+----------------------+ | Fedora 39 | PASS | PASS | PASS | SKIPPED | SKIPPED | SKIPPED | +---------------------+--------------------+------------------+-------------------+-------------------+-------------------------+----------------------+ | Fedora 40 (Clang) | PASS | PASS | PASS | SKIPPED | SKIPPED | SKIPPED | +---------------------+--------------------+------------------+-------------------+-------------------+-------------------------+----------------------+ | openSUSE Leap 15 | PASS | WARN | SKIPPED | SKIPPED | SKIPPED | SKIPPED | +---------------------+--------------------+------------------+-------------------+-------------------+-------------------------+----------------------+ | RHEL8 | PASS | PASS | SKIPPED | SKIPPED | SKIPPED | SKIPPED | +---------------------+--------------------+------------------+-------------------+-------------------+-------------------------+----------------------+ | RHEL9 | PASS | PASS | SKIPPED | SKIPPED | SKIPPED | SKIPPED | +---------------------+--------------------+------------------+-------------------+-------------------+-------------------------+----------------------+ | Ubuntu 24.04 | PASS | PASS | PASS | SKIPPED | SKIPPED | SKIPPED | +---------------------+--------------------+------------------+-------------------+-------------------+-------------------------+----------------------+ | FreeBSD 14.2 | PASS | SKIPPED | SKIPPED | SKIPPED | SKIPPED | SKIPPED | +---------------------+--------------------+------------------+-------------------+-------------------+-------------------------+----------------------+ | Ubuntu 22.04 | PASS | PASS | PASS | SKIPPED | SKIPPED | SKIPPED | +---------------------+--------------------+------------------+-------------------+-------------------+-------------------------+----------------------+ | Alpine | PASS | PASS | SKIPPED | SKIPPED | SKIPPED | SKIPPED | +---------------------+--------------------+------------------+-------------------+-------------------+-------------------------+----------------------+ | FreeBSD 13.4 | PASS | SKIPPED | SKIPPED | SKIPPED | SKIPPED | SKIPPED | +---------------------+--------------------+------------------+-------------------+-------------------+-------------------------+----------------------+ | Ubuntu 20.04 | PASS | SKIPPED | SKIPPED | SKIPPED | SKIPPED | SKIPPED | +---------------------+--------------------+------------------+-------------------+-------------------+-------------------------+----------------------+ | Fedora 40 | PASS | PASS | PASS | SKIPPED | SKIPPED | SKIPPED | +---------------------+--------------------+------------------+-------------------+-------------------+-------------------------+----------------------+ | Debian 12 | PASS | PASS | PASS | SKIPPED | SKIPPED | SKIPPED | +---------------------+--------------------+------------------+-------------------+-------------------+-------------------------+----------------------+ | Windows Server 2022 | SKIPPED | SKIPPED | SKIPPED | PASS | PASS | PASS | +---------------------+--------------------+------------------+-------------------+-------------------+-------------------------+----------------------+ ==== 20 line log output for openSUSE Leap 15 (dpdk_compile_ovs): ==== --- Failed to get log output --- ==== End log output ==== Fedora 39 (Clang) Kernel: Depends on container host Compiler: clang 17.0.6 (Fedora 17.0.6-2.fc39) CentOS Stream 9 Kernel: Depends on container host Compiler: gcc 11.5.0 20240719 (Red Hat 11.5.0-2) Fedora 39 Kernel: Depends on container host Compiler: gcc 13.3.1 20240522 (Red Hat 13.3.1-1) Fedora 40 (Clang) Kernel: Depends on container host Compiler: clang 18.1.8 (Fedora 18.1.8-1.fc40) openSUSE Leap 15 Kernel: Depends on container host Compiler: gcc (SUSE Linux) 7.5.0 RHEL8 Kernel: Depends on container host Compiler: gcc 8.5.0 20210514 (Red Hat 8.5.0-22) RHEL9 Kernel: Depends on container host Compiler: gcc 11.5.0 20240719 (Red Hat 11.5.0-2) Ubuntu 24.04 Kernel: Depends on container host Compiler: gcc (Ubuntu 13.3.0-6ubuntu2~24.04) 13.3.0 FreeBSD 14.2 Kernel: 14.2-RELEASE Compiler: clang 18.1.6 Ubuntu 22.04 Kernel: Depends on container host Compiler: gcc (Ubuntu 11.4.0-1ubuntu1~22.04) 11.4.0 Alpine Kernel: Depends on container host Compiler: gcc (Alpine 14.2.0) 14.2.0 FreeBSD 13.4 Kernel: 13.4-RELEASE-p1 Compiler: clang 18.1.6 Ubuntu 20.04 Kernel: Depends on container host Compiler: gcc (Ubuntu 9.4.0-1ubuntu1~20.04.2) 9.4.0 Fedora 40 Kernel: Depends on container host Compiler: gcc 14.2.1 20240912 (Red Hat 14.2.1-3) Debian 12 Kernel: Depends on container host Compiler: gcc (Debian 12.2.0-14) 12.2.0 Windows Server 2022 Kernel: 10.0.20348.2031 Compiler: clang 15.0.7, gcc 14.1.0 (MinGW), and MSVC VS 19.39.33521 To view detailed results, visit: https://lab.dpdk.org/results/dashboard/patchsets/32155/ UNH-IOL DPDK Community Lab To manage your email subscriptions, visit: https://lab.dpdk.org/results/dashboard/preferences/subscriptions/