From mboxrd@z Thu Jan 1 00:00:00 1970 Return-Path: Received: from mails.dpdk.org (mails.dpdk.org [217.70.189.124]) by inbox.dpdk.org (Postfix) with ESMTP id 0C8E7461BE for ; Fri, 7 Feb 2025 19:25:10 +0100 (CET) Received: from mails.dpdk.org (localhost [127.0.0.1]) by mails.dpdk.org (Postfix) with ESMTP id 091A242EE9; Fri, 7 Feb 2025 19:25:10 +0100 (CET) Received: from mail-pl1-f225.google.com (mail-pl1-f225.google.com [209.85.214.225]) by mails.dpdk.org (Postfix) with ESMTP id 051CE42EE9 for ; Fri, 7 Feb 2025 19:25:09 +0100 (CET) Received: by mail-pl1-f225.google.com with SMTP id d9443c01a7336-21f2cfd821eso44623035ad.3 for ; Fri, 07 Feb 2025 10:25:08 -0800 (PST) DKIM-Signature: v=1; a=rsa-sha256; c=relaxed/relaxed; d=iol.unh.edu; s=unh-iol; t=1738952708; x=1739557508; darn=dpdk.org; h=cc:to:from:subject:message-id:date:from:to:cc:subject:date :message-id:reply-to; bh=m354p4v7tAhoCN9zupbfGFwsk5DZnek2duIAI5/lRYk=; b=OXmwvmTfI7XNogj/tosUk8esLV4sVyNG1+FgUh67XKf14w1RdMiDwTDdukubvO58qO wndrlGtVGMLxM6PO523mH19qhscp6SVE9eWaK3IK7W2ANphOdAJvQT49HzmqP5fAYCQD IO47gFmdE6NL+xddxFaLvEBXREDtWvXnCKD2g= X-Google-DKIM-Signature: v=1; a=rsa-sha256; c=relaxed/relaxed; d=1e100.net; s=20230601; t=1738952708; x=1739557508; h=cc:to:from:subject:message-id:date:x-gm-message-state:from:to:cc :subject:date:message-id:reply-to; bh=m354p4v7tAhoCN9zupbfGFwsk5DZnek2duIAI5/lRYk=; b=f7cw8tstxFvtvXXhMyam4L5fhtpBE1bMad5HhIadWm23lts69PpDGbc8YAMclo/RAR LL+yYaqSaO/iFF+h2wmC0VVRlwUrrV3L0mAbu5XYFtpIswEO/OpVRanVjnGmyK3Sam6p pxhvO60SE5N4osLkm6Alx4TCnA5hiThUM5giC6nxTvPzb0PsuzQH4ZmuGJbP6y/F6/yz cCCqGGgMbDo2N5fMURfZyXV9qN7Mvo2qXm8fCk0aHILksLJD7sxV8+PNAL0jHhiMUJho 2vEYr2PufEwYI8yQWmvJXRkcWebEfA/qAjQZFspSfOXj+8u3Gwpgomw8qlS/Maa5ChED htOg== X-Gm-Message-State: AOJu0YwsqlF//eqhLtUNjwg8IFGqsCjiHc93oBmxWegVl5YjkZ7m9mdN xygAK71JACkSxxew/5/uAGTdHew4O09HNIStDd7wmOLSzr0JPVvmsKnw77BJQDEfs7IL+NYva6Z WUv37Ij6I5TH+LubTTOg8iwxgTe20KmWc3hAJGHV4 X-Gm-Gg: ASbGnctuAiFBKgY7VVPv59IIbsUBRgrgifP9n6laZSTaqB6vk4FD7w05B1NXPcqoDa1 AZkiNW1dlcjkzQW9lCyZSj/Lfyc68/3/B7J6hYO7VRnoyNVlrQmyG4wmZwJegajD0MWlliFqZWD nkdbUCTmymqi+jX4wgUVbtH1eJ/B4FMxWcKbz6DSeHRnf4EmOVvdhSmWHMEVz6aBqseXYiKWM0y 1oRYbqcPwPfT8+nwqiBYCIv9kEyaF4nRaCS3pzidzgGjyEQmIKeZotRDqkpigxsPNRl7hjjxUho u1QV9lzLeq24nR9guiIkV91m9h/kgg== X-Google-Smtp-Source: AGHT+IE+D7t96AhLQy95ee9YoFHD/dWM7WDsW4MsPUT7BCCPrIVQseY7DUoLo7kwyxLqX+MRB2zAmLLKVsQh X-Received: by 2002:a17:903:32c7:b0:21c:1140:136c with SMTP id d9443c01a7336-21f4e6a5851mr67931555ad.3.1738952708182; Fri, 07 Feb 2025 10:25:08 -0800 (PST) Received: from postal.iol.unh.edu (postal.iol.unh.edu. [132.177.123.84]) by smtp-relay.gmail.com with ESMTPS id d9443c01a7336-21f365517d3sm2132435ad.45.2025.02.07.10.25.08 (version=TLS1_2 cipher=ECDHE-ECDSA-AES128-GCM-SHA256 bits=128/128); Fri, 07 Feb 2025 10:25:08 -0800 (PST) X-Relaying-Domain: iol.unh.edu Date: Fri, 07 Feb 2025 10:25:08 -0800 (PST) Message-ID: <67a65004.170a0220.181dd4.b8b1SMTPIN_ADDED_MISSING@mx.google.com> Received: from [172.21.0.10] (unknown [172.18.0.240]) by postal.iol.unh.edu (Postfix) with ESMTP id 573A86052471; Fri, 7 Feb 2025 13:24:37 -0500 (EST) Subject: |WARNING| [GIT MASTER] 4dc4e33ffa108e945fc8a1e2bbc7819791faa61e From: dpdklab@iol.unh.edu To: Test Report Cc: dpdk-test-reports@iol.unh.edu Content-Type: text/plain X-BeenThere: test-report@dpdk.org X-Mailman-Version: 2.1.29 Precedence: list List-Id: automatic DPDK test reports List-Unsubscribe: , List-Archive: List-Post: List-Help: List-Subscribe: , Errors-To: test-report-bounces@dpdk.org _Testing issues_ Branch: dpdk 4dc4e33ffa108e945fc8a1e2bbc7819791faa61e --> testing issues Test environment and result as below: +---------------------+--------------------+------------------+-------------------+-------------------+-------------------------+----------------------+ | Environment | dpdk_meson_compile | dpdk_compile_ovs | dpdk_compile_spdk | dpdk_msvc_compile | dpdk_llvm_clang_compile | dpdk_mingw64_compile | +=====================+====================+==================+===================+===================+=========================+======================+ | CentOS Stream 9 | PASS | PASS | PASS | SKIPPED | SKIPPED | SKIPPED | +---------------------+--------------------+------------------+-------------------+-------------------+-------------------------+----------------------+ | Fedora 40 | PASS | PASS | PASS | SKIPPED | SKIPPED | SKIPPED | +---------------------+--------------------+------------------+-------------------+-------------------+-------------------------+----------------------+ | Fedora 40 (Clang) | PASS | PASS | PASS | SKIPPED | SKIPPED | SKIPPED | +---------------------+--------------------+------------------+-------------------+-------------------+-------------------------+----------------------+ | openSUSE Leap 15 | PASS | WARN | SKIPPED | SKIPPED | SKIPPED | SKIPPED | +---------------------+--------------------+------------------+-------------------+-------------------+-------------------------+----------------------+ | RHEL8 | PASS | PASS | SKIPPED | SKIPPED | SKIPPED | SKIPPED | +---------------------+--------------------+------------------+-------------------+-------------------+-------------------------+----------------------+ | RHEL9 | PASS | PASS | SKIPPED | SKIPPED | SKIPPED | SKIPPED | +---------------------+--------------------+------------------+-------------------+-------------------+-------------------------+----------------------+ | Ubuntu 20.04 | PASS | SKIPPED | SKIPPED | SKIPPED | SKIPPED | SKIPPED | +---------------------+--------------------+------------------+-------------------+-------------------+-------------------------+----------------------+ | Ubuntu 24.04 | PASS | PASS | PASS | SKIPPED | SKIPPED | SKIPPED | +---------------------+--------------------+------------------+-------------------+-------------------+-------------------------+----------------------+ | Alpine | PASS | PASS | SKIPPED | SKIPPED | SKIPPED | SKIPPED | +---------------------+--------------------+------------------+-------------------+-------------------+-------------------------+----------------------+ | Arch Linux | PASS | PASS | SKIPPED | SKIPPED | SKIPPED | SKIPPED | +---------------------+--------------------+------------------+-------------------+-------------------+-------------------------+----------------------+ | FreeBSD 14.2 | PASS | SKIPPED | SKIPPED | SKIPPED | SKIPPED | SKIPPED | +---------------------+--------------------+------------------+-------------------+-------------------+-------------------------+----------------------+ | Debian 12 | PASS | PASS | PASS | SKIPPED | SKIPPED | SKIPPED | +---------------------+--------------------+------------------+-------------------+-------------------+-------------------------+----------------------+ | Fedora 39 | PASS | PASS | PASS | SKIPPED | SKIPPED | SKIPPED | +---------------------+--------------------+------------------+-------------------+-------------------+-------------------------+----------------------+ | Ubuntu 22.04 | PASS | PASS | PASS | SKIPPED | SKIPPED | SKIPPED | +---------------------+--------------------+------------------+-------------------+-------------------+-------------------------+----------------------+ | FreeBSD 13.4 | PASS | SKIPPED | SKIPPED | SKIPPED | SKIPPED | SKIPPED | +---------------------+--------------------+------------------+-------------------+-------------------+-------------------------+----------------------+ | Windows Server 2022 | SKIPPED | SKIPPED | SKIPPED | PASS | PASS | PASS | +---------------------+--------------------+------------------+-------------------+-------------------+-------------------------+----------------------+ ==== 20 line log output for openSUSE Leap 15 (dpdk_compile_ovs): ==== --- Failed to get log output --- ==== End log output ==== CentOS Stream 9 Kernel: Depends on container host Compiler: gcc 11.5.0 20240719 (Red Hat 11.5.0-2) Fedora 40 Kernel: Depends on container host Compiler: gcc 14.2.1 20240912 (Red Hat 14.2.1-3) Fedora 40 (Clang) Kernel: Depends on container host Compiler: clang 18.1.8 (Fedora 18.1.8-1.fc40) openSUSE Leap 15 Kernel: Depends on container host Compiler: gcc (SUSE Linux) 7.5.0 RHEL8 Kernel: Depends on container host Compiler: gcc 8.5.0 20210514 (Red Hat 8.5.0-22) RHEL9 Kernel: Depends on container host Compiler: gcc 11.5.0 20240719 (Red Hat 11.5.0-2) Ubuntu 20.04 Kernel: Depends on container host Compiler: gcc (Ubuntu 9.4.0-1ubuntu1~20.04.2) 9.4.0 Ubuntu 24.04 Kernel: Depends on container host Compiler: gcc (Ubuntu 13.3.0-6ubuntu2~24.04) 13.3.0 Alpine Kernel: Depends on container host Compiler: gcc (Alpine 14.2.0) 14.2.0 Arch Linux Kernel: Depends on container host Compiler: gcc 14.2.1 20240910 FreeBSD 14.2 Kernel: 14.2-RELEASE Compiler: clang 18.1.6 Debian 12 Kernel: Depends on container host Compiler: gcc (Debian 12.2.0-14) 12.2.0 Fedora 39 Kernel: Depends on container host Compiler: gcc 13.3.1 20240522 (Red Hat 13.3.1-1) Ubuntu 22.04 Kernel: Depends on container host Compiler: gcc (Ubuntu 11.4.0-1ubuntu1~22.04) 11.4.0 FreeBSD 13.4 Kernel: 13.4-RELEASE-p1 Compiler: clang 18.1.6 Windows Server 2022 Kernel: 10.0.20348.2031 Compiler: clang 15.0.7, gcc 14.1.0 (MinGW), and MSVC VS 19.39.33521 To view detailed results, visit: https://lab.dpdk.org/results/dashboard/tarballs/31956/ UNH-IOL DPDK Community Lab To manage your email subscriptions, visit: https://lab.dpdk.org/results/dashboard/preferences/subscriptions/