From mboxrd@z Thu Jan 1 00:00:00 1970 Return-Path: Received: from mails.dpdk.org (mails.dpdk.org [217.70.189.124]) by inbox.dpdk.org (Postfix) with ESMTP id 29546461BE for ; Fri, 7 Feb 2025 19:25:16 +0100 (CET) Received: from mails.dpdk.org (localhost [127.0.0.1]) by mails.dpdk.org (Postfix) with ESMTP id 25FE842EE8; Fri, 7 Feb 2025 19:25:16 +0100 (CET) Received: from mail-pl1-f228.google.com (mail-pl1-f228.google.com [209.85.214.228]) by mails.dpdk.org (Postfix) with ESMTP id C86F342EE9 for ; Fri, 7 Feb 2025 19:25:13 +0100 (CET) Received: by mail-pl1-f228.google.com with SMTP id d9443c01a7336-21f5268cf50so15854285ad.1 for ; Fri, 07 Feb 2025 10:25:13 -0800 (PST) DKIM-Signature: v=1; a=rsa-sha256; c=relaxed/relaxed; d=iol.unh.edu; s=unh-iol; t=1738952713; x=1739557513; darn=dpdk.org; h=cc:to:from:subject:message-id:date:from:to:cc:subject:date :message-id:reply-to; bh=KQnNUA9kBvTtuxy0rOKAFrArfC46AJ2os8Pho20jm/0=; b=QT+jrPqRHCZhie8XIOhJcoIP1t5b5wyzBainMYvHp0fNe3iwLbWG3TJrVnEOjrqM1K VHOikzo3f0GrmcR7etZ41eG9XBhuXRsrTYRLKVIgeX2srpy08NK4FfLlepG+3rxJ9I3X lqm4gxJfXJKmo8A3JIz1+iIumUeWch/qlkC54= X-Google-DKIM-Signature: v=1; a=rsa-sha256; c=relaxed/relaxed; d=1e100.net; s=20230601; t=1738952713; x=1739557513; h=cc:to:from:subject:message-id:date:x-gm-message-state:from:to:cc :subject:date:message-id:reply-to; bh=KQnNUA9kBvTtuxy0rOKAFrArfC46AJ2os8Pho20jm/0=; b=IJNuPji1GKgRV6/4GpHdBySUf2OCbrXxv/tpBvAsBCqSXIvvPht5X8VuqRt2M93PFd XvpQejqLbvz2njWrgIoNFA8KOrWy53rraj/nncRqwtox7HqebxGMxcbZaV+3rPlNOJq7 wZ5kCiQ1jqwlWt/36QTlSFjR7Uo3mX8d5jKthZ6+q4FWr6cMcnDrAREm4AjlJCJ7hpWv H1AfhLDN3P4i1Pem36KKg0UbRf6yWOvHfNAtxutmzm+4urlX4CRXnWPKoL7XPFN+BpRW q5PX7MlWVLvZqnB//5U/JrNJ3fcEPVkDR9DkesR6JrmRZUNc/AhdUckfNmBLmWj/U12+ kryQ== X-Gm-Message-State: AOJu0Yzz4Tc8buTAdDV5MDg4q7a/5j82J7W72fqoMthB/tUWPhK/17GG GYcjFyR0r6dQmtqN99xIR4xt+mNZ4iUfc+ZvJxT9MMpUVDS1aAnWmYywBldu+iV4EeBZOACCaos ah286M9Tl3yosqKZvBsDiuxia+98rLLqw X-Gm-Gg: ASbGncsajy/LNmGfPm8raWhnypFH4BJWRggvf6EFFd7RUz4XHc/GQwjH7pcUsujXVgC 78Hp9Ufh1sB04C7iaZeacpHwrFM87LGvOVSwcJQh/lkuQ5+EWzX5aLZOQfATXOsnx92jbr3eAMF KPe5GfYqJbNe2TSew5OTzzxbVjqMPlbu5TcdvbqLlT4rzGA2MFA7VO+zMWy7glagDO5slqaxlPR 7lMsW/2XxwwU6FtQkvNVBtAnQzHsM2K3MQ9236PIMm4lT8eVcpw/PnV2s32Q/yhrXBN9dLp2tY9 87lltMu0DF9MFsdoALt12R7yoZJIWQ== X-Google-Smtp-Source: AGHT+IHH6/xDDzch694EXT9/d5OB3Cojzewxf3jKxlHw9F66NOCKYlxHsc7FwLX1JewAp+MW/Ne61AXKlWrm X-Received: by 2002:a17:903:947:b0:216:282d:c67a with SMTP id d9443c01a7336-21f4e74670bmr60628615ad.39.1738952713086; Fri, 07 Feb 2025 10:25:13 -0800 (PST) Received: from postal.iol.unh.edu (postal.iol.unh.edu. [132.177.123.84]) by smtp-relay.gmail.com with ESMTPS id 98e67ed59e1d1-2fa0b9f637bsm30867a91.1.2025.02.07.10.25.12 (version=TLS1_2 cipher=ECDHE-ECDSA-AES128-GCM-SHA256 bits=128/128); Fri, 07 Feb 2025 10:25:13 -0800 (PST) X-Relaying-Domain: iol.unh.edu Date: Fri, 07 Feb 2025 10:25:13 -0800 (PST) Message-ID: <67a65009.170a0220.3147b9.1306SMTPIN_ADDED_MISSING@mx.google.com> Received: from [172.21.0.9] (unknown [172.18.0.240]) by postal.iol.unh.edu (Postfix) with ESMTP id 39ECD6052472; Fri, 7 Feb 2025 13:24:42 -0500 (EST) Subject: |WARNING| [GIT MASTER] 39bcde2d05afc0f904f906182be1e659b60ceeb7 From: dpdklab@iol.unh.edu To: Test Report Cc: dpdk-test-reports@iol.unh.edu, Xueming Li , Christian Ehrhardt , Kevin Traynor , Luca Boccassi Content-Type: text/plain X-BeenThere: test-report@dpdk.org X-Mailman-Version: 2.1.29 Precedence: list List-Id: automatic DPDK test reports List-Unsubscribe: , List-Archive: List-Post: List-Help: List-Subscribe: , Errors-To: test-report-bounces@dpdk.org _Testing issues_ Branch: 23.11-staging 39bcde2d05afc0f904f906182be1e659b60ceeb7 --> testing issues Test environment and result as below: +---------------------+--------------------+------------------+-------------------+-------------------------+----------------------+ | Environment | dpdk_meson_compile | dpdk_compile_ovs | dpdk_compile_spdk | dpdk_llvm_clang_compile | dpdk_mingw64_compile | +=====================+====================+==================+===================+=========================+======================+ | Fedora 39 (Clang) | PASS | PASS | PASS | SKIPPED | SKIPPED | +---------------------+--------------------+------------------+-------------------+-------------------------+----------------------+ | Fedora 39 | PASS | PASS | PASS | SKIPPED | SKIPPED | +---------------------+--------------------+------------------+-------------------+-------------------------+----------------------+ | Fedora 40 | PASS | PASS | PASS | SKIPPED | SKIPPED | +---------------------+--------------------+------------------+-------------------+-------------------------+----------------------+ | openSUSE Leap 15 | PASS | WARN | SKIPPED | SKIPPED | SKIPPED | +---------------------+--------------------+------------------+-------------------+-------------------------+----------------------+ | Ubuntu 20.04 | PASS | SKIPPED | SKIPPED | SKIPPED | SKIPPED | +---------------------+--------------------+------------------+-------------------+-------------------------+----------------------+ | Ubuntu 22.04 | PASS | PASS | PASS | SKIPPED | SKIPPED | +---------------------+--------------------+------------------+-------------------+-------------------------+----------------------+ | Ubuntu 24.04 | PASS | PASS | PASS | SKIPPED | SKIPPED | +---------------------+--------------------+------------------+-------------------+-------------------------+----------------------+ | Alpine | PASS | PASS | SKIPPED | SKIPPED | SKIPPED | +---------------------+--------------------+------------------+-------------------+-------------------------+----------------------+ | FreeBSD 13.4 | PASS | SKIPPED | SKIPPED | SKIPPED | SKIPPED | +---------------------+--------------------+------------------+-------------------+-------------------------+----------------------+ | Fedora 40 (Clang) | PASS | PASS | PASS | SKIPPED | SKIPPED | +---------------------+--------------------+------------------+-------------------+-------------------------+----------------------+ | RHEL8 | PASS | PASS | SKIPPED | SKIPPED | SKIPPED | +---------------------+--------------------+------------------+-------------------+-------------------------+----------------------+ | CentOS Stream 9 | PASS | PASS | PASS | SKIPPED | SKIPPED | +---------------------+--------------------+------------------+-------------------+-------------------------+----------------------+ | RHEL9 | PASS | PASS | SKIPPED | SKIPPED | SKIPPED | +---------------------+--------------------+------------------+-------------------+-------------------------+----------------------+ | Debian 12 | PASS | PASS | PASS | SKIPPED | SKIPPED | +---------------------+--------------------+------------------+-------------------+-------------------------+----------------------+ | FreeBSD 14.2 | PASS | SKIPPED | SKIPPED | SKIPPED | SKIPPED | +---------------------+--------------------+------------------+-------------------+-------------------------+----------------------+ | Windows Server 2022 | SKIPPED | SKIPPED | SKIPPED | PASS | PASS | +---------------------+--------------------+------------------+-------------------+-------------------------+----------------------+ ==== 20 line log output for openSUSE Leap 15 (dpdk_compile_ovs): ==== --- Failed to get log output --- ==== End log output ==== Fedora 39 (Clang) Kernel: Depends on container host Compiler: clang 17.0.6 (Fedora 17.0.6-2.fc39) Fedora 39 Kernel: Depends on container host Compiler: gcc 13.3.1 20240522 (Red Hat 13.3.1-1) Fedora 40 Kernel: Depends on container host Compiler: gcc 14.2.1 20240912 (Red Hat 14.2.1-3) openSUSE Leap 15 Kernel: Depends on container host Compiler: gcc (SUSE Linux) 7.5.0 Ubuntu 20.04 Kernel: Depends on container host Compiler: gcc (Ubuntu 9.4.0-1ubuntu1~20.04.2) 9.4.0 Ubuntu 22.04 Kernel: Depends on container host Compiler: gcc (Ubuntu 11.4.0-1ubuntu1~22.04) 11.4.0 Ubuntu 24.04 Kernel: Depends on container host Compiler: gcc (Ubuntu 13.3.0-6ubuntu2~24.04) 13.3.0 Alpine Kernel: Depends on container host Compiler: gcc (Alpine 14.2.0) 14.2.0 FreeBSD 13.4 Kernel: 13.4-RELEASE-p1 Compiler: clang 18.1.6 Fedora 40 (Clang) Kernel: Depends on container host Compiler: clang 18.1.8 (Fedora 18.1.8-1.fc40) RHEL8 Kernel: Depends on container host Compiler: gcc 8.5.0 20210514 (Red Hat 8.5.0-22) CentOS Stream 9 Kernel: Depends on container host Compiler: gcc 11.5.0 20240719 (Red Hat 11.5.0-2) RHEL9 Kernel: Depends on container host Compiler: gcc 11.5.0 20240719 (Red Hat 11.5.0-2) Debian 12 Kernel: Depends on container host Compiler: gcc (Debian 12.2.0-14) 12.2.0 FreeBSD 14.2 Kernel: 14.2-RELEASE Compiler: clang 18.1.6 Windows Server 2022 Kernel: 10.0.20348.2031 Compiler: clang 15.0.7, gcc 14.1.0 (MinGW), and MSVC VS 19.39.33521 To view detailed results, visit: https://lab.dpdk.org/results/dashboard/tarballs/31961/ UNH-IOL DPDK Community Lab To manage your email subscriptions, visit: https://lab.dpdk.org/results/dashboard/preferences/subscriptions/